BEGIN:VCALENDAR
VERSION:2.0
PRODID:-//Swetechockey - ECPv6.15.20//NONSGML v1.0//EN
CALSCALE:GREGORIAN
METHOD:PUBLISH
X-ORIGINAL-URL:https://swetechockey.com/startsida
X-WR-CALDESC:Händelser för Swetechockey
REFRESH-INTERVAL;VALUE=DURATION:PT1H
X-Robots-Tag:noindex
X-PUBLISHED-TTL:PT1H
BEGIN:VTIMEZONE
TZID:Europe/Stockholm
BEGIN:DAYLIGHT
TZOFFSETFROM:+0100
TZOFFSETTO:+0200
TZNAME:CEST
DTSTART:20210328T010000
END:DAYLIGHT
BEGIN:STANDARD
TZOFFSETFROM:+0200
TZOFFSETTO:+0100
TZNAME:CET
DTSTART:20211031T010000
END:STANDARD
BEGIN:DAYLIGHT
TZOFFSETFROM:+0100
TZOFFSETTO:+0200
TZNAME:CEST
DTSTART:20220327T010000
END:DAYLIGHT
BEGIN:STANDARD
TZOFFSETFROM:+0200
TZOFFSETTO:+0100
TZNAME:CET
DTSTART:20221030T010000
END:STANDARD
BEGIN:DAYLIGHT
TZOFFSETFROM:+0100
TZOFFSETTO:+0200
TZNAME:CEST
DTSTART:20230326T010000
END:DAYLIGHT
BEGIN:STANDARD
TZOFFSETFROM:+0200
TZOFFSETTO:+0100
TZNAME:CET
DTSTART:20231029T010000
END:STANDARD
END:VTIMEZONE
BEGIN:VEVENT
DTSTART;TZID=Europe/Stockholm:20220709T130000
DTEND;TZID=Europe/Stockholm:20220716T150000
DTSTAMP:20260423T211459
CREATED:20210725T190525Z
LAST-MODIFIED:20220720T105349Z
UID:10000985-1657371600-1657983600@swetechockey.com
SUMMARY:CCM SKILLS CHALLENGE
DESCRIPTION:[vc_row][vc_column width=”2/3″][vc_tta_tabs style=”outline” shape=”round” spacing=”10″ gap=”20″ active_section=”1″ no_fill_content_area=”true”][vc_tta_section title=”Fakta” tab_id=”1610186748077-dc34c960-76c7″][vc_column_text]\nCCM Skills Challenge\, 9 – 16 juli 2022 i Tyringe.\n\n\n6 dagars camp \, 1 vilodag med SKATE & SKILLS.\n3 ispass\, 2 fyspass\, 1 Teoripass om dagen\, se schema.\n2 grupper med 24 spelare\, Grupp 1: 05-07\, Grupp 2: 08-09\nCCM KIT (Påse\, tröja\, shorts\, strumpor)\, Vattenflaska.\nDagläger\, 07.30-18.00\n\nPris:  6500 SEK för 7 dagars hockeycamp.\nBoende ingår ej. \n\n[/vc_column_text][/vc_tta_section][vc_tta_section title=”Upplägg” tab_id=”1610186748120-0d25c2e3-697b”][vc_column_text]DAGLÄGER\, så kan en dag se ut. \n07.30 samling\n08.00 Ispass 1\n09.45 Fysträning\n11.15 LUNCH\n12.30 Ispass 2\n14.15 Teori\n15.00 Fysträning\n16.00 Middag\n17.00 Ispass 3[/vc_column_text][/vc_tta_section][vc_tta_section title=”Ansvarig” tab_id=”1610186748168-0af2ee06-b9d8″][vc_column_text]Dag Wenström.\nGeneral Manager Swetec Hockey \nPhone: +46705235564 \nKontakt: dagge@swetechockey.com \n[/vc_column_text][/vc_tta_section][/vc_tta_tabs][/vc_column][vc_column width=”1/3″][vc_single_image image=”16226″][/vc_column][/vc_row]
URL:https://swetechockey.com/startsida/event/ccm-skills-challenge/
LOCATION:Tyrshovs Ishall\, Tyringe\, Paradisgatan 32\, Tyringe\, 28232\, Sverige
CATEGORIES:Camper,Summer Academy
ORGANIZER;CN="Dag Wenstr%C3%B6m":MAILTO:info@swetechockey.com
GEO:56.1543512;13.6042833
X-APPLE-STRUCTURED-LOCATION;VALUE=URI;X-ADDRESS=Tyrshovs Ishall Tyringe Paradisgatan 32 Tyringe 28232 Sverige;X-APPLE-RADIUS=500;X-TITLE=Paradisgatan 32:geo:13.6042833,56.1543512
END:VEVENT
BEGIN:VEVENT
DTSTART;TZID=Europe/Stockholm:20220710T130000
DTEND;TZID=Europe/Stockholm:20220716T200000
DTSTAMP:20260423T211459
CREATED:20210721T221238Z
LAST-MODIFIED:20220704T193625Z
UID:10000984-1657458000-1658001600@swetechockey.com
SUMMARY:CCM ELITE CHALLENGE
DESCRIPTION:[vc_row][vc_column width=”2/3″][vc_tta_tabs style=”outline” shape=”round” spacing=”10″ gap=”20″ active_section=”1″ no_fill_content_area=”true”][vc_tta_section title=”Fakta” tab_id=”1626903118654-2c09b288-06d4″][vc_column_text]CCM Elite Challenge\, 10 – 16 juli 2022 i Tyringe.vet för boka en plats: Född 2006 och äldre eller spelat U16 Elit (21/22)\n \n\n4 eller 7 dagars PRE CAMP.\n3 ispass\, 2 fyspass 1 teoripass per/dag (ej sön/lör).\nCCM KIT (Påse\, tröja\, shorts\, strumpor)\, CCM Vattenflaska.\nGrupp 1: Senior/Junior 12 spelare. Grupp 2: Junior 12 spelare.\nDagläger\, 08.00-20.00\n\nPriser:\n7 dagars camp  för 7495 SEK\n4 dagars camp  för 4495 SEK  \n\nBoende ingår ej \n\n[/vc_column_text][/vc_tta_section][vc_tta_section title=”Upplägg” tab_id=”1626903118691-4dd8bde3-70ae”][vc_column_text]EN VANLIG DAG PÅ CAMPEN \n07.30 samling\n08.00 Teori\n09.00 Fysträning\n11.00 Ispass 1\n13.00 Lunch\n14.00 Fysträning\n15.30 Ispass 2\n17.45 Middag\n19.30 Ispass 3[/vc_column_text][/vc_tta_section][vc_tta_section title=”Ansvarig” tab_id=”1626903118734-1b9c05f9-ca4e”][vc_column_text]Dag Wenström.\nGeneral Manager Swetec Hockey \nPhone: +46705235564 \nKontakt: dagge@swetechockey.com[/vc_column_text][/vc_tta_section][vc_tta_section title=”Bokningsregler” tab_id=”1626903118773-01bb66e1-4b07″]\n	\n		\n			Bokningen är bindande och skall betalas direkt via PAYPAL. \nFör Privat (1 – 2 tim) gäller:\n\nVid avbokning (3) dygn innan campstart behålls hela avgiften.\n\nFör 1 – 2 dagarscamper gäller:\n\nVid avbokning 5 dygn innan campstart behålls hela avgiften.\n\nFör Sommar Challenge gäller:\n\nÅterbud fram till 30 april förbehåller vi oss som arrangör rätten att behålla 900 SEK för admin.kostnader\nAvbokning från den 1 april till 30 juni återbetalas halva avgiften mot uppvisning av läkarintyg som styrker oförmåga att deltaga.\n- Inget läkarintyg\, ingen återbetalas av inbetald avgift.\nEfter 1 juli behålls hela avgiften\, även vid evt. skada/sjukdom under campen\, ingen återbetalning.\n\n\n		\n	\n[/vc_tta_section][/vc_tta_tabs][/vc_column][vc_column width=”1/3″][vc_single_image image=”16226″][/vc_column][/vc_row]
URL:https://swetechockey.com/startsida/event/elite-pre-ccm-challenge/
LOCATION:Tyrshovs Ishall\, Tyringe\, Paradisgatan 32\, Tyringe\, 28232\, Sverige
CATEGORIES:Camper,Summer Academy
ORGANIZER;CN="Dag Wenstr%C3%B6m":MAILTO:info@swetechockey.com
GEO:56.1543512;13.6042833
X-APPLE-STRUCTURED-LOCATION;VALUE=URI;X-ADDRESS=Tyrshovs Ishall Tyringe Paradisgatan 32 Tyringe 28232 Sverige;X-APPLE-RADIUS=500;X-TITLE=Paradisgatan 32:geo:13.6042833,56.1543512
END:VEVENT
END:VCALENDAR