BEGIN:VCALENDAR
VERSION:2.0
PRODID:-//Swetechockey - ECPv6.15.20//NONSGML v1.0//EN
CALSCALE:GREGORIAN
METHOD:PUBLISH
X-WR-CALNAME:Swetechockey
X-ORIGINAL-URL:https://swetechockey.com/startsida
X-WR-CALDESC:Händelser för Swetechockey
REFRESH-INTERVAL;VALUE=DURATION:PT1H
X-Robots-Tag:noindex
X-PUBLISHED-TTL:PT1H
BEGIN:VTIMEZONE
TZID:Europe/Stockholm
BEGIN:DAYLIGHT
TZOFFSETFROM:+0100
TZOFFSETTO:+0200
TZNAME:CEST
DTSTART:20240331T010000
END:DAYLIGHT
BEGIN:STANDARD
TZOFFSETFROM:+0200
TZOFFSETTO:+0100
TZNAME:CET
DTSTART:20241027T010000
END:STANDARD
BEGIN:DAYLIGHT
TZOFFSETFROM:+0100
TZOFFSETTO:+0200
TZNAME:CEST
DTSTART:20250330T010000
END:DAYLIGHT
BEGIN:STANDARD
TZOFFSETFROM:+0200
TZOFFSETTO:+0100
TZNAME:CET
DTSTART:20251026T010000
END:STANDARD
BEGIN:DAYLIGHT
TZOFFSETFROM:+0100
TZOFFSETTO:+0200
TZNAME:CEST
DTSTART:20260329T010000
END:DAYLIGHT
BEGIN:STANDARD
TZOFFSETFROM:+0200
TZOFFSETTO:+0100
TZNAME:CET
DTSTART:20261025T010000
END:STANDARD
END:VTIMEZONE
BEGIN:VEVENT
DTSTART;TZID=Europe/Stockholm:20250720T090000
DTEND;TZID=Europe/Stockholm:20250720T133000
DTSTAMP:20260423T003200
CREATED:20250520T074920Z
LAST-MODIFIED:20250527T105112Z
UID:10001106-1753002000-1753018200@swetechockey.com
SUMMARY:PRECAMP SKILLS B/FW
DESCRIPTION:[vc_row column_spacing=”60″][vc_column width=”2/3″][vc_column_text css=”.vc_custom_1747728837917{margin-bottom: 60px !important;}”]\nPRECAMP SKILLS i TYRINGE\n1 dags camp\, för äldre spelare som ”gnugga” SKILLS i olika kombinationer innan säsongstart med Sveriges mest erfarne instruktör med tre ispass 75 min per/pass. Vi har fokus på teknikutveckling som BACK – FORWARDS och transfer to hockey. \nEn viktig del i Swetec Hockey program är –  skate fundament\, kropps/skär kontroll\, motoriska skills med koordination i vår unika inlärning\, du skall även bli medveten om VARFÖR du gör det\, HUR det skall göras och NÄR det skall göras. Vi vänder oss till alla hög motiverade spelare som vill utveckla sig för framtiden prestationer. \n\nINNAN DU BOKAR\n– Swetec kräver full fokus på prestera.\n– Vi har disiplin\, Ordning & reda samt raka kommunikation.\n– Tiderna skall hållas\, egen ansvar.\n– Campen är för erfarna spelare. . \n\n\nVi syns på campen. \n\n[/vc_column_text][/vc_column][vc_column width=”1/3″][vc_empty_space height=”52px”][vc_single_image image=”23533″ img_size=”medium” css=””][/vc_column][/vc_row][vc_row][vc_column][vc_tta_tabs style=”outline” shape=”round” spacing=”10″ gap=”20″ active_section=”1″ no_fill_content_area=”true”][vc_tta_section title=”Fakta” tab_id=”1610186748077-dc34c960-76c7″][vc_column_text css=””]Plats: Tyrshov Ishall/Tyringe\nDatum: 20 juli 2025\nMat: INGÅR EJ\, Ta med egen mat + mellis\nBoende: ingår inte\nPlatser:  12 platser (individuell utb.)\nSpelare: födda 2010 och äldre\nPris: 1399 kr (ingår analys\, ccm kit)[/vc_column_text][/vc_tta_section][vc_tta_section title=”Upplägg” tab_id=”1610186748120-0d25c2e3-697b”][vc_column_text]SCHEMA i TYRINGE \n08.00 samling omkl. 2\n08.05 Genomgång av campen\n09.00 – 10.15 Ispass 1\n10.15 – 10.30 Spolning/Vila\n10.30 – 11.45 Ispass 2\n11.45 – 12.00 Spolning/Vila\n12.00 – 13.15 Ispass 3\n13.15 Avslutning på isen. \nTack för idag![/vc_column_text][/vc_tta_section][vc_tta_section title=”Mattips” tab_id=”1659433409399-3d7b59cf-1ae6″][vc_column_text]Mat ingår ej i campen. \nTips är att ta med enkel mat så blir lättare för kroppen att ta upp maten. \n\nDrickyogurt\nFrukt\nLättare sallad\nDryck med magnesium\n\n[/vc_column_text][/vc_tta_section][vc_tta_section title=”Ledare” tab_id=”1610186748168-0af2ee06-b9d8″][vc_column_text css=””]Dag Wenström.\nÖver 24 år erfarenhet så vet jag vad som krävs för att bli en riktigt duktig hockeyspelare. \nMed min evidens baserad kunskaper inom anatomi\, rörelselära och fysisk träning så vet jag hur övningarna påverkar dig till nästa nivå. \nKontakt: dagge@swetechockey.com[/vc_column_text][/vc_tta_section][vc_tta_section title=”Beställ i Shopen!” tab_id=”1610186748271-e58bb6a2-0c05″][vc_column_text]\n	\n\n\n			Välj alternativ	\n		Den här produkten har flera varianter. De olika alternativen kan väljas på produktsidan	\n\n	BE THE BEST\n	229.00kr\n\n\n	\n	REA\n			Välj alternativ	\n		Den här produkten har flera varianter. De olika alternativen kan väljas på produktsidan	\n\n	CCM Dryland Kit NAVY\n	199.00kr\n\n\n	\n	REA\n			Välj alternativ	\n		Den här produkten har flera varianter. De olika alternativen kan väljas på produktsidan	\n\n	CCM Dryland Kit RÖD\n	199.00kr\n\n\n	\n	REA\n			Välj alternativ	\n		Den här produkten har flera varianter. De olika alternativen kan väljas på produktsidan	\n\n	CCM Dryland Kit SVART\n	199.00kr\n\n\n			Välj alternativ	\n		Den här produkten har flera varianter. De olika alternativen kan väljas på produktsidan	\n\n	CCM T-SHIRT (R) SKATE & SKILLS\n	229.00kr\n\n\n			Välj alternativ	\n		Den här produkten har flera varianter. De olika alternativen kan väljas på produktsidan	\n\n	CCM T-shirt (S) Skate & Skills\n	229.00kr\n\n\n			Välj alternativ	\n		Den här produkten har flera varianter. De olika alternativen kan väljas på produktsidan	\n\n	CCM T-shirt Summarcamp\n	249.00kr\n\n\n			Välj alternativ	\n		Den här produkten har flera varianter. De olika alternativen kan väljas på produktsidan	\n\n	EAT\, SLEEP HOCKEY\n	229.00kr\n\n\n			Välj alternativ	\n		Den här produkten har flera varianter. De olika alternativen kan väljas på produktsidan	\n\n	EAT\, SLEEP HOCKEY – HOODIE\n	349.00kr\n\n\n	\n	REA\n			Välj alternativ	\n		Den här produkten har flera varianter. De olika alternativen kan väljas på produktsidan	\n\n	HOCKEYBOXEN\n	459.00kr Det ursprungliga priset var: 459.00kr.299.00krDet nuvarande priset är: 299.00kr.\n\n\n			Välj alternativ	\n		Den här produkten har flera varianter. De olika alternativen kan väljas på produktsidan	\n\n	Keps CCM Team Flexfit\n	229.00kr\n\n\n			Lägg till i varukorg	\n			\n\n	Keps CCM Team Snapback\n	229.00kr\n\n\n			Lägg till i varukorg	\n			\n\n	Mössa CCM Team Coffed\n	189.00kr\n\n\n			Lägg till i varukorg	\n			\n\n	Mössa CCM Team Pom Knit\n	189.00kr\n\n\n			Välj alternativ	\n		Den här produkten har flera varianter. De olika alternativen kan väljas på produktsidan	\n\n	SUMMERCAMP 25 – HOODIE\n	329.00kr\n\n\n			Lägg till i varukorg	\n			\n\n	Swetec Hockeyblock\n	129.00kr\n\n\n			Lägg till i varukorg	\n			\n\n	SWETEC HOCKEYBOXEN\n	495.00kr\n\n\n			Välj alternativ	\n		Den här produkten har flera varianter. De olika alternativen kan väljas på produktsidan	\n\n	T-SHIRT Summer Challenge\n	129.00kr\n\n\n			Välj alternativ	\n		Den här produkten har flera varianter. De olika alternativen kan väljas på produktsidan	\n\n	T-SHIRT Summercamp\n	129.00kr\n\n\n[/vc_column_text][/vc_tta_section][vc_tta_section title=”Bokningsregler” tab_id=”1610186748216-26c667d8-2c9c”]\n	\n		\n			Bokningen är bindande och skall betalas direkt via PAYPAL. \nFör Privat (1 – 2 tim) gäller:\n\nVid avbokning (3) dygn innan campstart behålls hela avgiften.\n\nFör 1 – 2 dagarscamper gäller:\n\nVid avbokning 5 dygn innan campstart behålls hela avgiften.\n\nFör Sommar Challenge gäller:\n\nÅterbud fram till 30 april förbehåller vi oss som arrangör rätten att behålla 900 SEK för admin.kostnader\nAvbokning från den 1 april till 30 juni återbetalas halva avgiften mot uppvisning av läkarintyg som styrker oförmåga att deltaga.\n- Inget läkarintyg\, ingen återbetalas av inbetald avgift.\nEfter 1 juli behålls hela avgiften\, även vid evt. skada/sjukdom under campen\, ingen återbetalning.\n\n\n		\n	\n[/vc_tta_section][/vc_tta_tabs][/vc_column][/vc_row][vc_row][vc_column width=”1/2″][vc_column_text]Huvudinstruktör:\nDag Wenström –  IshockeyPT.\nEn av Europas mest erfarna instruktör med erfarenhet från jobb i Tyskland\, Schweiz\, Canada\, Norge\, Danmark och Polen samt varit delaktig i utvecklingen av spelare som;  Simon Edvinsson/NHL\,  John Dahlström/SHL\, Linus Sjödin/SHL  mfl.[/vc_column_text][/vc_column][vc_column width=”1/2″][vc_single_image image=”21314″ img_size=”300×200″][/vc_column][/vc_row]
URL:https://swetechockey.com/startsida/event/summer-skills-2/
LOCATION:Tyrshovs Ishall\, Tyringe\, Paradisgatan 32\, Tyringe\, 28232\, Sverige
CATEGORIES:Camper,MT Träning,PT Ishockey
ORGANIZER;CN="Dag Wenstr%C3%B6m":MAILTO:info@swetechockey.com
GEO:56.1543512;13.6042833
X-APPLE-STRUCTURED-LOCATION;VALUE=URI;X-ADDRESS=Tyrshovs Ishall Tyringe Paradisgatan 32 Tyringe 28232 Sverige;X-APPLE-RADIUS=500;X-TITLE=Paradisgatan 32:geo:13.6042833,56.1543512
END:VEVENT
BEGIN:VEVENT
DTSTART;TZID=Europe/Stockholm:20250727T093000
DTEND;TZID=Europe/Stockholm:20250727T143000
DTSTAMP:20260423T003200
CREATED:20250218T132715Z
LAST-MODIFIED:20250218T132715Z
UID:10001093-1753608600-1753626600@swetechockey.com
SUMMARY:PRESEASON 4
DESCRIPTION:FÖRSÄSONG MED XFIT TRAINING 2025\nAtt skapa\, förbereda samt bygga upp en stabil kropp för framtiden prestationer\, utveckling samt belastningar är ett måste om du skall skapa möjligheten för dina drömmar.  \nXFIT PRESEASON PREFORMAANCE \nMed 12 år erfarenheter med stjärnor som Simon Edvinsson\, Linus Sjödin m.fl. så skapar XFIT en möjlighet för DIN framtid.  \nUpplägg med 1 dag i månaden\, fystester\, teori om träning\, kost och träningslära samt fysträning på vår anläggning. Du får programmering efter dina fystester RESULTAT och online program emellan träffarna via vår app XPS. Där kan vi följa din träning och analyser på utvecklingen samt alltid har kontakt med varandra.  \nDetta tillfälle 27 juli är vi på SWETEC i Öllsjö och gör fystester samt tränings genomgång.  \n\nTRÄNINGSUPPLÄGG innebär:\n\n1 dagar i månaden – juni\, juli\, augusti)\nTeori i träningslära\, kost och vila.\nFystester för personlig programmering via vår app.\nOnline-träning\, köps via XFIT ONLINE\, 395 kr/mån i 12 månader.  \n\n\n\n \n\nSWETEC Akademi ELEVER ingår preseason\, ni bokar in varje tillfälle.   \n  \n\n		\n	\n\n	\n		\n		\n			\n		\n	\n\n	\n		\n			Läs mer på Dagges egen hemsida www.xfittraining.se \n\n		\n	\n\n	\n		\n		\n			\n		\n	\nKÖP XFIT ONLINE! FaktaAkademi elevUppläggLedareBokningsreglerBeställ på webshopFakta\n	\n		\n			Grupp: 12 personer (minst antalet 4 st)\nÅlder: Födda 06-12.\nTid: 09:30 – 14.30 (ca 5 tim varje tillfälle)\nPlats: Swetec Boxen\, Estridsväg 7B\, 29165 Kristianstad\nDatum: Camp 4 – 27/7\, Camp 5 –  17/8\nMat: ingår ej\, ta med egen lunch/mellis. \nPRIS: 1699 SEK \nIngår: Hockey Fystester 5-7 st\, Programmering till appen som man köper för 395:- mån samt support via chatlogg.  \n\n		\n	\nAkademi elev\n	\n		\n			PRESEASON 1-5 \nDenna delen ingår i eran verksamhet.\n5 Camperna på SWETEC Anläggning mellan 09:30 – 14:30 + en istest i Tyringe (Tid i maj\, kommer snart) \n\n		\n	\nUpplägg\n	\n		\n			XFIT 4/Söndagar i KRISTIANSTAD.   \n\n27 juli\, 09.30-14.30\n17 aug\, 09.30-14.30\n\nSwetec Boxen/Öllsjö\n09.15-09:30 Samling/Genomgång/Uppvärmning\n09.30-10:00 Genomgång av perioden/dagen\n10:00 – 10:30 Uppvärmning/Rörelse kontroll\n10:30 – 10:45 Rast\n10:45 – 12.30 XFIT FYSTESTER\n12.30 – 13.00 Rast/Egen mellanmål\n13.00 – 13.30 Teori/Genomgång\n13.30 – 13.45 Rast\n13.45 – 14:30 Fysträning genomgång\nCa 14:30 Avslutning för dagen \nOBS! Det kommer tider för varje gång så kan vara ändringar.  \n\n		\n	\nLedare\n	\n		\n			Dag Wenström.\nÖver 20 år erfarenhet så vet jag vad som krävs för att bli en riktigt duktig hockeyspelare. \nMed min evidens baserad kunskaper inom anatomi\, rörelselära och fysisk träning så vet jag hur övningarna påverkar dig till nästa nivå. \nKontakt: dagge@swetechockey.com \n\n		\n	\nBokningsregler\n	\n		\n			Bokningen är bindande och skall betalas direkt via PAYPAL. \nFör Privat (1 – 2 tim) gäller:\n\nVid avbokning (3) dygn innan campstart behålls hela avgiften.\n\nFör 1 – 2 dagarscamper gäller:\n\nVid avbokning 5 dygn innan campstart behålls hela avgiften.\n\nFör Sommar Challenge gäller:\n\nÅterbud fram till 30 april förbehåller vi oss som arrangör rätten att behålla 900 SEK för admin.kostnader\nAvbokning från den 1 april till 30 juni återbetalas halva avgiften mot uppvisning av läkarintyg som styrker oförmåga att deltaga.\n- Inget läkarintyg\, ingen återbetalas av inbetald avgift.\nEfter 1 juli behålls hela avgiften\, även vid evt. skada/sjukdom under campen\, ingen återbetalning.\n\n\n		\n	\nBeställ på webshop\n	\n		\n			\n	\n\n\n			Välj alternativ	\n		Den här produkten har flera varianter. De olika alternativen kan väljas på produktsidan	\n\n	BE THE BEST\n	229.00kr\n\n\n	\n	REA\n			Välj alternativ	\n		Den här produkten har flera varianter. De olika alternativen kan väljas på produktsidan	\n\n	CCM Dryland Kit NAVY\n	199.00kr\n\n\n	\n	REA\n			Välj alternativ	\n		Den här produkten har flera varianter. De olika alternativen kan väljas på produktsidan	\n\n	CCM Dryland Kit RÖD\n	199.00kr\n\n\n	\n	REA\n			Välj alternativ	\n		Den här produkten har flera varianter. De olika alternativen kan väljas på produktsidan	\n\n	CCM Dryland Kit SVART\n	199.00kr\n\n\n			Välj alternativ	\n		Den här produkten har flera varianter. De olika alternativen kan väljas på produktsidan	\n\n	CCM T-SHIRT (R) SKATE & SKILLS\n	229.00kr\n\n\n			Välj alternativ	\n		Den här produkten har flera varianter. De olika alternativen kan väljas på produktsidan	\n\n	CCM T-shirt (S) Skate & Skills\n	229.00kr\n\n\n			Välj alternativ	\n		Den här produkten har flera varianter. De olika alternativen kan väljas på produktsidan	\n\n	CCM T-shirt Summarcamp\n	249.00kr\n\n\n			Välj alternativ	\n		Den här produkten har flera varianter. De olika alternativen kan väljas på produktsidan	\n\n	EAT\, SLEEP HOCKEY\n	229.00kr\n\n\n			Välj alternativ	\n		Den här produkten har flera varianter. De olika alternativen kan väljas på produktsidan	\n\n	EAT\, SLEEP HOCKEY – HOODIE\n	349.00kr\n\n\n	\n	REA\n			Välj alternativ	\n		Den här produkten har flera varianter. De olika alternativen kan väljas på produktsidan	\n\n	HOCKEYBOXEN\n	459.00kr Det ursprungliga priset var: 459.00kr.299.00krDet nuvarande priset är: 299.00kr.\n\n\n			Välj alternativ	\n		Den här produkten har flera varianter. De olika alternativen kan väljas på produktsidan	\n\n	Keps CCM Team Flexfit\n	229.00kr\n\n\n			Lägg till i varukorg	\n			\n\n	Keps CCM Team Snapback\n	229.00kr\n\n\n			Lägg till i varukorg	\n			\n\n	Mössa CCM Team Coffed\n	189.00kr\n\n\n			Lägg till i varukorg	\n			\n\n	Mössa CCM Team Pom Knit\n	189.00kr\n\n\n			Välj alternativ	\n		Den här produkten har flera varianter. De olika alternativen kan väljas på produktsidan	\n\n	SUMMERCAMP 25 – HOODIE\n	329.00kr\n\n\n			Lägg till i varukorg	\n			\n\n	Swetec Hockeyblock\n	129.00kr\n\n\n			Lägg till i varukorg	\n			\n\n	SWETEC HOCKEYBOXEN\n	495.00kr\n\n\n			Välj alternativ	\n		Den här produkten har flera varianter. De olika alternativen kan väljas på produktsidan	\n\n	T-SHIRT Summer Challenge\n	129.00kr\n\n\n			Välj alternativ	\n		Den här produkten har flera varianter. De olika alternativen kan väljas på produktsidan	\n\n	T-SHIRT Summercamp\n	129.00kr
URL:https://swetechockey.com/startsida/event/preseason-4-3/
LOCATION:Swetec Boxen\, Estridsväg 7B\, Kristianstad\, Skåne\, 29165\, Sweden
CATEGORIES:Camper,MT Träning,PT Ishockey
ORGANIZER;CN="Dag Wenstr%C3%B6m":MAILTO:info@swetechockey.com
END:VEVENT
END:VCALENDAR