BEGIN:VCALENDAR
VERSION:2.0
PRODID:-//Swetechockey - ECPv6.15.20//NONSGML v1.0//EN
CALSCALE:GREGORIAN
METHOD:PUBLISH
X-ORIGINAL-URL:https://swetechockey.com/startsida
X-WR-CALDESC:Händelser för Swetechockey
REFRESH-INTERVAL;VALUE=DURATION:PT1H
X-Robots-Tag:noindex
X-PUBLISHED-TTL:PT1H
BEGIN:VTIMEZONE
TZID:Europe/Stockholm
BEGIN:DAYLIGHT
TZOFFSETFROM:+0100
TZOFFSETTO:+0200
TZNAME:CEST
DTSTART:20230326T010000
END:DAYLIGHT
BEGIN:STANDARD
TZOFFSETFROM:+0200
TZOFFSETTO:+0100
TZNAME:CET
DTSTART:20231029T010000
END:STANDARD
BEGIN:DAYLIGHT
TZOFFSETFROM:+0100
TZOFFSETTO:+0200
TZNAME:CEST
DTSTART:20240331T010000
END:DAYLIGHT
BEGIN:STANDARD
TZOFFSETFROM:+0200
TZOFFSETTO:+0100
TZNAME:CET
DTSTART:20241027T010000
END:STANDARD
BEGIN:DAYLIGHT
TZOFFSETFROM:+0100
TZOFFSETTO:+0200
TZNAME:CEST
DTSTART:20250330T010000
END:DAYLIGHT
BEGIN:STANDARD
TZOFFSETFROM:+0200
TZOFFSETTO:+0100
TZNAME:CET
DTSTART:20251026T010000
END:STANDARD
END:VTIMEZONE
BEGIN:VEVENT
DTSTART;TZID=Europe/Stockholm:20241031T090000
DTEND;TZID=Europe/Stockholm:20241101T133000
DTSTAMP:20260419T185428
CREATED:20240814T120542Z
LAST-MODIFIED:20241028T093945Z
UID:10001074-1730365200-1730467800@swetechockey.com
SUMMARY:HÖSTLOVCAMP
DESCRIPTION:[vc_row column_spacing=”60″][vc_column width=”2/3″][vc_column_text css=”.vc_custom_1729419957517{margin-bottom: 60px !important;}”]\nHÖSTLOVSCAMP I HÄSSLEHOLM\n2 dags camp\, under höstlovet kommer vi ”gnugga” SKILLS där vi erbjuder 3 ispass (75 min) om dagen med fokusering på skridskoåkning\, puckhantering och spelförståelse . Vi kommer ha tidtester för utvecklingen av skridskoåkningen och ljus reaktioner i övningar m.m Bästa höstcampen ever……. \nSwetec Hockey koncept bygger på –  Skate Basic Skills (SBS)\, som kroppsbalans\, glidfaser\, skärkontroll\, kombinerat med motorisk teknik samt koordination\, du skall även bli medveten om VARFÖR du gör det\, HUR det skall göras och NÄR det skall göras. Vi vänder oss till alla hög motiverade spelare som vill utveckla sig för framtiden prestationer. \n\nINNAN DU BOKAR\n– Ingen hockeyskola\, Swetec kräver full fokus på prestera.\n– Vi har disiplin\, Ordning & reda samt raka kommunikation.\n– Tiderna skall hållas\, egen ansvar.\n– Campen är för erfarna spelare.  \n\n[/vc_column_text][/vc_column][vc_column width=”1/3″][vc_empty_space][vc_empty_space][vc_empty_space][vc_single_image image=”23533″][vc_single_image image=”14837″ onclick=”custom_link” link=”https://media.swetechockey.com/2024/10/Hostlovs_24_2.pdf”][/vc_column][/vc_row][vc_row][vc_column][vc_tta_tabs style=”outline” shape=”round” spacing=”10″ gap=”20″ active_section=”1″ no_fill_content_area=”true”][vc_tta_section title=”Fakta” tab_id=”1723834541624-c8456b7b-df40″][vc_column_text]Plats: Österås Ishall/Hässleholm\nDatum: 31 okt – 1 nov 2024\nMat: INGÅR EJ\, Ta med egen mat + mellis\nBoende: ingår inte\nPlatser:  12 platser (individuell utb.)\nSpelare: födda 2014 och äldre\nPris: 2499kr[/vc_column_text][/vc_tta_section][vc_tta_section title=”Mattips” tab_id=”1659433409399-3d7b59cf-1ae6″][vc_column_text]Mat ingår ej i campen. \nTips är att ta med enkel mat så blir lättare för kroppen att ta upp maten. \n\nDrickyogurt\nFrukt\nLättare sallad\nDryck med magnesium\n\n[/vc_column_text][/vc_tta_section][vc_tta_section title=”Upplägg” tab_id=”1610186748120-0d25c2e3-697b”][vc_column_text]DAGSSCHEMA i HÄSSLEHOLM \n07.45 Dörren öppnas\n08.00 – 08.15 Genomgång omklädningsrummet\n08.15 – 08.30 Uppv./Rörlighet\n09.00 – 10.15 Ispass 1\n10.15 – 10.30 Spolning/Vila\n10.30 – 11.45 Ispass 2\n11.45 – 12.15 Spolning/Vila\n12.15 – 13.30 Ispass 3\n13.45  Avslutning \nTack för idag![/vc_column_text][/vc_tta_section][vc_tta_section title=”Ledare” tab_id=”1610186748168-0af2ee06-b9d8″][vc_column_text]Dag Wenström/Huvudinstruktör\nÖver 20 år erfarenhet så vet jag vad som krävs för att bli en riktigt duktig hockeyspelare. Med min evidens baserad kunskaper inom anatomi\, rörelselära och fysisk träning så vet jag hur övningarna påverkar dig till nästa nivå. \nKontakt: dagge@swetechockey.com \nMed övriga i Teamet.[/vc_column_text][/vc_tta_section][vc_tta_section title=”Beställ i Shopen!” tab_id=”1610186748271-e58bb6a2-0c05″][vc_column_text]\n	\n\n\n			Välj alternativ	\n		Den här produkten har flera varianter. De olika alternativen kan väljas på produktsidan	\n\n	BE THE BEST\n	229.00kr\n\n\n	\n	REA\n			Välj alternativ	\n		Den här produkten har flera varianter. De olika alternativen kan väljas på produktsidan	\n\n	CCM Dryland Kit NAVY\n	199.00kr\n\n\n	\n	REA\n			Välj alternativ	\n		Den här produkten har flera varianter. De olika alternativen kan väljas på produktsidan	\n\n	CCM Dryland Kit RÖD\n	199.00kr\n\n\n	\n	REA\n			Välj alternativ	\n		Den här produkten har flera varianter. De olika alternativen kan väljas på produktsidan	\n\n	CCM Dryland Kit SVART\n	199.00kr\n\n\n			Välj alternativ	\n		Den här produkten har flera varianter. De olika alternativen kan väljas på produktsidan	\n\n	CCM T-SHIRT (R) SKATE & SKILLS\n	229.00kr\n\n\n			Välj alternativ	\n		Den här produkten har flera varianter. De olika alternativen kan väljas på produktsidan	\n\n	CCM T-shirt (S) Skate & Skills\n	229.00kr\n\n\n			Välj alternativ	\n		Den här produkten har flera varianter. De olika alternativen kan väljas på produktsidan	\n\n	CCM T-shirt Summarcamp\n	249.00kr\n\n\n			Välj alternativ	\n		Den här produkten har flera varianter. De olika alternativen kan väljas på produktsidan	\n\n	EAT\, SLEEP HOCKEY\n	229.00kr\n\n\n			Välj alternativ	\n		Den här produkten har flera varianter. De olika alternativen kan väljas på produktsidan	\n\n	EAT\, SLEEP HOCKEY – HOODIE\n	349.00kr\n\n\n	\n	REA\n			Välj alternativ	\n		Den här produkten har flera varianter. De olika alternativen kan väljas på produktsidan	\n\n	HOCKEYBOXEN\n	459.00kr Det ursprungliga priset var: 459.00kr.299.00krDet nuvarande priset är: 299.00kr.\n\n\n			Välj alternativ	\n		Den här produkten har flera varianter. De olika alternativen kan väljas på produktsidan	\n\n	Keps CCM Team Flexfit\n	229.00kr\n\n\n			Lägg till i varukorg	\n			\n\n	Keps CCM Team Snapback\n	229.00kr\n\n\n			Lägg till i varukorg	\n			\n\n	Mössa CCM Team Coffed\n	189.00kr\n\n\n			Lägg till i varukorg	\n			\n\n	Mössa CCM Team Pom Knit\n	189.00kr\n\n\n			Välj alternativ	\n		Den här produkten har flera varianter. De olika alternativen kan väljas på produktsidan	\n\n	SUMMERCAMP 25 – HOODIE\n	329.00kr\n\n\n			Lägg till i varukorg	\n			\n\n	Swetec Hockeyblock\n	129.00kr\n\n\n			Lägg till i varukorg	\n			\n\n	SWETEC HOCKEYBOXEN\n	495.00kr\n\n\n			Välj alternativ	\n		Den här produkten har flera varianter. De olika alternativen kan väljas på produktsidan	\n\n	T-SHIRT Summer Challenge\n	129.00kr\n\n\n			Välj alternativ	\n		Den här produkten har flera varianter. De olika alternativen kan väljas på produktsidan	\n\n	T-SHIRT Summercamp\n	129.00kr\n\n\n[/vc_column_text][/vc_tta_section][vc_tta_section title=”Bokningsregler” tab_id=”1610186748216-26c667d8-2c9c”]\n	\n		\n			Bokningen är bindande och skall betalas direkt via PAYPAL. \nFör Privat (1 – 2 tim) gäller:\n\nVid avbokning (3) dygn innan campstart behålls hela avgiften.\n\nFör 1 – 2 dagarscamper gäller:\n\nVid avbokning 5 dygn innan campstart behålls hela avgiften.\n\nFör Sommar Challenge gäller:\n\nÅterbud fram till 30 april förbehåller vi oss som arrangör rätten att behålla 900 SEK för admin.kostnader\nAvbokning från den 1 april till 30 juni återbetalas halva avgiften mot uppvisning av läkarintyg som styrker oförmåga att deltaga.\n- Inget läkarintyg\, ingen återbetalas av inbetald avgift.\nEfter 1 juli behålls hela avgiften\, även vid evt. skada/sjukdom under campen\, ingen återbetalning.\n\n\n		\n	\n[/vc_tta_section][/vc_tta_tabs][vc_empty_space][/vc_column][/vc_row][vc_row][vc_column width=”1/4″][vc_single_image image=”23535″ img_size=”medium”][/vc_column][vc_column width=”3/4″][vc_column_text]Huvudinstruktör:\nDag Wenström –  IshockeyPT.\nHan är en av mest erfarna och proffsigaste instruktör i Europa\,  jobbar från ungdomar till NHL- spelare i 25 år i bl.a Tyskland\, Schweiz\, Canada\, Norge\, Danmark och Polen mfl. Han fokuserar på att DU skall utveckla dina kunskaper att prestera på isen i varje ispass.[/vc_column_text][/vc_column][/vc_row]
URL:https://swetechockey.com/startsida/event/hostlovcamp/
LOCATION:Österås ishall\, Hässleholm\, Hövdingsgatan 16\, Österås Ishall\, Hässleholm\, Sverige
CATEGORIES:Camper
ORGANIZER;CN="Dag Wenstr%C3%B6m":MAILTO:info@swetechockey.com
GEO:56.1466112;13.7803905
X-APPLE-STRUCTURED-LOCATION;VALUE=URI;X-ADDRESS=Österås ishall Hässleholm Hövdingsgatan 16 Österås Ishall Hässleholm Sverige;X-APPLE-RADIUS=500;X-TITLE=Hövdingsgatan 16:geo:13.7803905,56.1466112
END:VEVENT
END:VCALENDAR