BEGIN:VCALENDAR
VERSION:2.0
PRODID:-//Swetechockey - ECPv6.15.20//NONSGML v1.0//EN
CALSCALE:GREGORIAN
METHOD:PUBLISH
X-WR-CALNAME:Swetechockey
X-ORIGINAL-URL:https://swetechockey.com/startsida
X-WR-CALDESC:Händelser för Swetechockey
REFRESH-INTERVAL;VALUE=DURATION:PT1H
X-Robots-Tag:noindex
X-PUBLISHED-TTL:PT1H
BEGIN:VTIMEZONE
TZID:Europe/Stockholm
BEGIN:DAYLIGHT
TZOFFSETFROM:+0100
TZOFFSETTO:+0200
TZNAME:CEST
DTSTART:20230326T010000
END:DAYLIGHT
BEGIN:STANDARD
TZOFFSETFROM:+0200
TZOFFSETTO:+0100
TZNAME:CET
DTSTART:20231029T010000
END:STANDARD
BEGIN:DAYLIGHT
TZOFFSETFROM:+0100
TZOFFSETTO:+0200
TZNAME:CEST
DTSTART:20240331T010000
END:DAYLIGHT
BEGIN:STANDARD
TZOFFSETFROM:+0200
TZOFFSETTO:+0100
TZNAME:CET
DTSTART:20241027T010000
END:STANDARD
BEGIN:DAYLIGHT
TZOFFSETFROM:+0100
TZOFFSETTO:+0200
TZNAME:CEST
DTSTART:20250330T010000
END:DAYLIGHT
BEGIN:STANDARD
TZOFFSETFROM:+0200
TZOFFSETTO:+0100
TZNAME:CET
DTSTART:20251026T010000
END:STANDARD
END:VTIMEZONE
BEGIN:VEVENT
DTSTART;TZID=Europe/Stockholm:20240421T080000
DTEND;TZID=Europe/Stockholm:20240421T123000
DTSTAMP:20260420T053803
CREATED:20240207T084752Z
LAST-MODIFIED:20240416T055728Z
UID:10001067-1713686400-1713702600@swetechockey.com
SUMMARY:PRESEASON HOCKEYCAMP
DESCRIPTION:[vc_row column_spacing=”60″][vc_column width=”2/3″][vc_column_text css=”.vc_custom_1707295281716{margin-bottom: 60px !important;}”]\nPREASON CAMP I TYRINGE!\n1 dags camp\, i april i Tyringe ishall.  Vi skall starta med Skridskotester och skridskoanalyser för  att sedan ”gnugga” med två SKILLS pass med 75 min per/pass. Vi har fokus på analys och teknikutveckling samt på dig som individ. Övningarnas inriktning kopplas till matcher. \nEn viktig del i Swetec Hockey program är –  skate fundament\, kropps/skär kontroll\, motoriska skills med koordination i vår unika inlärning\, du skall även bli medveten om VARFÖR du gör det\, HUR det skall göras och NÄR det skall göras. Vi vänder oss till alla hög motiverade spelare som vill utveckla sig för framtiden prestationer. \n”Sparrisar” Målvakter ni kan boka gratis träning (se nedan) \n\nINNAN DU BOKAR\n– Ingen hockeyskola\, Swetec kräver full fokus på prestera.\n– Vi har disiplin\, Ordning & reda samt raka kommunikation.\n– Tiderna skall hållas\, egen ansvar.\n– Campen är för erfarna spelare.  \n\n\nVi syns på denna underbara utvecklingsdag. \n\n[/vc_column_text][/vc_column][vc_column width=”1/3″][vc_empty_space height=”52px”][vc_single_image image=”22147″ img_size=”medium”][vc_empty_space][vc_single_image image=”14837″ onclick=”custom_link” link=”https://media.swetechockey.com/2024/04/PRE_CAMP_21april-_24.pdf”][/vc_column][/vc_row][vc_row][vc_column][vc_tta_tabs style=”outline” shape=”round” spacing=”10″ gap=”20″ active_section=”1″ no_fill_content_area=”true”][vc_tta_section title=”Fakta” tab_id=”1610186748077-dc34c960-76c7″][vc_column_text]Plats: Tyrshov Ishall/Tyringe\nDatum: 21 April 2024\nSamling: OBS! 07.00 i Tyrshov.\nMat: INGÅR EJ\, Ta med egen mat + mellis\nBoende: ingår inte\nPlatser:  Endast 6 platser (individuell utb.)\nSpelare: födda 2013 och äldre\nPris: 1699 kr [/vc_column_text][/vc_tta_section][vc_tta_section title=”Mattips” tab_id=”1659433409399-3d7b59cf-1ae6″][vc_column_text]Mat ingår ej i campen. \nTips är att ta med enkel mat så blir lättare för kroppen att ta upp maten. \n\nDrickyogurt\nFrukt\nLättare sallad\nDryck med magnesium\n\n[/vc_column_text][/vc_tta_section][vc_tta_section title=”Upplägg” tab_id=”1610186748120-0d25c2e3-697b”][vc_column_text]SCHEMA i TYRINGE \n07 .00 samling omkl. för genomgång\n08.00-09:30 Istester/Skridskoanalyser.\n09.30 – 09.45 Spolning/Egen mellis\n09:45 – 11:00 Hockeyskills\n11:00 – 11:15 Spolning/Egen mellis\n11:15 – 12.30 Skate & Skills Kombi\n12.45  Avslutning på is. \nTack för idag![/vc_column_text][/vc_tta_section][vc_tta_section title=”Ledare” tab_id=”1610186748168-0af2ee06-b9d8″][vc_column_text]Dag Wenström.\nÖver 20 år erfarenhet så vet jag vad som krävs för att bli en riktigt duktig hockeyspelare. \nMed min evidens baserad kunskaper inom anatomi\, rörelselära och fysisk träning så vet jag hur övningarna påverkar dig till nästa nivå. \nKontakt: dagge@swetechockey.com[/vc_column_text][/vc_tta_section][vc_tta_section title=”Beställ i Shopen!” tab_id=”1610186748271-e58bb6a2-0c05″][vc_column_text]\n	\n\n\n			Välj alternativ	\n		Den här produkten har flera varianter. De olika alternativen kan väljas på produktsidan	\n\n	BE THE BEST\n	229.00kr\n\n\n	\n	REA\n			Välj alternativ	\n		Den här produkten har flera varianter. De olika alternativen kan väljas på produktsidan	\n\n	CCM Dryland Kit NAVY\n	199.00kr\n\n\n	\n	REA\n			Välj alternativ	\n		Den här produkten har flera varianter. De olika alternativen kan väljas på produktsidan	\n\n	CCM Dryland Kit RÖD\n	199.00kr\n\n\n	\n	REA\n			Välj alternativ	\n		Den här produkten har flera varianter. De olika alternativen kan väljas på produktsidan	\n\n	CCM Dryland Kit SVART\n	199.00kr\n\n\n			Välj alternativ	\n		Den här produkten har flera varianter. De olika alternativen kan väljas på produktsidan	\n\n	CCM T-SHIRT (R) SKATE & SKILLS\n	229.00kr\n\n\n			Välj alternativ	\n		Den här produkten har flera varianter. De olika alternativen kan väljas på produktsidan	\n\n	CCM T-shirt (S) Skate & Skills\n	229.00kr\n\n\n			Välj alternativ	\n		Den här produkten har flera varianter. De olika alternativen kan väljas på produktsidan	\n\n	CCM T-shirt Summarcamp\n	249.00kr\n\n\n			Välj alternativ	\n		Den här produkten har flera varianter. De olika alternativen kan väljas på produktsidan	\n\n	EAT\, SLEEP HOCKEY\n	229.00kr\n\n\n			Välj alternativ	\n		Den här produkten har flera varianter. De olika alternativen kan väljas på produktsidan	\n\n	EAT\, SLEEP HOCKEY – HOODIE\n	349.00kr\n\n\n	\n	REA\n			Välj alternativ	\n		Den här produkten har flera varianter. De olika alternativen kan väljas på produktsidan	\n\n	HOCKEYBOXEN\n	459.00kr Det ursprungliga priset var: 459.00kr.299.00krDet nuvarande priset är: 299.00kr.\n\n\n			Välj alternativ	\n		Den här produkten har flera varianter. De olika alternativen kan väljas på produktsidan	\n\n	Keps CCM Team Flexfit\n	229.00kr\n\n\n			Lägg till i varukorg	\n			\n\n	Keps CCM Team Snapback\n	229.00kr\n\n\n			Lägg till i varukorg	\n			\n\n	Mössa CCM Team Coffed\n	189.00kr\n\n\n			Lägg till i varukorg	\n			\n\n	Mössa CCM Team Pom Knit\n	189.00kr\n\n\n			Välj alternativ	\n		Den här produkten har flera varianter. De olika alternativen kan väljas på produktsidan	\n\n	SUMMERCAMP 25 – HOODIE\n	329.00kr\n\n\n			Lägg till i varukorg	\n			\n\n	Swetec Hockeyblock\n	129.00kr\n\n\n			Lägg till i varukorg	\n			\n\n	SWETEC HOCKEYBOXEN\n	495.00kr\n\n\n			Välj alternativ	\n		Den här produkten har flera varianter. De olika alternativen kan väljas på produktsidan	\n\n	T-SHIRT Summer Challenge\n	129.00kr\n\n\n			Välj alternativ	\n		Den här produkten har flera varianter. De olika alternativen kan väljas på produktsidan	\n\n	T-SHIRT Summercamp\n	129.00kr\n\n\n[/vc_column_text][/vc_tta_section][vc_tta_section title=”Bokningsregler” tab_id=”1610186748216-26c667d8-2c9c”]\n	\n		\n			Bokningen är bindande och skall betalas direkt via PAYPAL. \nFör Privat (1 – 2 tim) gäller:\n\nVid avbokning (3) dygn innan campstart behålls hela avgiften.\n\nFör 1 – 2 dagarscamper gäller:\n\nVid avbokning 5 dygn innan campstart behålls hela avgiften.\n\nFör Sommar Challenge gäller:\n\nÅterbud fram till 30 april förbehåller vi oss som arrangör rätten att behålla 900 SEK för admin.kostnader\nAvbokning från den 1 april till 30 juni återbetalas halva avgiften mot uppvisning av läkarintyg som styrker oförmåga att deltaga.\n- Inget läkarintyg\, ingen återbetalas av inbetald avgift.\nEfter 1 juli behålls hela avgiften\, även vid evt. skada/sjukdom under campen\, ingen återbetalning.\n\n\n		\n	\n[/vc_tta_section][/vc_tta_tabs][/vc_column][/vc_row][vc_row][vc_column width=”1/2″][vc_column_text]Huvudinstruktör:\nDag Wenström –  IshockeyPT.\nEn av Europas mest erfarna instruktör med erfarenhet från jobb i Tyskland\, Schweiz\, Canada\, Norge\, Danmark och Polen samt varit delaktig i spelarutvecklingen av spelare som;  Simon Edvinsson/NHL\,  John Dahlström/SHL\, Linus Sjödin/NHL\, Flurin Rendeggar/NLA – Thomas Wellinger/NLA mfl.[/vc_column_text][/vc_column][vc_column width=”1/2″][vc_single_image image=”21314″ img_size=”300×200″][/vc_column][/vc_row]
URL:https://swetechockey.com/startsida/event/preseason-hockeycamp/
LOCATION:Tyrshovs Ishall\, Tyringe\, Paradisgatan 32\, Tyringe\, 28232\, Sverige
CATEGORIES:Camper,MT Träning,PT Ishockey
ORGANIZER;CN="Dag Wenstr%C3%B6m":MAILTO:info@swetechockey.com
GEO:56.1543512;13.6042833
X-APPLE-STRUCTURED-LOCATION;VALUE=URI;X-ADDRESS=Tyrshovs Ishall Tyringe Paradisgatan 32 Tyringe 28232 Sverige;X-APPLE-RADIUS=500;X-TITLE=Paradisgatan 32:geo:13.6042833,56.1543512
END:VEVENT
BEGIN:VEVENT
DTSTART;TZID=Europe/Stockholm:20240421T080000
DTEND;TZID=Europe/Stockholm:20240421T150000
DTSTAMP:20260420T053803
CREATED:20240101T192938Z
LAST-MODIFIED:20240416T092549Z
UID:10001061-1713686400-1713711600@swetechockey.com
SUMMARY:PRESEASON 1
DESCRIPTION:FÖRSÄSONG närmar sig – XFIT PRESEASON 2024\nDax att planera och skapa förutsättningar för framtida prestationer och vara skadefria. Vi har den optimala försäsongs upplägget som du kan kombinerar med ditt lags upplägg.  \nXFIT PRESEASON \nUpplägg med 1 dag i månaden\, fystester\, teori om träning\, kost och träningslära samt fysträning på vår anläggning. Du får programmering efter dina fystester och online program emellan träffarna via vår app XPS. Där kan vi följa din träning och analyser på utvecklingen samt alltid har kontakt med varandra.  \nVi startar den 21 april med istester/Skate analys och SKATE & SKILLS i Tyrshov ishall/Tyringe och drar sedan vidare till SWETEC´s anläggning i Kristianstad för fystester\, så boka din försäsong med oss.  \nSkapa en försäsongs upplägg för att optimera din framtid. Efter 10 års framgångsrikt upplägg så vill vi vägleda dig och skapa det bästa träningsupplägg för hockeyspelare under sommaruppehåll. \n\nTRÄNINGSUPPLÄGG innebär:\n\n1 dagar i månaden (april/Iscamp\, fyscamper – maj\, juni\, juli\, augusti)\nTeori i träningslära\, kost och vila.\nFystester\, både is och fys med personliga coachning via appen.\nOnline-träning\, köps vid sidan eller om redan har. (Ingår ej\, köp XFIT ONLINE.)\n\n\n\nSWETEC Akademi ELEVER ingår: \n– 08.00-09.30 Istester med skills I TYRINGE\n– 13.00-15.00 fystester I KRISTIANSTAD.\nVill ni vara PÅ ÖVRIGA ispass mellan 09.45 – 12.30 kostar det 595:- som ni skall boka och betalar nedan. \nBoka enskilt camp tillfälle.  \n\n		\n	\n\n	\n		\n		\n			\n		\n	\n\n	\n		\n			Läs mer på Dagges egen hemsida www.xfittraining.se \n\n		\n	\n\n	\n		\n		\n			\n		\n	\nFaktaAkademi elevUppläggLedareBokningsreglerBeställ på webshopFakta\n	\n		\n			Grupp: Högst 16 personer (minst antalet 4 st)\nÅlder: Födda 05-12.\nTid: kl. 08:00 –  12:30 Tyrshov\, 13.30 – 15.00 Swetec Öllsjö\nPlats: Tyrshov Ishall/Swetec Crossfit Öllsjö\nDatum: Camp 1 – 21/4\, Camp 2 – 19/5\, Camp 3 – 30/6\, Camp 4 – 28/7\, Camp 5 –  11/8\nMat: ingår ej\, ta med egen lunch/mellis. \nPRIS: 7995 SEK för alla Preseason (1599:- per/tillfälle)\nGår dela upp betalningen med 1599:- mån x 5 (7995 Sek) \nPRIS endast en CAMP 1: 1699 SEK \n\n		\n	\nAkademi elevUpplägg\n	\n		\n			Söndag 21/4 TYRINGE/KRISTIANSTAD.   \nTyrshov Ishall/Tyringe\n07.00 Samling/Genomgång/Uppvärmning\n08.00-09.30 Uppvärmning/Istester/Skate Skills\n09:30-09.45 Spolning/Egen mellis\n09:45-11.00 Hockeyskills\n11:00-11:15 Spolning/Egen mellis\n11:15-12.30 Skate & Skills in Hockey \nSwetec Crossfit/Öllsjö\n14.00-15.30 Fystester/Genomgång träning \nOBS! Det kommer tider för varje gång så kan vara ändringar.  \n\n		\n	\nLedare\n	\n		\n			Dag Wenström.\nÖver 20 år erfarenhet så vet jag vad som krävs för att bli en riktigt duktig hockeyspelare. \nMed min evidens baserad kunskaper inom anatomi\, rörelselära och fysisk träning så vet jag hur övningarna påverkar dig till nästa nivå. \nKontakt: dagge@swetechockey.com \n\n		\n	\nBokningsregler\n	\n		\n			Bokningen är bindande och skall betalas direkt via PAYPAL. \nFör Privat (1 – 2 tim) gäller:\n\nVid avbokning (3) dygn innan campstart behålls hela avgiften.\n\nFör 1 – 2 dagarscamper gäller:\n\nVid avbokning 5 dygn innan campstart behålls hela avgiften.\n\nFör Sommar Challenge gäller:\n\nÅterbud fram till 30 april förbehåller vi oss som arrangör rätten att behålla 900 SEK för admin.kostnader\nAvbokning från den 1 april till 30 juni återbetalas halva avgiften mot uppvisning av läkarintyg som styrker oförmåga att deltaga.\n- Inget läkarintyg\, ingen återbetalas av inbetald avgift.\nEfter 1 juli behålls hela avgiften\, även vid evt. skada/sjukdom under campen\, ingen återbetalning.\n\n\n		\n	\nBeställ på webshop\n	\n		\n			\n	\n\n\n			Välj alternativ	\n		Den här produkten har flera varianter. De olika alternativen kan väljas på produktsidan	\n\n	BE THE BEST\n	229.00kr\n\n\n	\n	REA\n			Välj alternativ	\n		Den här produkten har flera varianter. De olika alternativen kan väljas på produktsidan	\n\n	CCM Dryland Kit NAVY\n	199.00kr\n\n\n	\n	REA\n			Välj alternativ	\n		Den här produkten har flera varianter. De olika alternativen kan väljas på produktsidan	\n\n	CCM Dryland Kit RÖD\n	199.00kr\n\n\n	\n	REA\n			Välj alternativ	\n		Den här produkten har flera varianter. De olika alternativen kan väljas på produktsidan	\n\n	CCM Dryland Kit SVART\n	199.00kr\n\n\n			Välj alternativ	\n		Den här produkten har flera varianter. De olika alternativen kan väljas på produktsidan	\n\n	CCM T-SHIRT (R) SKATE & SKILLS\n	229.00kr\n\n\n			Välj alternativ	\n		Den här produkten har flera varianter. De olika alternativen kan väljas på produktsidan	\n\n	CCM T-shirt (S) Skate & Skills\n	229.00kr\n\n\n			Välj alternativ	\n		Den här produkten har flera varianter. De olika alternativen kan väljas på produktsidan	\n\n	CCM T-shirt Summarcamp\n	249.00kr\n\n\n			Välj alternativ	\n		Den här produkten har flera varianter. De olika alternativen kan väljas på produktsidan	\n\n	EAT\, SLEEP HOCKEY\n	229.00kr\n\n\n			Välj alternativ	\n		Den här produkten har flera varianter. De olika alternativen kan väljas på produktsidan	\n\n	EAT\, SLEEP HOCKEY – HOODIE\n	349.00kr\n\n\n	\n	REA\n			Välj alternativ	\n		Den här produkten har flera varianter. De olika alternativen kan väljas på produktsidan	\n\n	HOCKEYBOXEN\n	459.00kr Det ursprungliga priset var: 459.00kr.299.00krDet nuvarande priset är: 299.00kr.\n\n\n			Välj alternativ	\n		Den här produkten har flera varianter. De olika alternativen kan väljas på produktsidan	\n\n	Keps CCM Team Flexfit\n	229.00kr\n\n\n			Lägg till i varukorg	\n			\n\n	Keps CCM Team Snapback\n	229.00kr\n\n\n			Lägg till i varukorg	\n			\n\n	Mössa CCM Team Coffed\n	189.00kr\n\n\n			Lägg till i varukorg	\n			\n\n	Mössa CCM Team Pom Knit\n	189.00kr\n\n\n			Välj alternativ	\n		Den här produkten har flera varianter. De olika alternativen kan väljas på produktsidan	\n\n	SUMMERCAMP 25 – HOODIE\n	329.00kr\n\n\n			Lägg till i varukorg	\n			\n\n	Swetec Hockeyblock\n	129.00kr\n\n\n			Lägg till i varukorg	\n			\n\n	SWETEC HOCKEYBOXEN\n	495.00kr\n\n\n			Välj alternativ	\n		Den här produkten har flera varianter. De olika alternativen kan väljas på produktsidan	\n\n	T-SHIRT Summer Challenge\n	129.00kr\n\n\n			Välj alternativ	\n		Den här produkten har flera varianter. De olika alternativen kan väljas på produktsidan	\n\n	T-SHIRT Summercamp\n	129.00kr\n\n\n\n\n		\n	\n\n	\n		\n			PRESEASON 1 \nDet ingår 08.00-09.30 Istester med skills samt 14.00-15.30 fystester. \nVill ni vara med i resten av tiden från 09.45 – 12.30 kostar det 595:- som ni skall boka och betala.
URL:https://swetechockey.com/startsida/event/preseason-1-2/
LOCATION:Tyrshovs Ishall\, Tyringe\, Paradisgatan 32\, Tyringe\, 28232\, Sverige
CATEGORIES:Camper,MT Träning,PT Ishockey
ORGANIZER;CN="Dag Wenstr%C3%B6m":MAILTO:info@swetechockey.com
GEO:56.1543512;13.6042833
X-APPLE-STRUCTURED-LOCATION;VALUE=URI;X-ADDRESS=Tyrshovs Ishall Tyringe Paradisgatan 32 Tyringe 28232 Sverige;X-APPLE-RADIUS=500;X-TITLE=Paradisgatan 32:geo:13.6042833,56.1543512
END:VEVENT
BEGIN:VEVENT
DTSTART;TZID=Europe/Stockholm:20240428T090000
DTEND;TZID=Europe/Stockholm:20240428T160000
DTSTAMP:20260420T053803
CREATED:20240326T114104Z
LAST-MODIFIED:20240326T114401Z
UID:10000955-1714294800-1714320000@swetechockey.com
SUMMARY:UTBILDNING - FYSPYRAMIDEN
DESCRIPTION:FYSPYRAMIDEN \nÄr ett upplägg för säsongen i perioder samt bygga rätt saker i rätt tid är bra för att förhindra skador och optimera förutsättningar för prestationer. Du kommer med denna utbildningen att veta mer när skall lägga vad\, hur det påverkar och vad slut produkten blir. Allt bygger på lärdom om kroppen förutsättningar i rörelser och anatomi. \n\nFYSPYRAMIN UTB. innebär:\n\n1 dagars utbildning\nTeori i tränings och kroppslära.\nGrupp arbete \npraktiskt inlärning\n\n\n\n\n		\n	\n\n	\n		\n		\n			\n		\n	\nUppläggLedareBokningsreglerBeställ din tröja!Upplägg\n	\n		\n			SCHEMA AV UTBILDNINGEN \n09:00 Samling på Swetec Superb Crossfit\n09.10 – 09.30 Genomgång\n09.30 – 11.00 Teori/grupp arbete\n11.00 – 11.15 Paus\n11.15 – 12.00 Praktik av grupp arbetet\n12.00 – 12.45 Lunch (egen lunch)\n12.45 – 13.00 Genomgång\n13.00 – 14.00 Praktik\n14.00 – 14.15 Paus\n14.15 – 15.15 Teori/Grupp arbete\n15:15 – 15.30 Paus\n15.30 – 16.00 Avslutning/Sammanfattning \nTack för idag! \n\n		\n	\nLedare\n	\n		\n			Dag Wenström.\nÖver 20 år erfarenhet så vet jag vad som krävs för att bli en riktigt duktig hockeyspelare. \nMed min evidens baserad kunskaper inom anatomi\, rörelselära och fysisk träning så vet jag hur övningarna påverkar dig till nästa nivå. \nKontakt: dagge@swetechockey.com \n\n		\n	\nBokningsregler\n	\n		\n			Bokningen är bindande och skall betalas direkt via PAYPAL. \nFör Privat (1 – 2 tim) gäller:\n\nVid avbokning (3) dygn innan campstart behålls hela avgiften.\n\nFör 1 – 2 dagarscamper gäller:\n\nVid avbokning 5 dygn innan campstart behålls hela avgiften.\n\nFör Sommar Challenge gäller:\n\nÅterbud fram till 30 april förbehåller vi oss som arrangör rätten att behålla 900 SEK för admin.kostnader\nAvbokning från den 1 april till 30 juni återbetalas halva avgiften mot uppvisning av läkarintyg som styrker oförmåga att deltaga.\n- Inget läkarintyg\, ingen återbetalas av inbetald avgift.\nEfter 1 juli behålls hela avgiften\, även vid evt. skada/sjukdom under campen\, ingen återbetalning.\n\n\n		\n	\nBeställ din tröja!\n	\n		\n			\n	\n\n\n			Välj alternativ	\n		Den här produkten har flera varianter. De olika alternativen kan väljas på produktsidan	\n\n	BE THE BEST\n	229.00kr\n\n\n	\n	REA\n			Välj alternativ	\n		Den här produkten har flera varianter. De olika alternativen kan väljas på produktsidan	\n\n	CCM Dryland Kit NAVY\n	199.00kr\n\n\n	\n	REA\n			Välj alternativ	\n		Den här produkten har flera varianter. De olika alternativen kan väljas på produktsidan	\n\n	CCM Dryland Kit RÖD\n	199.00kr\n\n\n	\n	REA\n			Välj alternativ	\n		Den här produkten har flera varianter. De olika alternativen kan väljas på produktsidan	\n\n	CCM Dryland Kit SVART\n	199.00kr\n\n\n			Välj alternativ	\n		Den här produkten har flera varianter. De olika alternativen kan väljas på produktsidan	\n\n	CCM T-SHIRT (R) SKATE & SKILLS\n	229.00kr\n\n\n			Välj alternativ	\n		Den här produkten har flera varianter. De olika alternativen kan väljas på produktsidan	\n\n	CCM T-shirt (S) Skate & Skills\n	229.00kr\n\n\n			Välj alternativ	\n		Den här produkten har flera varianter. De olika alternativen kan väljas på produktsidan	\n\n	CCM T-shirt Summarcamp\n	249.00kr\n\n\n			Välj alternativ	\n		Den här produkten har flera varianter. De olika alternativen kan väljas på produktsidan	\n\n	EAT\, SLEEP HOCKEY\n	229.00kr\n\n\n			Välj alternativ	\n		Den här produkten har flera varianter. De olika alternativen kan väljas på produktsidan	\n\n	EAT\, SLEEP HOCKEY – HOODIE\n	349.00kr\n\n\n	\n	REA\n			Välj alternativ	\n		Den här produkten har flera varianter. De olika alternativen kan väljas på produktsidan	\n\n	HOCKEYBOXEN\n	459.00kr Det ursprungliga priset var: 459.00kr.299.00krDet nuvarande priset är: 299.00kr.\n\n\n			Välj alternativ	\n		Den här produkten har flera varianter. De olika alternativen kan väljas på produktsidan	\n\n	Keps CCM Team Flexfit\n	229.00kr\n\n\n			Lägg till i varukorg	\n			\n\n	Keps CCM Team Snapback\n	229.00kr\n\n\n			Lägg till i varukorg	\n			\n\n	Mössa CCM Team Coffed\n	189.00kr\n\n\n			Lägg till i varukorg	\n			\n\n	Mössa CCM Team Pom Knit\n	189.00kr\n\n\n			Välj alternativ	\n		Den här produkten har flera varianter. De olika alternativen kan väljas på produktsidan	\n\n	SUMMERCAMP 25 – HOODIE\n	329.00kr\n\n\n			Lägg till i varukorg	\n			\n\n	Swetec Hockeyblock\n	129.00kr\n\n\n			Lägg till i varukorg	\n			\n\n	SWETEC HOCKEYBOXEN\n	495.00kr\n\n\n			Välj alternativ	\n		Den här produkten har flera varianter. De olika alternativen kan väljas på produktsidan	\n\n	T-SHIRT Summer Challenge\n	129.00kr\n\n\n			Välj alternativ	\n		Den här produkten har flera varianter. De olika alternativen kan väljas på produktsidan	\n\n	T-SHIRT Summercamp\n	129.00kr
URL:https://swetechockey.com/startsida/event/utbildning-fyspyramiden-2/
LOCATION:Swetec Superb Crossfit\, Estridsväg 7B\, Kristianstad\, Skåne\, 29165\, Sverige
CATEGORIES:Camper,X-training fyspyramid
ORGANIZER;CN="Dag Wenstr%C3%B6m":MAILTO:info@swetechockey.com
END:VEVENT
END:VCALENDAR