BEGIN:VCALENDAR
VERSION:2.0
PRODID:-//Swetechockey - ECPv6.15.20//NONSGML v1.0//EN
CALSCALE:GREGORIAN
METHOD:PUBLISH
X-WR-CALNAME:Swetechockey
X-ORIGINAL-URL:https://swetechockey.com/startsida
X-WR-CALDESC:Händelser för Swetechockey
REFRESH-INTERVAL;VALUE=DURATION:PT1H
X-Robots-Tag:noindex
X-PUBLISHED-TTL:PT1H
BEGIN:VTIMEZONE
TZID:Europe/Stockholm
BEGIN:DAYLIGHT
TZOFFSETFROM:+0100
TZOFFSETTO:+0200
TZNAME:CEST
DTSTART:20230326T010000
END:DAYLIGHT
BEGIN:STANDARD
TZOFFSETFROM:+0200
TZOFFSETTO:+0100
TZNAME:CET
DTSTART:20231029T010000
END:STANDARD
BEGIN:DAYLIGHT
TZOFFSETFROM:+0100
TZOFFSETTO:+0200
TZNAME:CEST
DTSTART:20240331T010000
END:DAYLIGHT
BEGIN:STANDARD
TZOFFSETFROM:+0200
TZOFFSETTO:+0100
TZNAME:CET
DTSTART:20241027T010000
END:STANDARD
BEGIN:DAYLIGHT
TZOFFSETFROM:+0100
TZOFFSETTO:+0200
TZNAME:CEST
DTSTART:20250330T010000
END:DAYLIGHT
BEGIN:STANDARD
TZOFFSETFROM:+0200
TZOFFSETTO:+0100
TZNAME:CET
DTSTART:20251026T010000
END:STANDARD
END:VTIMEZONE
BEGIN:VEVENT
DTSTART;TZID=Europe/Stockholm:20240222T073000
DTEND;TZID=Europe/Stockholm:20240223T133000
DTSTAMP:20260420T090006
CREATED:20240101T120606Z
LAST-MODIFIED:20240220T103149Z
UID:10001058-1708587000-1708695000@swetechockey.com
SUMMARY:SPORTLOV SWEDEN
DESCRIPTION:[vc_row column_spacing=”60″][vc_column width=”2/3″][vc_column_text css=”.vc_custom_1704111362180{margin-bottom: 60px !important;}”]\nSPORTLOVSCAMP I HÄSSLEHOLM\n2 dags camp\, på sportlovet kommer vi att ”gnugga” SKILLS med tre ispass 75 min per/pass samt ett rörlighetspass. Vi har fokus på teknikutveckling samt på dig som individ. Övningarnas inriktning kopplas till matcher. \nEn viktig del i Swetec Hockey program är –  skate fundament\, kropps/skär kontroll\, motoriska skills med koordination i vår unika inlärning\, du skall även bli medveten om VARFÖR du gör det\, HUR det skall göras och NÄR det skall göras. Vi vänder oss till alla hög motiverade spelare som vill utveckla sig för framtiden prestationer. \n”Sparrisar” Målvakter ni kan boka gratis träning (se nedan) \n\nINNAN DU BOKAR\n– Ingen hockeyskola\, Swetec kräver full fokus på prestera.\n– Vi har disiplin\, Ordning & reda samt raka kommunikation.\n– Tiderna skall hållas\, egen ansvar.\n– Campen är för erfarna spelare.  \n  \n\n\nWINNERHEAD!\nBokar du video så får du filmer på dig från campen med kommentarer via WINNERHEAD.\nOBS! Kommer inbjudan senast 2 dagar innan via mail\, kolla mailen. (skräpposten med) \nVi syns på denna underbara utvecklingsdag. \n\n[/vc_column_text][/vc_column][vc_column width=”1/3″][vc_empty_space][vc_empty_space][vc_single_image image=”22123″][vc_empty_space][vc_single_image image=”12952″][vc_single_image image=”14837″ onclick=”custom_link” link=”https://media.swetechockey.com/2024/02/SPORTLOV_24.pdf”][/vc_column][/vc_row][vc_row][vc_column][vc_tta_tabs style=”outline” shape=”round” spacing=”10″ gap=”20″ active_section=”1″ no_fill_content_area=”true”][vc_tta_section title=”Fakta” tab_id=”1610186748077-dc34c960-76c7″][vc_column_text]Plats: Hässleholm/Österås Ishall\, Hövdingegatan 16\, 281 33 Hässleholm\nDatum: 22-23 februari 2024\nIspass: 6 st – 75-minuterspass.\nTider: OBS! kl 07:30 – ca kl 13:30 varje dag\nMat: INGÅR EJ\, Ta med egen mat + mellis\nBoende: ingår inte\nPlatser:  12 – 16 Utespelare och 6 Sparrisar.\nSpelare: födda 2013 och äldre\nPris: Endast 2495kr[/vc_column_text][/vc_tta_section][vc_tta_section title=”Sparrisar” tab_id=”1704111068600-d4d8f003-ef5f”][vc_column_text]Denna campen erbjuder vi ”Sparris” träning för målvakter\, gratis träning. \nSCHEMA MÅLVAKTER\n09.00 Samling i omklädningsrum 2\n10.00-11.15 Ispass 1\n11.15-11.45 Vila/Egen fika\n11.45-13.00 Ispass 2 \nTack för hjälpen.[/vc_column_text][/vc_tta_section][vc_tta_section title=”Mattips” tab_id=”1659433409399-3d7b59cf-1ae6″][vc_column_text]Mat ingår ej i campen. \nTips är att ta med enkel mat så blir lättare för kroppen att ta upp maten. \n\nDrickyogurt\nFrukt\nLättare sallad\nDryck med magnesium\n\n[/vc_column_text][/vc_tta_section][vc_tta_section title=”Upplägg” tab_id=”1610186748120-0d25c2e3-697b”][vc_column_text]DAGSSCHEMA i HÄSSLEHOLM \n07.30 samling omkl. 3-4\n07.45 Genomgång av campen\n08.00 – 08.15 WARMUP\n08.30 – 09.45 Ispass 1\n09.45 – 10.00 Spolning/Vila\n10.00 – 11.15 Ispass 2\n11.20 – 11.35 Spolning/Vila\n11.45 – 13.00 Ispass 3\n13.15 – 13.30 Avslutning \nTack för idag![/vc_column_text][/vc_tta_section][vc_tta_section title=”Ledare” tab_id=”1610186748168-0af2ee06-b9d8″][vc_column_text]SWETEC TEAMET\nAnsvarig kommer Dagge att vara tillsammans med fler av teamet. \nDag Wenström.\nÖver 20 år erfarenhet så vet jag vad som krävs för att bli en riktigt duktig hockeyspelare. \nMed min evidens baserad kunskaper inom anatomi\, rörelselära och fysisk träning så vet jag hur övningarna påverkar dig till nästa nivå. \nKontakt: dagge@swetechockey.com[/vc_column_text][/vc_tta_section][vc_tta_section title=”Winnerhead” tab_id=”1659434057433-4c00eea7-5780″][vc_column_text]Winnerhead \nVi jobbar med Winnerhead\, här kan du få filmer på dig från övningarna med kommentarer. Inbjudan skickas senast 2 dagar innan.  (Kostar 399 kr) Vi bjuder in er senast 2 dagar innan så kolla eran mail för att inte missa något. \n\nSamlar dina videos från camperna\nResultat\nKommentarer m.m\n\n[/vc_column_text][/vc_tta_section][vc_tta_section title=”Beställ i Shopen!” tab_id=”1610186748271-e58bb6a2-0c05″][vc_column_text]\n	\n\n\n			Välj alternativ	\n		Den här produkten har flera varianter. De olika alternativen kan väljas på produktsidan	\n\n	BE THE BEST\n	229.00kr\n\n\n	\n	REA\n			Välj alternativ	\n		Den här produkten har flera varianter. De olika alternativen kan väljas på produktsidan	\n\n	CCM Dryland Kit NAVY\n	199.00kr\n\n\n	\n	REA\n			Välj alternativ	\n		Den här produkten har flera varianter. De olika alternativen kan väljas på produktsidan	\n\n	CCM Dryland Kit RÖD\n	199.00kr\n\n\n	\n	REA\n			Välj alternativ	\n		Den här produkten har flera varianter. De olika alternativen kan väljas på produktsidan	\n\n	CCM Dryland Kit SVART\n	199.00kr\n\n\n			Välj alternativ	\n		Den här produkten har flera varianter. De olika alternativen kan väljas på produktsidan	\n\n	CCM T-SHIRT (R) SKATE & SKILLS\n	229.00kr\n\n\n			Välj alternativ	\n		Den här produkten har flera varianter. De olika alternativen kan väljas på produktsidan	\n\n	CCM T-shirt (S) Skate & Skills\n	229.00kr\n\n\n			Välj alternativ	\n		Den här produkten har flera varianter. De olika alternativen kan väljas på produktsidan	\n\n	CCM T-shirt Summarcamp\n	249.00kr\n\n\n			Välj alternativ	\n		Den här produkten har flera varianter. De olika alternativen kan väljas på produktsidan	\n\n	EAT\, SLEEP HOCKEY\n	229.00kr\n\n\n			Välj alternativ	\n		Den här produkten har flera varianter. De olika alternativen kan väljas på produktsidan	\n\n	EAT\, SLEEP HOCKEY – HOODIE\n	349.00kr\n\n\n	\n	REA\n			Välj alternativ	\n		Den här produkten har flera varianter. De olika alternativen kan väljas på produktsidan	\n\n	HOCKEYBOXEN\n	459.00kr Det ursprungliga priset var: 459.00kr.299.00krDet nuvarande priset är: 299.00kr.\n\n\n			Välj alternativ	\n		Den här produkten har flera varianter. De olika alternativen kan väljas på produktsidan	\n\n	Keps CCM Team Flexfit\n	229.00kr\n\n\n			Lägg till i varukorg	\n			\n\n	Keps CCM Team Snapback\n	229.00kr\n\n\n			Lägg till i varukorg	\n			\n\n	Mössa CCM Team Coffed\n	189.00kr\n\n\n			Lägg till i varukorg	\n			\n\n	Mössa CCM Team Pom Knit\n	189.00kr\n\n\n			Välj alternativ	\n		Den här produkten har flera varianter. De olika alternativen kan väljas på produktsidan	\n\n	SUMMERCAMP 25 – HOODIE\n	329.00kr\n\n\n			Lägg till i varukorg	\n			\n\n	Swetec Hockeyblock\n	129.00kr\n\n\n			Lägg till i varukorg	\n			\n\n	SWETEC HOCKEYBOXEN\n	495.00kr\n\n\n			Välj alternativ	\n		Den här produkten har flera varianter. De olika alternativen kan väljas på produktsidan	\n\n	T-SHIRT Summer Challenge\n	129.00kr\n\n\n			Välj alternativ	\n		Den här produkten har flera varianter. De olika alternativen kan väljas på produktsidan	\n\n	T-SHIRT Summercamp\n	129.00kr\n\n\n[/vc_column_text][/vc_tta_section][vc_tta_section title=”Bokningsregler” tab_id=”1610186748216-26c667d8-2c9c”]\n	\n		\n			Bokningen är bindande och skall betalas direkt via PAYPAL. \nFör Privat (1 – 2 tim) gäller:\n\nVid avbokning (3) dygn innan campstart behålls hela avgiften.\n\nFör 1 – 2 dagarscamper gäller:\n\nVid avbokning 5 dygn innan campstart behålls hela avgiften.\n\nFör Sommar Challenge gäller:\n\nÅterbud fram till 30 april förbehåller vi oss som arrangör rätten att behålla 900 SEK för admin.kostnader\nAvbokning från den 1 april till 30 juni återbetalas halva avgiften mot uppvisning av läkarintyg som styrker oförmåga att deltaga.\n- Inget läkarintyg\, ingen återbetalas av inbetald avgift.\nEfter 1 juli behålls hela avgiften\, även vid evt. skada/sjukdom under campen\, ingen återbetalning.\n\n\n		\n	\n[/vc_tta_section][/vc_tta_tabs][/vc_column][/vc_row][vc_row][vc_column width=”1/2″][vc_column_text]Huvudinstruktör:\nDag Wenström –  IshockeyPT.\nEn av Sveriges mest erfarna utvecklings instruktör med erfarenhet från jobb i Tyskland\, Schweiz\, Canada\, Norge\, Danmark och Polen med att varit delaktig i utvecklingen till NHL spelaren – Simon Edvinsson\, SHL –  John Dahlström\, SHL – Hampus Plato\, SHL – Linus Sjödin\, NHL – Daniel Steiner\, NLA – Flurin Rendeggar\, NLA – Thomas Wellinger mfl.[/vc_column_text][/vc_column][vc_column width=”1/2″][vc_single_image image=”19637″ img_size=”medium”][/vc_column][/vc_row]
URL:https://swetechockey.com/startsida/event/sportlov-sweden/
LOCATION:Österås ishall\, Hässleholm\, Hövdingsgatan 16\, Österås Ishall\, Hässleholm\, Sverige
CATEGORIES:Camper,MT Träning,PT Ishockey
ORGANIZER;CN="Swetec Hockey":MAILTO:info@swetechockeey.com
GEO:56.1466112;13.7803905
X-APPLE-STRUCTURED-LOCATION;VALUE=URI;X-ADDRESS=Österås ishall Hässleholm Hövdingsgatan 16 Österås Ishall Hässleholm Sverige;X-APPLE-RADIUS=500;X-TITLE=Hövdingsgatan 16:geo:13.7803905,56.1466112
END:VEVENT
BEGIN:VEVENT
DTSTART;TZID=Europe/Stockholm:20240226T080000
DTEND;TZID=Europe/Stockholm:20240228T150000
DTSTAMP:20260420T090006
CREATED:20230920T123643Z
LAST-MODIFIED:20230920T124202Z
UID:10001050-1708934400-1709132400@swetechockey.com
SUMMARY:Kongsvinger Skate&Skills Camp
DESCRIPTION:SKATE&SKILLS CAMP I NORGE\n\nVi är mycket tacksamma att kunna presentera ett samarbete med KONGSVINGER IK i Norge under 3 dagars från måndag till onsdag den 26/2 – 28/2\, vecka 9 2024 i Kongsvinger.  \n  \n\n\n\n\nOm Swetec Hockey:\nVi erbjuder utbildningar klubbarna en camp som är något extra i utbildningsdelen. Vi skapar bästa förutsättningarna för att bli ishockeyspelare\, för dig som vill ha en solid ishockeygrund att stå på\, för dig som vill ta sig vidare till nya nivåer i ett lite högre tempo. På SWETEC Hockey får du ta del av många års erfarenhet och framgångsrik spelarutveckling. Vi arbetar systematiskt och målmedvetet med att utbilda ishockeyspelare som vill nå den internationella toppklassen.\n \nVälkommen till SWETEC CLUB CAMP! \n  \n\n\n\n		\n	\n\n	\n		\n		\n			\n		\n	\nFaktaUppläggTEAM SWETECBeställ din tröja!Fakta\n	\n		\n			\n\nCampen innehåller: \n\nMax 40 spelare –  8 målvakter\n2 grupper med 20 spelare och 4 målvakter: Detta är för 2015 och äldre. Vi anpassar efter kunskap och ålder.\nPowerskating\, klubbteknik och kombiövningar för matchsituationer. Målvakts träning individuellt och i grupp. \n3 Ispass pr. dag och fys-pass\n\nDet är begränsat antal\, så ”först till kvarn”\nAnmälan på länken: Kommer snart \n\n\n		\n	\nUpplägg\n	\n		\n			Kommer senare \n\n		\n	\n\n	\n		\n			\n		\n	\nTEAM SWETEC\n	\n		\n			Dag Wenström/Ansvarig\nÖver 20 år erfarenhet så vet jag vad som krävs för att bli en riktigt duktig hockeyspelare. \nMed min evidens baserad kunskaper inom anatomi\, rörelselära och fysisk träning så vet jag hur övningarna påverkar dig till nästa nivå. \nKontakt: dagge@swetechockey.com \n  \n\n		\n	\nBeställ din tröja!\n	\n		\n			\n	\n\n\n			Välj alternativ	\n		Den här produkten har flera varianter. De olika alternativen kan väljas på produktsidan	\n\n	BE THE BEST\n	229.00kr\n\n\n	\n	REA\n			Välj alternativ	\n		Den här produkten har flera varianter. De olika alternativen kan väljas på produktsidan	\n\n	CCM Dryland Kit NAVY\n	199.00kr\n\n\n	\n	REA\n			Välj alternativ	\n		Den här produkten har flera varianter. De olika alternativen kan väljas på produktsidan	\n\n	CCM Dryland Kit RÖD\n	199.00kr\n\n\n	\n	REA\n			Välj alternativ	\n		Den här produkten har flera varianter. De olika alternativen kan väljas på produktsidan	\n\n	CCM Dryland Kit SVART\n	199.00kr\n\n\n			Välj alternativ	\n		Den här produkten har flera varianter. De olika alternativen kan väljas på produktsidan	\n\n	CCM T-SHIRT (R) SKATE & SKILLS\n	229.00kr\n\n\n			Välj alternativ	\n		Den här produkten har flera varianter. De olika alternativen kan väljas på produktsidan	\n\n	CCM T-shirt (S) Skate & Skills\n	229.00kr\n\n\n			Välj alternativ	\n		Den här produkten har flera varianter. De olika alternativen kan väljas på produktsidan	\n\n	CCM T-shirt Summarcamp\n	249.00kr\n\n\n			Välj alternativ	\n		Den här produkten har flera varianter. De olika alternativen kan väljas på produktsidan	\n\n	EAT\, SLEEP HOCKEY\n	229.00kr\n\n\n			Välj alternativ	\n		Den här produkten har flera varianter. De olika alternativen kan väljas på produktsidan	\n\n	EAT\, SLEEP HOCKEY – HOODIE\n	349.00kr\n\n\n	\n	REA\n			Välj alternativ	\n		Den här produkten har flera varianter. De olika alternativen kan väljas på produktsidan	\n\n	HOCKEYBOXEN\n	459.00kr Det ursprungliga priset var: 459.00kr.299.00krDet nuvarande priset är: 299.00kr.\n\n\n			Välj alternativ	\n		Den här produkten har flera varianter. De olika alternativen kan väljas på produktsidan	\n\n	Keps CCM Team Flexfit\n	229.00kr\n\n\n			Lägg till i varukorg	\n			\n\n	Keps CCM Team Snapback\n	229.00kr\n\n\n			Lägg till i varukorg	\n			\n\n	Mössa CCM Team Coffed\n	189.00kr\n\n\n			Lägg till i varukorg	\n			\n\n	Mössa CCM Team Pom Knit\n	189.00kr\n\n\n			Välj alternativ	\n		Den här produkten har flera varianter. De olika alternativen kan väljas på produktsidan	\n\n	SUMMERCAMP 25 – HOODIE\n	329.00kr\n\n\n			Lägg till i varukorg	\n			\n\n	Swetec Hockeyblock\n	129.00kr\n\n\n			Lägg till i varukorg	\n			\n\n	SWETEC HOCKEYBOXEN\n	495.00kr\n\n\n			Välj alternativ	\n		Den här produkten har flera varianter. De olika alternativen kan väljas på produktsidan	\n\n	T-SHIRT Summer Challenge\n	129.00kr\n\n\n			Välj alternativ	\n		Den här produkten har flera varianter. De olika alternativen kan väljas på produktsidan	\n\n	T-SHIRT Summercamp\n	129.00kr
URL:https://swetechockey.com/startsida/event/21646/
LOCATION:Kongsvinger Arena
CATEGORIES:Camper
ORGANIZER;CN="Dag Wenstr%C3%B6m":MAILTO:info@swetechockey.com
END:VEVENT
END:VCALENDAR