BEGIN:VCALENDAR
VERSION:2.0
PRODID:-//Swetechockey - ECPv6.15.20//NONSGML v1.0//EN
CALSCALE:GREGORIAN
METHOD:PUBLISH
X-ORIGINAL-URL:https://swetechockey.com/startsida
X-WR-CALDESC:Händelser för Swetechockey
REFRESH-INTERVAL;VALUE=DURATION:PT1H
X-Robots-Tag:noindex
X-PUBLISHED-TTL:PT1H
BEGIN:VTIMEZONE
TZID:Europe/Stockholm
BEGIN:DAYLIGHT
TZOFFSETFROM:+0100
TZOFFSETTO:+0200
TZNAME:CEST
DTSTART:20220327T010000
END:DAYLIGHT
BEGIN:STANDARD
TZOFFSETFROM:+0200
TZOFFSETTO:+0100
TZNAME:CET
DTSTART:20221030T010000
END:STANDARD
BEGIN:DAYLIGHT
TZOFFSETFROM:+0100
TZOFFSETTO:+0200
TZNAME:CEST
DTSTART:20230326T010000
END:DAYLIGHT
BEGIN:STANDARD
TZOFFSETFROM:+0200
TZOFFSETTO:+0100
TZNAME:CET
DTSTART:20231029T010000
END:STANDARD
BEGIN:DAYLIGHT
TZOFFSETFROM:+0100
TZOFFSETTO:+0200
TZNAME:CEST
DTSTART:20240331T010000
END:DAYLIGHT
BEGIN:STANDARD
TZOFFSETFROM:+0200
TZOFFSETTO:+0100
TZNAME:CET
DTSTART:20241027T010000
END:STANDARD
END:VTIMEZONE
BEGIN:VEVENT
DTSTART;TZID=Europe/Stockholm:20231015T180000
DTEND;TZID=Europe/Stockholm:20231019T140000
DTSTAMP:20260422T104012
CREATED:20230719T122058Z
LAST-MODIFIED:20230719T122614Z
UID:10000933-1697392800-1697724000@swetechockey.com
SUMMARY:HC PRÄTTIGAU/SCHWEIZ
DESCRIPTION:[vc_row column_spacing=”60″][vc_column width=”2/3″][vc_column_text css=”.vc_custom_1689769424358{margin-bottom: 60px !important;}”]\n\n \n\n\n\nHC PRÄTTIGAU HERRSCHAFT\n\nVi kan med stor glädje kungöra att SWETEC HOCKEY kommer att samarbeta med HC PRÄTTIGAU under säsongen 2023/2024.  \n\n\n\n\n  \n\nOm Swetec Hockey:\nSWETEC Hockey varit verksamma sedan 2001\, där konceptet är att utveckla spelarna att förstå som krävs för en prestation inom ishockey. På clubcamper jobbar vi med skate fundament\, kropps/skär kontroll\, motoriska skills med koordination i vår unika inlärning\, du skall även bli medveten om VARFÖR du gör det\, HUR det skall göras och NÄR det skall göras och ha roligt. \nVälkommen till SWETEC CLUB CAMP!\nDag Wenström/IshockeyPT \n\n\n\n\n[/vc_column_text][/vc_column][vc_column width=”1/3″][vc_empty_space][vc_single_image image=”21117″][/vc_column][/vc_row][vc_row][/vc_row][vc_column][/vc_column][vc_tta_tabs style=”outline” shape=”round” spacing=”10″ gap=”20″ active_section=”1″ no_fill_content_area=”true”][/vc_tta_tabs]
URL:https://swetechockey.com/startsida/event/hc-prattigau-schweiz/
LOCATION:Eishalle Grüsch\, Eishalle\, Grüsch\, 7214\, Schweiz
CATEGORIES:Camper
END:VEVENT
BEGIN:VEVENT
DTSTART;TZID=Europe/Stockholm:20231020T080000
DTEND;TZID=Europe/Stockholm:20231021T160000
DTSTAMP:20260422T104012
CREATED:20230719T125209Z
LAST-MODIFIED:20230719T125726Z
UID:10000935-1697788800-1697904000@swetechockey.com
SUMMARY:JETS SKATE&SKILLS CAMP
DESCRIPTION:[vc_row column_spacing=”60″][vc_column width=”2/3″][vc_column_text css=”.vc_custom_1689770646054{margin-bottom: 60px !important;}”]\n\n \n\n\n\nHÖSTFERIE – JEST SKATE&SKILLS CAMP \n\nVi kan med stor glädje kungöra att SWETEC HOCKEY kommer att deltaga på AMER JETS HÖSTFERIE CAMP den 20 – 21 oktober 2023.  \n\n\n\n\n  \nOm Swetec Hockey:\nSWETEC Hockey varit verksamma sedan 2001\, där konceptet är att utveckla spelarna att förstå som krävs för en prestation inom ishockey. På clubcamper jobbar vi med skate fundament\, kropps/skär kontroll\, motoriska skills med koordination i vår unika inlärning\, du skall även bli medveten om VARFÖR du gör det\, HUR det skall göras och NÄR det skall göras och ha roligt. \nVälkommen till SWETEC CLUB CAMP!\nDag Wenström/IshockeyPT \n\n\n\n\n[/vc_column_text][/vc_column][vc_column width=”1/3″][vc_single_image image=”21122″][/vc_column][/vc_row][vc_row][vc_column][vc_tta_tabs style=”outline” shape=”round” spacing=”10″ gap=”20″ active_section=”1″ no_fill_content_area=”true”][vc_tta_section title=”Fakta” tab_id=”1610186748077-dc34c960-76c7″][vc_column_text]\n\nPraktisk information:\nLejret vil være fra fredag till lørdag fra 08.00 – 16.00\nDeltagerne få: \n\nTo til tre ispass pr. dag\nEn barmarkspass pr. dag\nVarm frukost hver dag\nFrukt og mellommåltid\n\nCampen vil ha fokus på følgende læringsmomenter \n\nSpilleforståelse\nSkøjteteknikk\nStavteknikk\nSpillvarianter\n\n  \n\n[/vc_column_text][/vc_tta_section][vc_tta_section title=”TEAM SWETEC” tab_id=”1610186748168-0af2ee06-b9d8″][vc_column_text]Dag Wenström/Skate\nÖver 20 år erfarenhet så vet jag vad som krävs för att bli en riktigt duktig hockeyspelare. \nMed min evidens baserad kunskaper inom anatomi\, rörelselära och fysisk träning så vet jag hur övningarna påverkar dig till nästa nivå. \nKontakt: dagge@swetechockey.com \nMarcus Sjöstedt/Skills\nMånga års erfarenhet med tränare och verkat i Swetec i 2 år från Glimma Hockey. \n  \n  \n [/vc_column_text][/vc_tta_section][vc_tta_section title=”CLUB KONCEPTET” tab_id=”1685002154409-4b23dfa5-49bd”][vc_column_text]LÄS MER OM VÅRT CLUB KONCEPT\, tryck på logan.[/vc_column_text][vc_empty_space][vc_single_image image=”18783″ img_size=”200×200″ onclick=”custom_link” link=”http://media.swetechockey.com/2023/05/SWETEC_CLUB_CAMPS_info_Svenska-1.pdf”][/vc_tta_section][vc_tta_section title=”Beställ din tröja!” tab_id=”1610186748271-e58bb6a2-0c05″][vc_column_text]\n	\n\n\n			Välj alternativ	\n		Den här produkten har flera varianter. De olika alternativen kan väljas på produktsidan	\n\n	BE THE BEST\n	229.00kr\n\n\n	\n	REA\n			Välj alternativ	\n		Den här produkten har flera varianter. De olika alternativen kan väljas på produktsidan	\n\n	CCM Dryland Kit NAVY\n	199.00kr\n\n\n	\n	REA\n			Välj alternativ	\n		Den här produkten har flera varianter. De olika alternativen kan väljas på produktsidan	\n\n	CCM Dryland Kit RÖD\n	199.00kr\n\n\n	\n	REA\n			Välj alternativ	\n		Den här produkten har flera varianter. De olika alternativen kan väljas på produktsidan	\n\n	CCM Dryland Kit SVART\n	199.00kr\n\n\n			Välj alternativ	\n		Den här produkten har flera varianter. De olika alternativen kan väljas på produktsidan	\n\n	CCM T-SHIRT (R) SKATE & SKILLS\n	229.00kr\n\n\n			Välj alternativ	\n		Den här produkten har flera varianter. De olika alternativen kan väljas på produktsidan	\n\n	CCM T-shirt (S) Skate & Skills\n	229.00kr\n\n\n			Välj alternativ	\n		Den här produkten har flera varianter. De olika alternativen kan väljas på produktsidan	\n\n	CCM T-shirt Summarcamp\n	249.00kr\n\n\n			Välj alternativ	\n		Den här produkten har flera varianter. De olika alternativen kan väljas på produktsidan	\n\n	EAT\, SLEEP HOCKEY\n	229.00kr\n\n\n			Välj alternativ	\n		Den här produkten har flera varianter. De olika alternativen kan väljas på produktsidan	\n\n	EAT\, SLEEP HOCKEY – HOODIE\n	349.00kr\n\n\n	\n	REA\n			Välj alternativ	\n		Den här produkten har flera varianter. De olika alternativen kan väljas på produktsidan	\n\n	HOCKEYBOXEN\n	459.00kr Det ursprungliga priset var: 459.00kr.299.00krDet nuvarande priset är: 299.00kr.\n\n\n			Välj alternativ	\n		Den här produkten har flera varianter. De olika alternativen kan väljas på produktsidan	\n\n	Keps CCM Team Flexfit\n	229.00kr\n\n\n			Lägg till i varukorg	\n			\n\n	Keps CCM Team Snapback\n	229.00kr\n\n\n			Lägg till i varukorg	\n			\n\n	Mössa CCM Team Coffed\n	189.00kr\n\n\n			Lägg till i varukorg	\n			\n\n	Mössa CCM Team Pom Knit\n	189.00kr\n\n\n			Välj alternativ	\n		Den här produkten har flera varianter. De olika alternativen kan väljas på produktsidan	\n\n	SUMMERCAMP 25 – HOODIE\n	329.00kr\n\n\n			Lägg till i varukorg	\n			\n\n	Swetec Hockeyblock\n	129.00kr\n\n\n			Lägg till i varukorg	\n			\n\n	SWETEC HOCKEYBOXEN\n	495.00kr\n\n\n			Välj alternativ	\n		Den här produkten har flera varianter. De olika alternativen kan väljas på produktsidan	\n\n	T-SHIRT Summer Challenge\n	129.00kr\n\n\n			Välj alternativ	\n		Den här produkten har flera varianter. De olika alternativen kan väljas på produktsidan	\n\n	T-SHIRT Summercamp\n	129.00kr\n\n\n[/vc_column_text][/vc_tta_section][/vc_tta_tabs][/vc_column][/vc_row]
URL:https://swetechockey.com/startsida/event/amar-jets-skateskills-camp/
LOCATION:Kastrup Skøjtehal\, Røllikevej 1\, Kastrup\, 2770\, Danmark
CATEGORIES:Camper
ORGANIZER;CN="Dag Wenstr%C3%B6m":MAILTO:info@swetechockey.com
END:VEVENT
BEGIN:VEVENT
DTSTART;TZID=Europe/Stockholm:20231022T080000
DTEND;TZID=Europe/Stockholm:20231022T133000
DTSTAMP:20260422T104012
CREATED:20230726T162609Z
LAST-MODIFIED:20231021T052330Z
UID:10000941-1697961600-1697981400@swetechockey.com
SUMMARY:D-CAMP 1
DESCRIPTION:[vc_row column_spacing=”60″][vc_column width=”2/3″][vc_column_text css=”.vc_custom_1697865707032{margin-bottom: 60px !important;}”]\nD-SKILLS CAMP I HÄSSLEHOLM\n1 dags camp\, med fokus på din individuella utveckling. Att spela BACK kräver skridsko skicklighet\, spelförståelse och mod. BACK SKILLS CAMP\, där vi fokusera på att utmana och stimulera dig med backspecifika övningar med skridskoåkningen\, rörlighet och kontroll står i centrum. Ta chansen att lyfta ditt backspel till nästa nivå. \nTIPS! Träna HOCKEYFIT\, boka din träning ONLINE. \n\n  \n\n[/vc_column_text][/vc_column][vc_column width=”1/3″][vc_empty_space height=”52px”][vc_single_image image=”21708″ img_size=”medium”][/vc_column][/vc_row][vc_row][vc_column][vc_tta_tabs style=”outline” shape=”round” spacing=”10″ gap=”20″ active_section=”1″ no_fill_content_area=”true”][vc_tta_section title=”Fakta” tab_id=”1610186748077-dc34c960-76c7″][vc_column_text]Plats: Österås Ishall/Hässleholm\nDatum: 22 oktober 2023\nMat: INGÅR EJ\, Ta med egen mat + mellis\nBoende: ingår inte\nPlatser:  16 platser (individuell utb.)\nSpelare: födda 2012 och äldre\nPris: 1395kr [/vc_column_text][/vc_tta_section][vc_tta_section title=”Mattips” tab_id=”1659433409399-3d7b59cf-1ae6″][vc_column_text]Mat ingår ej i campen. \nTips är att ta med enkel mat så blir lättare för kroppen att ta upp maten. \n\nDrickyogurt\nFrukt\nLättare sallad\nDryck med magnesium\n\n[/vc_column_text][/vc_tta_section][vc_tta_section title=”Upplägg” tab_id=”1610186748120-0d25c2e3-697b”][vc_column_text]SCHEMA i HÄSSLEHOLM \n08.00 samling omkl. 2\n08.05 Genomgång av campen\n09.00 – 10.15 Ispass 1\n10.15 – 10.30 Spolning/Vila\n10.30 – 11.45 Ispass 2\n11.45 – 12.15 Spolning/Vila\n12.15 – 13.30 Ispass 3\n13.45 – 14.00 Avslutning \nTack för idag![/vc_column_text][/vc_tta_section][vc_tta_section title=”Ledare” tab_id=”1610186748168-0af2ee06-b9d8″][vc_column_text]Dag Wenström.\nÖver 20 år erfarenhet så vet jag vad som krävs för att bli en riktigt duktig hockeyspelare. \nMed min evidens baserad kunskaper inom anatomi\, rörelselära och fysisk träning så vet jag hur övningarna påverkar dig till nästa nivå. \nKontakt: dagge@swetechockey.com[/vc_column_text][/vc_tta_section][vc_tta_section title=”Winnerhead” tab_id=”1659434057433-4c00eea7-5780″][vc_column_text]Winnerhead \nVi jobbar med Winnerhead\, här skickar vi info inför campen till er och samlar filmer och ni kan få analyserad filmer med feedback (Kostar 399 kr) Vi bjuder in er senast 5 dagar innan så kolla eran mail för att inte missa något. \n\nSamlar dina videos från camperna\nResultat\nAnalyser m.m\n\n[/vc_column_text][/vc_tta_section][vc_tta_section title=”Beställ i Shopen!” tab_id=”1610186748271-e58bb6a2-0c05″][vc_column_text]\n	\n\n\n			Välj alternativ	\n		Den här produkten har flera varianter. De olika alternativen kan väljas på produktsidan	\n\n	BE THE BEST\n	229.00kr\n\n\n	\n	REA\n			Välj alternativ	\n		Den här produkten har flera varianter. De olika alternativen kan väljas på produktsidan	\n\n	CCM Dryland Kit NAVY\n	199.00kr\n\n\n	\n	REA\n			Välj alternativ	\n		Den här produkten har flera varianter. De olika alternativen kan väljas på produktsidan	\n\n	CCM Dryland Kit RÖD\n	199.00kr\n\n\n	\n	REA\n			Välj alternativ	\n		Den här produkten har flera varianter. De olika alternativen kan väljas på produktsidan	\n\n	CCM Dryland Kit SVART\n	199.00kr\n\n\n			Välj alternativ	\n		Den här produkten har flera varianter. De olika alternativen kan väljas på produktsidan	\n\n	CCM T-SHIRT (R) SKATE & SKILLS\n	229.00kr\n\n\n			Välj alternativ	\n		Den här produkten har flera varianter. De olika alternativen kan väljas på produktsidan	\n\n	CCM T-shirt (S) Skate & Skills\n	229.00kr\n\n\n			Välj alternativ	\n		Den här produkten har flera varianter. De olika alternativen kan väljas på produktsidan	\n\n	CCM T-shirt Summarcamp\n	249.00kr\n\n\n			Välj alternativ	\n		Den här produkten har flera varianter. De olika alternativen kan väljas på produktsidan	\n\n	EAT\, SLEEP HOCKEY\n	229.00kr\n\n\n			Välj alternativ	\n		Den här produkten har flera varianter. De olika alternativen kan väljas på produktsidan	\n\n	EAT\, SLEEP HOCKEY – HOODIE\n	349.00kr\n\n\n	\n	REA\n			Välj alternativ	\n		Den här produkten har flera varianter. De olika alternativen kan väljas på produktsidan	\n\n	HOCKEYBOXEN\n	459.00kr Det ursprungliga priset var: 459.00kr.299.00krDet nuvarande priset är: 299.00kr.\n\n\n			Välj alternativ	\n		Den här produkten har flera varianter. De olika alternativen kan väljas på produktsidan	\n\n	Keps CCM Team Flexfit\n	229.00kr\n\n\n			Lägg till i varukorg	\n			\n\n	Keps CCM Team Snapback\n	229.00kr\n\n\n			Lägg till i varukorg	\n			\n\n	Mössa CCM Team Coffed\n	189.00kr\n\n\n			Lägg till i varukorg	\n			\n\n	Mössa CCM Team Pom Knit\n	189.00kr\n\n\n			Välj alternativ	\n		Den här produkten har flera varianter. De olika alternativen kan väljas på produktsidan	\n\n	SUMMERCAMP 25 – HOODIE\n	329.00kr\n\n\n			Lägg till i varukorg	\n			\n\n	Swetec Hockeyblock\n	129.00kr\n\n\n			Lägg till i varukorg	\n			\n\n	SWETEC HOCKEYBOXEN\n	495.00kr\n\n\n			Välj alternativ	\n		Den här produkten har flera varianter. De olika alternativen kan väljas på produktsidan	\n\n	T-SHIRT Summer Challenge\n	129.00kr\n\n\n			Välj alternativ	\n		Den här produkten har flera varianter. De olika alternativen kan väljas på produktsidan	\n\n	T-SHIRT Summercamp\n	129.00kr\n\n\n[/vc_column_text][/vc_tta_section][vc_tta_section title=”Bokningsregler” tab_id=”1610186748216-26c667d8-2c9c”]\n	\n		\n			Bokningen är bindande och skall betalas direkt via PAYPAL. \nFör Privat (1 – 2 tim) gäller:\n\nVid avbokning (3) dygn innan campstart behålls hela avgiften.\n\nFör 1 – 2 dagarscamper gäller:\n\nVid avbokning 5 dygn innan campstart behålls hela avgiften.\n\nFör Sommar Challenge gäller:\n\nÅterbud fram till 30 april förbehåller vi oss som arrangör rätten att behålla 900 SEK för admin.kostnader\nAvbokning från den 1 april till 30 juni återbetalas halva avgiften mot uppvisning av läkarintyg som styrker oförmåga att deltaga.\n- Inget läkarintyg\, ingen återbetalas av inbetald avgift.\nEfter 1 juli behålls hela avgiften\, även vid evt. skada/sjukdom under campen\, ingen återbetalning.\n\n\n		\n	\n[/vc_tta_section][/vc_tta_tabs][/vc_column][/vc_row][vc_row][vc_column width=”1/2″][vc_column_text]Huvudinstruktör:\nDag Wenström –  IshockeyPT.\nEn av Sveriges mest erfarna utvecklings instruktör med erfarenhet från jobb i Tyskland\, Schweiz\, Canada\, Norge\, Danmark och Polen med att varit delaktig i utvecklingen till NHL spelaren – Simon Edvinsson\, SHL –  John Dahlström\, SHL – Hampus Plato\, SHL – Linus Sjödin\, NHL – Daniel Steiner\, NLA – Flurin Rendeggar\, NLA – Thomas Wellinger mfl.[/vc_column_text][/vc_column][vc_column width=”1/2″][vc_single_image image=”21314″ img_size=”300×200″][/vc_column][/vc_row]
URL:https://swetechockey.com/startsida/event/d-camp-1/
LOCATION:Österås ishall\, Hässleholm\, Hövdingsgatan 16\, Österås Ishall\, Hässleholm\, Sverige
CATEGORIES:Camper
ORGANIZER;CN="Dag Wenstr%C3%B6m":MAILTO:info@swetechockey.com
GEO:56.1466112;13.7803905
X-APPLE-STRUCTURED-LOCATION;VALUE=URI;X-ADDRESS=Österås ishall Hässleholm Hövdingsgatan 16 Österås Ishall Hässleholm Sverige;X-APPLE-RADIUS=500;X-TITLE=Hövdingsgatan 16:geo:13.7803905,56.1466112
END:VEVENT
END:VCALENDAR