BEGIN:VCALENDAR
VERSION:2.0
PRODID:-//Swetechockey - ECPv6.15.20//NONSGML v1.0//EN
CALSCALE:GREGORIAN
METHOD:PUBLISH
X-ORIGINAL-URL:https://swetechockey.com/startsida
X-WR-CALDESC:Händelser för Swetechockey
REFRESH-INTERVAL;VALUE=DURATION:PT1H
X-Robots-Tag:noindex
X-PUBLISHED-TTL:PT1H
BEGIN:VTIMEZONE
TZID:Europe/Stockholm
BEGIN:DAYLIGHT
TZOFFSETFROM:+0100
TZOFFSETTO:+0200
TZNAME:CEST
DTSTART:20220327T010000
END:DAYLIGHT
BEGIN:STANDARD
TZOFFSETFROM:+0200
TZOFFSETTO:+0100
TZNAME:CET
DTSTART:20221030T010000
END:STANDARD
BEGIN:DAYLIGHT
TZOFFSETFROM:+0100
TZOFFSETTO:+0200
TZNAME:CEST
DTSTART:20230326T010000
END:DAYLIGHT
BEGIN:STANDARD
TZOFFSETFROM:+0200
TZOFFSETTO:+0100
TZNAME:CET
DTSTART:20231029T010000
END:STANDARD
BEGIN:DAYLIGHT
TZOFFSETFROM:+0100
TZOFFSETTO:+0200
TZNAME:CEST
DTSTART:20240331T010000
END:DAYLIGHT
BEGIN:STANDARD
TZOFFSETFROM:+0200
TZOFFSETTO:+0100
TZNAME:CET
DTSTART:20241027T010000
END:STANDARD
END:VTIMEZONE
BEGIN:VEVENT
DTSTART;TZID=Europe/Stockholm:20230604T090000
DTEND;TZID=Europe/Stockholm:20230604T133000
DTSTAMP:20260422T174125
CREATED:20230314T132301Z
LAST-MODIFIED:20230602T081031Z
UID:10001042-1685869200-1685885400@swetechockey.com
SUMMARY:PEAK HOCKEY CAMP
DESCRIPTION:[vc_row column_spacing=”60″][vc_column width=”2/3″][vc_column_text css=”.vc_custom_1685693119028{margin-bottom: 60px !important;}”]\nPEAK HOCKEY CAMP 2023\n1 dags camp\, i mars där vi kommer ”gnugga” SKATING & SKILLS med tre ispass 75 min per/pass. Vi kommer ha hjälpmedel som Tagtimer med tester mm och ha fokus på din utveckling. \nEn viktig del i Swetec Hockey program är –  skate fundament\, kropps/skär kontroll\, motoriska skills med koordination i vår unika inlärning\, du skall även bli medveten om VARFÖR du gör det\, HUR det skall göras och NÄR det skall göras. Vi vänder oss till alla hög motiverade spelare som vill utveckla sig för framtiden prestationer. \n\nINFÖR CAMPEN!\nOm ni vill ha alla information så kolla PDF.Filen på inför campen. Där har ni all info som ni skall tänka på . Välkomna till en dagen med utveckling.  \n\n[/vc_column_text][/vc_column][vc_column width=”1/3″][vc_empty_space][vc_empty_space][vc_single_image image=”17717″ img_size=”medium”][vc_single_image image=”14837″ onclick=”custom_link” link=”http://media.swetechockey.com/2023/05/PEAKHOCKEYCAMP_23.pdf”][/vc_column][/vc_row][vc_row][vc_column][vc_tta_tabs style=”outline” shape=”round” spacing=”10″ gap=”20″ active_section=”1″ no_fill_content_area=”true”][vc_tta_section title=”Fakta” tab_id=”1610186748077-dc34c960-76c7″][vc_column_text]Plats: Swetec Crossfit/Kristianstad – Tyrshov/Tyringe\nDatum: 4 juni 2023\nMat: INGÅR EJ\, Ta med egen mat + mellis\nBoende: ingår inte\nPlatser:  12 platser (individuell utb.)\nSpelare: födda 2011 och äldre\nPris: 1495kr[/vc_column_text][/vc_tta_section][vc_tta_section title=”Mattips” tab_id=”1659433409399-3d7b59cf-1ae6″][vc_column_text]Mat ingår ej i campen. \nTips är att ta med enkel mat så blir lättare för kroppen att ta upp maten. \n\nDrickyogurt\nFrukt\nLättare sallad\nDryck med magnesium\n\n[/vc_column_text][/vc_tta_section][vc_tta_section title=”Upplägg” tab_id=”1610186748120-0d25c2e3-697b”][vc_column_text]DAGSSCHEMA \n08.00 samling omkl. 1-2\n08.05 Genomgång av campen\n08.25 – 08.40 Rörlighet\n09.00 – 10.15 Ispass 1\n10.15 – 10.30 Spolning/Vila\n10.30 – 11.45 Ispass 2\n11.45 – 12.15 Spolning/Vila\n12.15 – 13.30 Ispass 3\n13.45 – 14.00 Avslutning \nTack för CAMPEN![/vc_column_text][/vc_tta_section][vc_tta_section title=”Ledare” tab_id=”1610186748168-0af2ee06-b9d8″][vc_column_text]Dag Wenström.\nÖver 20 år erfarenhet så vet jag vad som krävs för att bli en riktigt duktig hockeyspelare. \nMed min evidens baserad kunskaper inom anatomi\, rörelselära och fysisk träning så vet jag hur övningarna påverkar dig till nästa nivå. \nKontakt: dagge@swetechockey.com[/vc_column_text][/vc_tta_section][vc_tta_section title=”Winnerhead” tab_id=”1659434057433-4c00eea7-5780″][vc_column_text]WINNERHEAD \nVi använder analys verktyget Winnerhead\, här får du info inför campen samt filmer på DIG. (Kostar 399 kr) Vi bjuder in er ca 2-3 dagar innan så kolla eran mail för att inte missa något. \n\nVideos från camperna\nResultat\nTips med feedback m.m\n\n[/vc_column_text][/vc_tta_section][vc_tta_section title=”Beställ i Shopen!” tab_id=”1610186748271-e58bb6a2-0c05″][vc_column_text]\n	\n\n\n			Välj alternativ	\n		Den här produkten har flera varianter. De olika alternativen kan väljas på produktsidan	\n\n	BE THE BEST\n	229.00kr\n\n\n	\n	REA\n			Välj alternativ	\n		Den här produkten har flera varianter. De olika alternativen kan väljas på produktsidan	\n\n	CCM Dryland Kit NAVY\n	199.00kr\n\n\n	\n	REA\n			Välj alternativ	\n		Den här produkten har flera varianter. De olika alternativen kan väljas på produktsidan	\n\n	CCM Dryland Kit RÖD\n	199.00kr\n\n\n	\n	REA\n			Välj alternativ	\n		Den här produkten har flera varianter. De olika alternativen kan väljas på produktsidan	\n\n	CCM Dryland Kit SVART\n	199.00kr\n\n\n			Välj alternativ	\n		Den här produkten har flera varianter. De olika alternativen kan väljas på produktsidan	\n\n	CCM T-SHIRT (R) SKATE & SKILLS\n	229.00kr\n\n\n			Välj alternativ	\n		Den här produkten har flera varianter. De olika alternativen kan väljas på produktsidan	\n\n	CCM T-shirt (S) Skate & Skills\n	229.00kr\n\n\n			Välj alternativ	\n		Den här produkten har flera varianter. De olika alternativen kan väljas på produktsidan	\n\n	CCM T-shirt Summarcamp\n	249.00kr\n\n\n			Välj alternativ	\n		Den här produkten har flera varianter. De olika alternativen kan väljas på produktsidan	\n\n	EAT\, SLEEP HOCKEY\n	229.00kr\n\n\n			Välj alternativ	\n		Den här produkten har flera varianter. De olika alternativen kan väljas på produktsidan	\n\n	EAT\, SLEEP HOCKEY – HOODIE\n	349.00kr\n\n\n	\n	REA\n			Välj alternativ	\n		Den här produkten har flera varianter. De olika alternativen kan väljas på produktsidan	\n\n	HOCKEYBOXEN\n	459.00kr Det ursprungliga priset var: 459.00kr.299.00krDet nuvarande priset är: 299.00kr.\n\n\n			Välj alternativ	\n		Den här produkten har flera varianter. De olika alternativen kan väljas på produktsidan	\n\n	Keps CCM Team Flexfit\n	229.00kr\n\n\n			Lägg till i varukorg	\n			\n\n	Keps CCM Team Snapback\n	229.00kr\n\n\n			Lägg till i varukorg	\n			\n\n	Mössa CCM Team Coffed\n	189.00kr\n\n\n			Lägg till i varukorg	\n			\n\n	Mössa CCM Team Pom Knit\n	189.00kr\n\n\n			Välj alternativ	\n		Den här produkten har flera varianter. De olika alternativen kan väljas på produktsidan	\n\n	SUMMERCAMP 25 – HOODIE\n	329.00kr\n\n\n			Lägg till i varukorg	\n			\n\n	Swetec Hockeyblock\n	129.00kr\n\n\n			Lägg till i varukorg	\n			\n\n	SWETEC HOCKEYBOXEN\n	495.00kr\n\n\n			Välj alternativ	\n		Den här produkten har flera varianter. De olika alternativen kan väljas på produktsidan	\n\n	T-SHIRT Summer Challenge\n	129.00kr\n\n\n			Välj alternativ	\n		Den här produkten har flera varianter. De olika alternativen kan väljas på produktsidan	\n\n	T-SHIRT Summercamp\n	129.00kr\n\n\n[/vc_column_text][/vc_tta_section][vc_tta_section title=”Bokningsregler” tab_id=”1610186748216-26c667d8-2c9c”]\n	\n		\n			Bokningen är bindande och skall betalas direkt via PAYPAL. \nFör Privat (1 – 2 tim) gäller:\n\nVid avbokning (3) dygn innan campstart behålls hela avgiften.\n\nFör 1 – 2 dagarscamper gäller:\n\nVid avbokning 5 dygn innan campstart behålls hela avgiften.\n\nFör Sommar Challenge gäller:\n\nÅterbud fram till 30 april förbehåller vi oss som arrangör rätten att behålla 900 SEK för admin.kostnader\nAvbokning från den 1 april till 30 juni återbetalas halva avgiften mot uppvisning av läkarintyg som styrker oförmåga att deltaga.\n- Inget läkarintyg\, ingen återbetalas av inbetald avgift.\nEfter 1 juli behålls hela avgiften\, även vid evt. skada/sjukdom under campen\, ingen återbetalning.\n\n\n		\n	\n[/vc_tta_section][/vc_tta_tabs][/vc_column][/vc_row][vc_row][vc_column width=”1/2″][vc_column_text]Huvudinstruktör:\nDag Wenström –  IshockeyPT.\nEn av Sveriges mest erfarna utvecklings instruktör med erfarenhet från jobb i Tyskland\, Schweiz\, Canada\, Norge\, Danmark och Polen med att varit delaktig i utvecklingen till NHL spelaren – Simon Edvinsson\, SHL –  John Dahlström\, SHL – Hampus Plato\, SHL – Linus Sjödin\, NHL – Daniel Steiner\, NLA – Flurin Rendeggar\, NLA – Thomas Wellinger mfl.[/vc_column_text][/vc_column][vc_column width=”1/2″][vc_single_image image=”18656″ img_size=”medium”][/vc_column][/vc_row]
URL:https://swetechockey.com/startsida/event/peak-hockey-camp/
LOCATION:Tyrshovs Ishall\, Tyringe\, Paradisgatan 32\, Tyringe\, 28232\, Sverige
CATEGORIES:Camper
ORGANIZER;CN="Dag Wenstr%C3%B6m":MAILTO:info@swetechockey.com
GEO:56.1543512;13.6042833
X-APPLE-STRUCTURED-LOCATION;VALUE=URI;X-ADDRESS=Tyrshovs Ishall Tyringe Paradisgatan 32 Tyringe 28232 Sverige;X-APPLE-RADIUS=500;X-TITLE=Paradisgatan 32:geo:13.6042833,56.1543512
END:VEVENT
BEGIN:VEVENT
DTSTART;VALUE=DATE:20230611
DTEND;VALUE=DATE:20230627
DTSTAMP:20260422T174125
CREATED:20230606T184949Z
LAST-MODIFIED:20230606T184949Z
UID:10001048-1686441600-1687823999@swetechockey.com
SUMMARY:Semester Stängt
DESCRIPTION:Vi håller semester stängt från 11/6 – 26/6.\nHörs den 27/6. \nOm det är något maila: info@swetechockey.com
URL:https://swetechockey.com/startsida/event/semester-stangt/
LOCATION:Torreveja\, Spanien
CATEGORIES:Camper
ORGANIZER;CN="Dag Wenstr%C3%B6m":MAILTO:info@swetechockey.com
END:VEVENT
END:VCALENDAR