BEGIN:VCALENDAR
VERSION:2.0
PRODID:-//Swetechockey - ECPv6.15.20//NONSGML v1.0//EN
CALSCALE:GREGORIAN
METHOD:PUBLISH
X-ORIGINAL-URL:https://swetechockey.com/startsida
X-WR-CALDESC:Händelser för Swetechockey
REFRESH-INTERVAL;VALUE=DURATION:PT1H
X-Robots-Tag:noindex
X-PUBLISHED-TTL:PT1H
BEGIN:VTIMEZONE
TZID:Europe/Stockholm
BEGIN:DAYLIGHT
TZOFFSETFROM:+0100
TZOFFSETTO:+0200
TZNAME:CEST
DTSTART:20220327T010000
END:DAYLIGHT
BEGIN:STANDARD
TZOFFSETFROM:+0200
TZOFFSETTO:+0100
TZNAME:CET
DTSTART:20221030T010000
END:STANDARD
BEGIN:DAYLIGHT
TZOFFSETFROM:+0100
TZOFFSETTO:+0200
TZNAME:CEST
DTSTART:20230326T010000
END:DAYLIGHT
BEGIN:STANDARD
TZOFFSETFROM:+0200
TZOFFSETTO:+0100
TZNAME:CET
DTSTART:20231029T010000
END:STANDARD
BEGIN:DAYLIGHT
TZOFFSETFROM:+0100
TZOFFSETTO:+0200
TZNAME:CEST
DTSTART:20240331T010000
END:DAYLIGHT
BEGIN:STANDARD
TZOFFSETFROM:+0200
TZOFFSETTO:+0100
TZNAME:CET
DTSTART:20241027T010000
END:STANDARD
END:VTIMEZONE
BEGIN:VEVENT
DTSTART;TZID=Europe/Stockholm:20230423T090000
DTEND;TZID=Europe/Stockholm:20230423T143000
DTSTAMP:20260422T205513
CREATED:20221226T224653Z
LAST-MODIFIED:20230329T115358Z
UID:10001021-1682240400-1682260200@swetechockey.com
SUMMARY:PRESEASON 1
DESCRIPTION:[vc_row column_spacing=”60″][vc_column width=”2/3″][vc_column_text css=”.vc_custom_1680090825188{margin-bottom: 60px !important;}”]\nFÖRSÄSONG – HOCKEYFYS\nEfter 9 års framgångsrikt arbete inom fysträning av hockeyspelare kan vi nu erbjuda träningsupplägg för hockeyspelare under sommaruppehåll. \n\nFÖRSÄSONG innebär:\n\n1 dagar i månaden (april\, maj\, juni\, juli\, augusti)\nTeori i träningslära och kost.\nFystester\, se din fysiska status och personliga coachning via appen.\nOnline-träning\, köps vid sidan eller om redan har. (Ingår ej\, köp XFIT ONLINE.)\n1 iscamper under juni \n\n\n\n[/vc_column_text][/vc_column][vc_column width=”1/3″][vc_single_image image=”17214″][vc_column_text]\nLäs mer på Dagges egen hemsida www.xfittraining.se \n[/vc_column_text][/vc_column][/vc_row][vc_row][vc_column][vc_tta_tabs style=”outline” shape=”round” spacing=”10″ gap=”20″ active_section=”1″ no_fill_content_area=”true”][vc_tta_section title=”Fakta” tab_id=”1610186748077-dc34c960-76c7″][vc_column_text]Grupp: 12 personer (minst antalet 4 st)\nÅlder: Födda 03-10.\nTid: kl. 09.00 –  ca 14:30\nPlats: Swetec Superb Crossfit anläggning\nDatum: 23/4\, 21/5\, \, Iscamp 4/6\, 30/7\, 20/8\nMat: ingår lunch/mellis på camperna på Swetec. \nBetalning via  \nPRIS: 1499 kr per/gång ( Om betalar hela 7495 sek)\nGår dela upp betalningen med 1599:- mån x 5 (7995 Sek)[/vc_column_text][/vc_tta_section][vc_tta_section title=”Upplägg” tab_id=”1610186748120-0d25c2e3-697b”][vc_column_text]Söndag på SWETEC Superb Crossfit   \n09.00 samling/Genomgång\n10.00 – 12.00 Fystester\n12.00-12.30 Lunch\n12.30 – 13.00 Teori\n13.00 – 14.00 Fysträning\nca 14. 30 Avsluta. \nOBS! Det kommer tider för varje gång så kan vara ändringar. [/vc_column_text][/vc_tta_section][vc_tta_section title=”Ledare” tab_id=”1610186748168-0af2ee06-b9d8″][vc_column_text]Dag Wenström.\nÖver 20 år erfarenhet så vet jag vad som krävs för att bli en riktigt duktig hockeyspelare. \nMed min evidens baserad kunskaper inom anatomi\, rörelselära och fysisk träning så vet jag hur övningarna påverkar dig till nästa nivå. \nKontakt: dagge@swetechockey.com[/vc_column_text][/vc_tta_section][vc_tta_section title=”Bokningsregler” tab_id=”1610186748216-26c667d8-2c9c”]\n	\n		\n			Bokningen är bindande och skall betalas direkt via PAYPAL. \nFör Privat (1 – 2 tim) gäller:\n\nVid avbokning (3) dygn innan campstart behålls hela avgiften.\n\nFör 1 – 2 dagarscamper gäller:\n\nVid avbokning 5 dygn innan campstart behålls hela avgiften.\n\nFör Sommar Challenge gäller:\n\nÅterbud fram till 30 april förbehåller vi oss som arrangör rätten att behålla 900 SEK för admin.kostnader\nAvbokning från den 1 april till 30 juni återbetalas halva avgiften mot uppvisning av läkarintyg som styrker oförmåga att deltaga.\n- Inget läkarintyg\, ingen återbetalas av inbetald avgift.\nEfter 1 juli behålls hela avgiften\, även vid evt. skada/sjukdom under campen\, ingen återbetalning.\n\n\n		\n	\n[/vc_tta_section][vc_tta_section title=”Beställ din tröja!” tab_id=”1610186748271-e58bb6a2-0c05″][vc_column_text]\n	\n\n\n			Välj alternativ	\n		Den här produkten har flera varianter. De olika alternativen kan väljas på produktsidan	\n\n	BE THE BEST\n	229.00kr\n\n\n	\n	REA\n			Välj alternativ	\n		Den här produkten har flera varianter. De olika alternativen kan väljas på produktsidan	\n\n	CCM Dryland Kit NAVY\n	199.00kr\n\n\n	\n	REA\n			Välj alternativ	\n		Den här produkten har flera varianter. De olika alternativen kan väljas på produktsidan	\n\n	CCM Dryland Kit RÖD\n	199.00kr\n\n\n	\n	REA\n			Välj alternativ	\n		Den här produkten har flera varianter. De olika alternativen kan väljas på produktsidan	\n\n	CCM Dryland Kit SVART\n	199.00kr\n\n\n			Välj alternativ	\n		Den här produkten har flera varianter. De olika alternativen kan väljas på produktsidan	\n\n	CCM T-SHIRT (R) SKATE & SKILLS\n	229.00kr\n\n\n			Välj alternativ	\n		Den här produkten har flera varianter. De olika alternativen kan väljas på produktsidan	\n\n	CCM T-shirt (S) Skate & Skills\n	229.00kr\n\n\n			Välj alternativ	\n		Den här produkten har flera varianter. De olika alternativen kan väljas på produktsidan	\n\n	CCM T-shirt Summarcamp\n	249.00kr\n\n\n			Välj alternativ	\n		Den här produkten har flera varianter. De olika alternativen kan väljas på produktsidan	\n\n	EAT\, SLEEP HOCKEY\n	229.00kr\n\n\n			Välj alternativ	\n		Den här produkten har flera varianter. De olika alternativen kan väljas på produktsidan	\n\n	EAT\, SLEEP HOCKEY – HOODIE\n	349.00kr\n\n\n	\n	REA\n			Välj alternativ	\n		Den här produkten har flera varianter. De olika alternativen kan väljas på produktsidan	\n\n	HOCKEYBOXEN\n	459.00kr Det ursprungliga priset var: 459.00kr.299.00krDet nuvarande priset är: 299.00kr.\n\n\n			Välj alternativ	\n		Den här produkten har flera varianter. De olika alternativen kan väljas på produktsidan	\n\n	Keps CCM Team Flexfit\n	229.00kr\n\n\n			Lägg till i varukorg	\n			\n\n	Keps CCM Team Snapback\n	229.00kr\n\n\n			Lägg till i varukorg	\n			\n\n	Mössa CCM Team Coffed\n	189.00kr\n\n\n			Lägg till i varukorg	\n			\n\n	Mössa CCM Team Pom Knit\n	189.00kr\n\n\n			Välj alternativ	\n		Den här produkten har flera varianter. De olika alternativen kan väljas på produktsidan	\n\n	SUMMERCAMP 25 – HOODIE\n	329.00kr\n\n\n			Lägg till i varukorg	\n			\n\n	Swetec Hockeyblock\n	129.00kr\n\n\n			Lägg till i varukorg	\n			\n\n	SWETEC HOCKEYBOXEN\n	495.00kr\n\n\n			Välj alternativ	\n		Den här produkten har flera varianter. De olika alternativen kan väljas på produktsidan	\n\n	T-SHIRT Summer Challenge\n	129.00kr\n\n\n			Välj alternativ	\n		Den här produkten har flera varianter. De olika alternativen kan väljas på produktsidan	\n\n	T-SHIRT Summercamp\n	129.00kr\n\n\n[/vc_column_text][/vc_tta_section][/vc_tta_tabs][/vc_column][/vc_row]
URL:https://swetechockey.com/startsida/event/preseason-1/
LOCATION:Swetec Superb Crossfit\, Estridsväg 7B\, Kristianstad\, Skåne\, 29165\, Sverige
CATEGORIES:Camper,MT Träning
ORGANIZER;CN="Dag Wenstr%C3%B6m":MAILTO:info@swetechockey.com
END:VEVENT
END:VCALENDAR