BEGIN:VCALENDAR
VERSION:2.0
PRODID:-//Swetechockey - ECPv6.15.20//NONSGML v1.0//EN
CALSCALE:GREGORIAN
METHOD:PUBLISH
X-ORIGINAL-URL:https://swetechockey.com/startsida
X-WR-CALDESC:Händelser för Swetechockey
REFRESH-INTERVAL;VALUE=DURATION:PT1H
X-Robots-Tag:noindex
X-PUBLISHED-TTL:PT1H
BEGIN:VTIMEZONE
TZID:Europe/Stockholm
BEGIN:DAYLIGHT
TZOFFSETFROM:+0100
TZOFFSETTO:+0200
TZNAME:CEST
DTSTART:20210328T010000
END:DAYLIGHT
BEGIN:STANDARD
TZOFFSETFROM:+0200
TZOFFSETTO:+0100
TZNAME:CET
DTSTART:20211031T010000
END:STANDARD
BEGIN:DAYLIGHT
TZOFFSETFROM:+0100
TZOFFSETTO:+0200
TZNAME:CEST
DTSTART:20220327T010000
END:DAYLIGHT
BEGIN:STANDARD
TZOFFSETFROM:+0200
TZOFFSETTO:+0100
TZNAME:CET
DTSTART:20221030T010000
END:STANDARD
BEGIN:DAYLIGHT
TZOFFSETFROM:+0100
TZOFFSETTO:+0200
TZNAME:CEST
DTSTART:20230326T010000
END:DAYLIGHT
BEGIN:STANDARD
TZOFFSETFROM:+0200
TZOFFSETTO:+0100
TZNAME:CET
DTSTART:20231029T010000
END:STANDARD
END:VTIMEZONE
BEGIN:VEVENT
DTSTART;TZID=Europe/Stockholm:20221017T110000
DTEND;TZID=Europe/Stockholm:20221018T170000
DTSTAMP:20260423T081916
CREATED:20220813T173206Z
LAST-MODIFIED:20221019T071703Z
UID:10001018-1666004400-1666112400@swetechockey.com
SUMMARY:ESBJERG CLUB CAMP
DESCRIPTION:[vc_row column_spacing=”60″][vc_column width=”2/3″][vc_column_text css=”.vc_custom_1661330370874{margin-bottom: 60px !important;}”]\n\n \n\nSKATE&SKILLS CAMP I DANMARK\n\nVi er så heldige at kunne præsentere samarbeid med SWETEC hockey i Esbjerg Ishockey Klub til 2 dags camp mandag og tirsdag den 17-18 okt. i uge 42.2022 i Esbjerg. \n  \n\n\n\n\nOm Swetec Hockey:\nVi tilbyder træning til dig\, der vil skabe de bedste forudsætninger for at blive ishockeyspiller\, til dig\, der gerne vil have et solidt ishockeyfundament at stå på\, til dig\, der gerne vil videre til nye niveauer i et lidt højere tempo. \nHos SWETEC Hockey får du del i mange års erfaring og succesfuld spillerudvikling. Vi arbejder systematisk og målrettet med at uddanne ishockeyspillere\, der ønsker at nå international topklasse. \nVelkommen til Esbjerg\nThomas Korsgaard/Esbjerg Ishockey Club\n \n\n\n[/vc_column_text][/vc_column][vc_column width=”1/3″][vc_single_image image=”18409″][/vc_column][/vc_row][vc_row][vc_column][vc_tta_tabs style=”outline” shape=”round” spacing=”10″ gap=”20″ active_section=”1″ no_fill_content_area=”true”][vc_tta_section title=”Fakta” tab_id=”1610186748077-dc34c960-76c7″][vc_column_text]\n\n\nCampen indeholder: \n\nMax 40 spillere 8 målmænd.\n2 grupper af 20 spillere og 4 målmænd: Det er for årg. 2013 og op. De 2 hold vil blive delt efter alder og niveau.\nSkøjteteknik\, stokteknik\, Målmandstræning og meget mere.\n3 Ispas pr. dag og 2 fys-pas\nVarm mad begge dage samt frugt i omkl.\n\nPris for dette er 1250 DKK. Pr. spiller. \nDer er begrænset pladser\, det er ”først til mølle-princip”\nTilmelding sker på link: https://esbjergik.nemtilmeld.dk/433/ \nSenest: 7/10-2022 kl 12.00 \nVed spørgsmål kontakt Thomas Korsgaard 21454859 Mail:tk@esbjergik.dk \n\n[/vc_column_text][/vc_tta_section][vc_tta_section title=”Upplägg” tab_id=”1610186748120-0d25c2e3-697b”][vc_column_text]MANDAG SKEMA – Gruppe 1\n12.00-13.00 Istræning/Hal 2\n13.15-14.00 Dryland\n14.30-15.30 Istræning/Hal 1\n15.45-16.30 Dryland\n17.00-18.00 Istræning/Hal 1\n18.30-19.00 Aftensmad/Hal 1 \nTIRSDAG SKEMA – Gruppe 1\n08.00-09.15 Istræning/Hal 2\n09.30-10.30 Dryland\n11.00-12.15 Istræning/Hal 2\n12.30-13.00 Frokost\n13.00-13.45 Dryland\n14.15-15.30 Istræning/Hal 1 \nMANDAG SKEMA – Gruppe 2\n13.15-14.15 Istræning\n14.30-15.15 Dryland\n15.45-16.45 Istræning\n17.00-17.30 Dryland\n17.30-18.00 Aftensmad/Hal 1\n18.30-19.30 Istræning \nTIRSDAG SKEMA – Gruppe 2\n09.30-10.45 Istræning\n11.00-12.00 Dryland\n12.30-13.45 Istræning\n14.00-14.30 Frokost\n14.15-15.15 Dryland\n15.45-17.00 Istræning \nTak for campen…[/vc_column_text][vc_column_text][/vc_column_text][/vc_tta_section][vc_tta_section title=”TEAM SWETEC” tab_id=”1610186748168-0af2ee06-b9d8″][vc_column_text]Dag Wenström/Skate\nÖver 20 år erfarenhet så vet jag vad som krävs för att bli en riktigt duktig hockeyspelare. \nMed min evidens baserad kunskaper inom anatomi\, rörelselära och fysisk träning så vet jag hur övningarna påverkar dig till nästa nivå. \nKontakt: dagge@swetechockey.com \nMikael Lundblad/Skills\nMånga års erfarenhet med skills träning och verkat i Swetec i 4 år och även i Växjö Lakers. \n  \n  \nMarcus Sjöstedt/Skills\nVarit som ledare i Swetec i 1 år nu. Debut sommarcampen 2021 och blev mycket om tyckt. \n  \n  \nAlexander Eriksson/Målvakter\nDuktig målvaktstränare med mycket känsla och jobbat med Swetec i Norge\, Danmark\, Polen och Sverige i många år. Grymt härlig personlighet. \n[/vc_column_text][/vc_tta_section][vc_tta_section title=”Beställ din tröja!” tab_id=”1610186748271-e58bb6a2-0c05″][vc_column_text]\n	\n\n\n			Välj alternativ	\n		Den här produkten har flera varianter. De olika alternativen kan väljas på produktsidan	\n\n	BE THE BEST\n	229.00kr\n\n\n	\n	REA\n			Välj alternativ	\n		Den här produkten har flera varianter. De olika alternativen kan väljas på produktsidan	\n\n	CCM Dryland Kit NAVY\n	199.00kr\n\n\n	\n	REA\n			Välj alternativ	\n		Den här produkten har flera varianter. De olika alternativen kan väljas på produktsidan	\n\n	CCM Dryland Kit RÖD\n	199.00kr\n\n\n	\n	REA\n			Välj alternativ	\n		Den här produkten har flera varianter. De olika alternativen kan väljas på produktsidan	\n\n	CCM Dryland Kit SVART\n	199.00kr\n\n\n			Välj alternativ	\n		Den här produkten har flera varianter. De olika alternativen kan väljas på produktsidan	\n\n	CCM T-SHIRT (R) SKATE & SKILLS\n	229.00kr\n\n\n			Välj alternativ	\n		Den här produkten har flera varianter. De olika alternativen kan väljas på produktsidan	\n\n	CCM T-shirt (S) Skate & Skills\n	229.00kr\n\n\n			Välj alternativ	\n		Den här produkten har flera varianter. De olika alternativen kan väljas på produktsidan	\n\n	CCM T-shirt Summarcamp\n	249.00kr\n\n\n			Välj alternativ	\n		Den här produkten har flera varianter. De olika alternativen kan väljas på produktsidan	\n\n	EAT\, SLEEP HOCKEY\n	229.00kr\n\n\n			Välj alternativ	\n		Den här produkten har flera varianter. De olika alternativen kan väljas på produktsidan	\n\n	EAT\, SLEEP HOCKEY – HOODIE\n	349.00kr\n\n\n	\n	REA\n			Välj alternativ	\n		Den här produkten har flera varianter. De olika alternativen kan väljas på produktsidan	\n\n	HOCKEYBOXEN\n	459.00kr Det ursprungliga priset var: 459.00kr.299.00krDet nuvarande priset är: 299.00kr.\n\n\n			Välj alternativ	\n		Den här produkten har flera varianter. De olika alternativen kan väljas på produktsidan	\n\n	Keps CCM Team Flexfit\n	229.00kr\n\n\n			Lägg till i varukorg	\n			\n\n	Keps CCM Team Snapback\n	229.00kr\n\n\n			Lägg till i varukorg	\n			\n\n	Mössa CCM Team Coffed\n	189.00kr\n\n\n			Lägg till i varukorg	\n			\n\n	Mössa CCM Team Pom Knit\n	189.00kr\n\n\n			Välj alternativ	\n		Den här produkten har flera varianter. De olika alternativen kan väljas på produktsidan	\n\n	SUMMERCAMP 25 – HOODIE\n	329.00kr\n\n\n			Lägg till i varukorg	\n			\n\n	Swetec Hockeyblock\n	129.00kr\n\n\n			Lägg till i varukorg	\n			\n\n	SWETEC HOCKEYBOXEN\n	495.00kr\n\n\n			Välj alternativ	\n		Den här produkten har flera varianter. De olika alternativen kan väljas på produktsidan	\n\n	T-SHIRT Summer Challenge\n	129.00kr\n\n\n			Välj alternativ	\n		Den här produkten har flera varianter. De olika alternativen kan väljas på produktsidan	\n\n	T-SHIRT Summercamp\n	129.00kr\n\n\n[/vc_column_text][/vc_tta_section][/vc_tta_tabs][/vc_column][/vc_row]
URL:https://swetechockey.com/startsida/event/esbjern-hostferie-camp/
LOCATION:Granly Hockey Arena\, Gl Vardevej 88\, Esbjerg\, Danmark
CATEGORIES:Camper
END:VEVENT
BEGIN:VEVENT
DTSTART;TZID=Europe/Stockholm:20221030T090000
DTEND;TZID=Europe/Stockholm:20221030T140000
DTSTAMP:20260423T081916
CREATED:20220808T105912Z
LAST-MODIFIED:20221026T110645Z
UID:10001015-1667120400-1667138400@swetechockey.com
SUMMARY:D-SKILLS CAMP 1
DESCRIPTION:[vc_row column_spacing=”60″][vc_column width=”2/3″][vc_column_text css=”.vc_custom_1659956159230{margin-bottom: 60px !important;}”]\nD-SKILLS CAMP I HÄSSLEHOLM\n1 dags camp\, med fokus på din individuella utveckling. Att spela BACK kräver skridsko skicklighet\, spelförståelse och mod. BACK SKILLS CAMP\, där vi fokusera på att utmana och stimulera dig med backspecifika övningar med skridskoåkningen\, rörlighet och kontroll står i centrum. Ta chansen att lyfta ditt backspel till nästa nivå. \nTIPS! Träna HOCKEYFIT\, boka din träning ONLINE. \n\nWINNERHEAD!\nAll info kommer via winnerhead ca 3 dagar innan med olika tips\, info mm.\nBokar du video så får du filmer på dig under campen med feedback via WINNERHEAD.\nOBS! Kommer inbjudan senast 2 dagar innan via mail\, kolla mailen. (skräpposten med) \n\n[/vc_column_text][/vc_column][vc_column width=”1/3″][vc_empty_space height=”52px”][vc_single_image image=”18652″ img_size=”medium”][/vc_column][/vc_row][vc_row][vc_column][vc_tta_tabs style=”outline” shape=”round” spacing=”10″ gap=”20″ active_section=”1″ no_fill_content_area=”true”][vc_tta_section title=”Fakta” tab_id=”1610186748077-dc34c960-76c7″][vc_column_text]Plats: Österås Ishall/Hässleholm\nDatum: 30 oktober 2022\nMat: INGÅR EJ\, Ta med egen mat + mellis\nBoende: ingår inte\nPlatser:  14 platser (individuell utb.)\nSpelare: födda 2013 och äldre\nPris: 1295kr [/vc_column_text][/vc_tta_section][vc_tta_section title=”Mattips” tab_id=”1659433409399-3d7b59cf-1ae6″][vc_column_text]Mat ingår ej i campen. \nTips är att ta med enkel mat så blir lättare för kroppen att ta upp maten. \n\nDrickyogurt\nFrukt\nLättare sallad\nDryck med magnesium\n\n[/vc_column_text][/vc_tta_section][vc_tta_section title=”Upplägg” tab_id=”1610186748120-0d25c2e3-697b”][vc_column_text]SCHEMA i HÄSSLEHOLM \n08.00 samling omkl. 2\n08.05 Genomgång av campen\n09.00 – 10.15 Ispass 1\n10.15 – 10.30 Spolning/Vila\n10.30 – 11.45 Ispass 2\n11.45 – 12.15 Spolning/Vila\n12.15 – 13.30 Ispass 3\n13.45 – 14.00 Avslutning \nTack för idag![/vc_column_text][/vc_tta_section][vc_tta_section title=”Ledare” tab_id=”1610186748168-0af2ee06-b9d8″][vc_column_text]Dag Wenström.\nÖver 20 år erfarenhet så vet jag vad som krävs för att bli en riktigt duktig hockeyspelare. \nMed min evidens baserad kunskaper inom anatomi\, rörelselära och fysisk träning så vet jag hur övningarna påverkar dig till nästa nivå. \nKontakt: dagge@swetechockey.com[/vc_column_text][/vc_tta_section][vc_tta_section title=”Winnerhead” tab_id=”1659434057433-4c00eea7-5780″][vc_column_text]Winnerhead \nVi jobbar med Winnerhead\, här skickar vi info inför campen till er och samlar filmer och ni kan få analyserad filmer med feedback (Kostar 399 kr) Vi bjuder in er senast 5 dagar innan så kolla eran mail för att inte missa något. \n\nSamlar dina videos från camperna\nResultat\nAnalyser m.m\n\n[/vc_column_text][/vc_tta_section][vc_tta_section title=”Beställ i Shopen!” tab_id=”1610186748271-e58bb6a2-0c05″][vc_column_text]\n	\n\n\n			Välj alternativ	\n		Den här produkten har flera varianter. De olika alternativen kan väljas på produktsidan	\n\n	BE THE BEST\n	229.00kr\n\n\n	\n	REA\n			Välj alternativ	\n		Den här produkten har flera varianter. De olika alternativen kan väljas på produktsidan	\n\n	CCM Dryland Kit NAVY\n	199.00kr\n\n\n	\n	REA\n			Välj alternativ	\n		Den här produkten har flera varianter. De olika alternativen kan väljas på produktsidan	\n\n	CCM Dryland Kit RÖD\n	199.00kr\n\n\n	\n	REA\n			Välj alternativ	\n		Den här produkten har flera varianter. De olika alternativen kan väljas på produktsidan	\n\n	CCM Dryland Kit SVART\n	199.00kr\n\n\n			Välj alternativ	\n		Den här produkten har flera varianter. De olika alternativen kan väljas på produktsidan	\n\n	CCM T-SHIRT (R) SKATE & SKILLS\n	229.00kr\n\n\n			Välj alternativ	\n		Den här produkten har flera varianter. De olika alternativen kan väljas på produktsidan	\n\n	CCM T-shirt (S) Skate & Skills\n	229.00kr\n\n\n			Välj alternativ	\n		Den här produkten har flera varianter. De olika alternativen kan väljas på produktsidan	\n\n	CCM T-shirt Summarcamp\n	249.00kr\n\n\n			Välj alternativ	\n		Den här produkten har flera varianter. De olika alternativen kan väljas på produktsidan	\n\n	EAT\, SLEEP HOCKEY\n	229.00kr\n\n\n			Välj alternativ	\n		Den här produkten har flera varianter. De olika alternativen kan väljas på produktsidan	\n\n	EAT\, SLEEP HOCKEY – HOODIE\n	349.00kr\n\n\n	\n	REA\n			Välj alternativ	\n		Den här produkten har flera varianter. De olika alternativen kan väljas på produktsidan	\n\n	HOCKEYBOXEN\n	459.00kr Det ursprungliga priset var: 459.00kr.299.00krDet nuvarande priset är: 299.00kr.\n\n\n			Välj alternativ	\n		Den här produkten har flera varianter. De olika alternativen kan väljas på produktsidan	\n\n	Keps CCM Team Flexfit\n	229.00kr\n\n\n			Lägg till i varukorg	\n			\n\n	Keps CCM Team Snapback\n	229.00kr\n\n\n			Lägg till i varukorg	\n			\n\n	Mössa CCM Team Coffed\n	189.00kr\n\n\n			Lägg till i varukorg	\n			\n\n	Mössa CCM Team Pom Knit\n	189.00kr\n\n\n			Välj alternativ	\n		Den här produkten har flera varianter. De olika alternativen kan väljas på produktsidan	\n\n	SUMMERCAMP 25 – HOODIE\n	329.00kr\n\n\n			Lägg till i varukorg	\n			\n\n	Swetec Hockeyblock\n	129.00kr\n\n\n			Lägg till i varukorg	\n			\n\n	SWETEC HOCKEYBOXEN\n	495.00kr\n\n\n			Välj alternativ	\n		Den här produkten har flera varianter. De olika alternativen kan väljas på produktsidan	\n\n	T-SHIRT Summer Challenge\n	129.00kr\n\n\n			Välj alternativ	\n		Den här produkten har flera varianter. De olika alternativen kan väljas på produktsidan	\n\n	T-SHIRT Summercamp\n	129.00kr\n\n\n[/vc_column_text][/vc_tta_section][vc_tta_section title=”Bokningsregler” tab_id=”1610186748216-26c667d8-2c9c”]\n	\n		\n			Bokningen är bindande och skall betalas direkt via PAYPAL. \nFör Privat (1 – 2 tim) gäller:\n\nVid avbokning (3) dygn innan campstart behålls hela avgiften.\n\nFör 1 – 2 dagarscamper gäller:\n\nVid avbokning 5 dygn innan campstart behålls hela avgiften.\n\nFör Sommar Challenge gäller:\n\nÅterbud fram till 30 april förbehåller vi oss som arrangör rätten att behålla 900 SEK för admin.kostnader\nAvbokning från den 1 april till 30 juni återbetalas halva avgiften mot uppvisning av läkarintyg som styrker oförmåga att deltaga.\n- Inget läkarintyg\, ingen återbetalas av inbetald avgift.\nEfter 1 juli behålls hela avgiften\, även vid evt. skada/sjukdom under campen\, ingen återbetalning.\n\n\n		\n	\n[/vc_tta_section][/vc_tta_tabs][/vc_column][/vc_row][vc_row][vc_column width=”1/2″][vc_column_text]Huvudinstruktör:\nDag Wenström –  IshockeyPT.\nEn av Sveriges mest erfarna utvecklings instruktör med erfarenhet från jobb i Tyskland\, Schweiz\, Canada\, Norge\, Danmark och Polen med att varit delaktig i utvecklingen till NHL spelaren – Simon Edvinsson\, SHL –  John Dahlström\, SHL – Hampus Plato\, SHL – Linus Sjödin\, NHL – Daniel Steiner\, NLA – Flurin Rendeggar\, NLA – Thomas Wellinger mfl.[/vc_column_text][/vc_column][vc_column width=”1/2″][vc_single_image image=”18656″ img_size=”medium”][/vc_column][/vc_row]
URL:https://swetechockey.com/startsida/event/back-camp-1/
LOCATION:Österås ishall\, Hässleholm\, Hövdingsgatan 16\, Österås Ishall\, Hässleholm\, Sverige
CATEGORIES:Camper
ORGANIZER;CN="Dag Wenstr%C3%B6m":MAILTO:info@swetechockey.com
GEO:56.1466112;13.7803905
X-APPLE-STRUCTURED-LOCATION;VALUE=URI;X-ADDRESS=Österås ishall Hässleholm Hövdingsgatan 16 Österås Ishall Hässleholm Sverige;X-APPLE-RADIUS=500;X-TITLE=Hövdingsgatan 16:geo:13.7803905,56.1466112
END:VEVENT
END:VCALENDAR