BEGIN:VCALENDAR
VERSION:2.0
PRODID:-//Swetechockey - ECPv6.15.20//NONSGML v1.0//EN
CALSCALE:GREGORIAN
METHOD:PUBLISH
X-ORIGINAL-URL:https://swetechockey.com/startsida
X-WR-CALDESC:Händelser för Swetechockey
REFRESH-INTERVAL;VALUE=DURATION:PT1H
X-Robots-Tag:noindex
X-PUBLISHED-TTL:PT1H
BEGIN:VTIMEZONE
TZID:Europe/Stockholm
BEGIN:DAYLIGHT
TZOFFSETFROM:+0100
TZOFFSETTO:+0200
TZNAME:CEST
DTSTART:20200329T010000
END:DAYLIGHT
BEGIN:STANDARD
TZOFFSETFROM:+0200
TZOFFSETTO:+0100
TZNAME:CET
DTSTART:20201025T010000
END:STANDARD
BEGIN:DAYLIGHT
TZOFFSETFROM:+0100
TZOFFSETTO:+0200
TZNAME:CEST
DTSTART:20210328T010000
END:DAYLIGHT
BEGIN:STANDARD
TZOFFSETFROM:+0200
TZOFFSETTO:+0100
TZNAME:CET
DTSTART:20211031T010000
END:STANDARD
BEGIN:DAYLIGHT
TZOFFSETFROM:+0100
TZOFFSETTO:+0200
TZNAME:CEST
DTSTART:20220327T010000
END:DAYLIGHT
BEGIN:STANDARD
TZOFFSETFROM:+0200
TZOFFSETTO:+0100
TZNAME:CET
DTSTART:20221030T010000
END:STANDARD
END:VTIMEZONE
BEGIN:VEVENT
DTSTART;TZID=Europe/Stockholm:20210704T090000
DTEND;TZID=Europe/Stockholm:20210704T150000
DTSTAMP:20260424T102008
CREATED:20210409T135651Z
LAST-MODIFIED:20210531T161358Z
UID:10000971-1625389200-1625410800@swetechockey.com
SUMMARY:XFIT OFFSEASON 3
DESCRIPTION:[vc_row column_spacing=”60″][vc_column width=”2/3″][vc_column_text css=”.vc_custom_1617976164728{margin-bottom: 60px !important;}”]OFFSEASON CAMP är ett beprövat koncept med HOCKEYPT Dagge. Vi har hjälpt spelare i sin karriär som idag har en elitkarriär som Simon Edvinsson/SHL\, John Dahlström/SHL\, Linus Sjölin/SHL m.m. \nVi bygger HOCKEYATLETER genom att bygga upp elasticitet och vävnadstolerans för framtida ishockeyns kravbild. Vår träning är unik som du inte gör i din klubbträningen. Därför är denna försäsong upplägget optimalt för dina framtida prestationer. \n  \nXFIT står för ett helhets tänkande för att prestera maximalt. Med kunskap av NUTRITION – MOBILITET – FYSTRÄNING – VILA = MAX RESULTAT.\nCampen är på våran anläggning och med  kunniga coacher från SWETEC Webox. Anläggningen är perfekt för träning och hemma träningen sköts via en app. Vi kommer även att göra 1 – 2 skridskotester på is I Tyringe för att analysera era rörelseschema i skridskoåkningen samt få bästa transfer i fysprogrammen.  Missa inte denna möjligheten. \nCamp 3: Juli 4\, Camp 4: Juli 25\, Camp 5: Augusti 2 \nVälkomna till en ”riktig” försäsong…..[/vc_column_text][/vc_column][vc_column width=”1/3″][vc_video link=”https://youtu.be/5Bxr6n_NCB0″][/vc_column][vc_column][/vc_column][/vc_row][vc_row][vc_column][vc_tta_tabs style=”outline” shape=”round” spacing=”10″ gap=”20″ active_section=”1″ no_fill_content_area=”true”][vc_tta_section title=”Fakta” tab_id=”1610186748077-dc34c960-76c7″][vc_column_text]Grupp: 8 personer (minst antalet 4 st)\nÅlder: Födda 2010 och äldre.\nTid: kl. 09.00 – 14.00 vid varje tillfälle. \nPRIS: 1695 SEK  per/tillfälle  \nOBS! Ingår i MENTORSKAPET. (Vi tar bort betalningen efter bokningen) \nIngår: \n\nScreening av kroppen från fötter till bröstrygg med TE3.\nFystester för se dina fysiska förutsättningar både IS/FYS\, utifrån detta skapa strategi för din utveckling\nISPASS i Tyringe/Tyrshov.\nProgrammering mellan perioderna.\nLunch och mellanmål\nProgram mellan camperna via XPS – Trainer.\n\n[/vc_column_text][/vc_tta_section][vc_tta_section title=”Upplägg” tab_id=”1610186748120-0d25c2e3-697b”][vc_column_text]SÖNDAGAR I SWETEC WEBOX \n09.00 samling Swetec Webox\, Estridsväg 7\, 29165 Kristianstad\n09.10 Genomgång\n09.30 – 11.30 Fystester och mätning\n11.30 – 12.00 Genomgång\n12.00 – 12.30 Lunch\n12.30 – 13.00 Teori kost/träning\n13.00 – 13.45 Fysträning hockey\n14.00 Avslutning \nObs! Detta är prel. tider. Kan ändras vid respektive tillfälle[/vc_column_text][/vc_tta_section][vc_tta_section title=”Ledare” tab_id=”1610186748168-0af2ee06-b9d8″][vc_column_text]Dag Wenström/Fyscoach\nÖver 20 år erfarenhet inom träning\, tränar och tävlar själv inom Crossfit. \nMed min evidens baserad kunskaper inom anatomi\, rörelselära och fysisk träning så vet jag hur övningarna påverkar dig till nästa nivå. \nKontakt: dagge@swetechockey.com \nChristel Nilsson/Fyscoach\nCoach på SWETEC\, tränar och tävlar själv inom Crossfit. \nKontakt: info@swetechockey.com[/vc_column_text][/vc_tta_section][vc_tta_section title=”Bokningsregler” tab_id=”1610186748216-26c667d8-2c9c”]\n	\n		\n			Bokningen är bindande och skall betalas direkt via PAYPAL. \nFör Privat (1 – 2 tim) gäller:\n\nVid avbokning (3) dygn innan campstart behålls hela avgiften.\n\nFör 1 – 2 dagarscamper gäller:\n\nVid avbokning 5 dygn innan campstart behålls hela avgiften.\n\nFör Sommar Challenge gäller:\n\nÅterbud fram till 30 april förbehåller vi oss som arrangör rätten att behålla 900 SEK för admin.kostnader\nAvbokning från den 1 april till 30 juni återbetalas halva avgiften mot uppvisning av läkarintyg som styrker oförmåga att deltaga.\n- Inget läkarintyg\, ingen återbetalas av inbetald avgift.\nEfter 1 juli behålls hela avgiften\, även vid evt. skada/sjukdom under campen\, ingen återbetalning.\n\n\n		\n	\n[/vc_tta_section][vc_tta_section title=”Beställ din tröja!” tab_id=”1610186748271-e58bb6a2-0c05″][vc_column_text]\n	\n\n\n			Välj alternativ	\n		Den här produkten har flera varianter. De olika alternativen kan väljas på produktsidan	\n\n	BE THE BEST\n	229.00kr\n\n\n	\n	REA\n			Välj alternativ	\n		Den här produkten har flera varianter. De olika alternativen kan väljas på produktsidan	\n\n	CCM Dryland Kit NAVY\n	199.00kr\n\n\n	\n	REA\n			Välj alternativ	\n		Den här produkten har flera varianter. De olika alternativen kan väljas på produktsidan	\n\n	CCM Dryland Kit RÖD\n	199.00kr\n\n\n	\n	REA\n			Välj alternativ	\n		Den här produkten har flera varianter. De olika alternativen kan väljas på produktsidan	\n\n	CCM Dryland Kit SVART\n	199.00kr\n\n\n			Välj alternativ	\n		Den här produkten har flera varianter. De olika alternativen kan väljas på produktsidan	\n\n	CCM T-SHIRT (R) SKATE & SKILLS\n	229.00kr\n\n\n			Välj alternativ	\n		Den här produkten har flera varianter. De olika alternativen kan väljas på produktsidan	\n\n	CCM T-shirt (S) Skate & Skills\n	229.00kr\n\n\n			Välj alternativ	\n		Den här produkten har flera varianter. De olika alternativen kan väljas på produktsidan	\n\n	CCM T-shirt Summarcamp\n	249.00kr\n\n\n			Välj alternativ	\n		Den här produkten har flera varianter. De olika alternativen kan väljas på produktsidan	\n\n	EAT\, SLEEP HOCKEY\n	229.00kr\n\n\n			Välj alternativ	\n		Den här produkten har flera varianter. De olika alternativen kan väljas på produktsidan	\n\n	EAT\, SLEEP HOCKEY – HOODIE\n	349.00kr\n\n\n	\n	REA\n			Välj alternativ	\n		Den här produkten har flera varianter. De olika alternativen kan väljas på produktsidan	\n\n	HOCKEYBOXEN\n	459.00kr Det ursprungliga priset var: 459.00kr.299.00krDet nuvarande priset är: 299.00kr.\n\n\n			Välj alternativ	\n		Den här produkten har flera varianter. De olika alternativen kan väljas på produktsidan	\n\n	Keps CCM Team Flexfit\n	229.00kr\n\n\n			Lägg till i varukorg	\n			\n\n	Keps CCM Team Snapback\n	229.00kr\n\n\n			Lägg till i varukorg	\n			\n\n	Mössa CCM Team Coffed\n	189.00kr\n\n\n			Lägg till i varukorg	\n			\n\n	Mössa CCM Team Pom Knit\n	189.00kr\n\n\n			Välj alternativ	\n		Den här produkten har flera varianter. De olika alternativen kan väljas på produktsidan	\n\n	SUMMERCAMP 25 – HOODIE\n	329.00kr\n\n\n			Lägg till i varukorg	\n			\n\n	Swetec Hockeyblock\n	129.00kr\n\n\n			Lägg till i varukorg	\n			\n\n	SWETEC HOCKEYBOXEN\n	495.00kr\n\n\n			Välj alternativ	\n		Den här produkten har flera varianter. De olika alternativen kan väljas på produktsidan	\n\n	T-SHIRT Summer Challenge\n	129.00kr\n\n\n			Välj alternativ	\n		Den här produkten har flera varianter. De olika alternativen kan väljas på produktsidan	\n\n	T-SHIRT Summercamp\n	129.00kr\n\n\n[/vc_column_text][/vc_tta_section][vc_tta_section title=”Mentorskap spelare” tab_id=”1610186748320-adc7a54f-9565″][vc_column_text css=”.vc_custom_1614512134570{margin-bottom: 60px !important;}”]MENTORSKAP SPELARE \nIngår i ert avtal.\n[/vc_column_text][/vc_tta_section][/vc_tta_tabs][/vc_column][/vc_row]
URL:https://swetechockey.com/startsida/event/xfit-offseason-3/
LOCATION:Swetec Webox\, Estridsväg 7\, Kristianstad\, Skåne\, 29165\, Sverige
CATEGORIES:Camper
ORGANIZER;CN="Dag Wenstr%C3%B6m":MAILTO:info@swetechockey.com
GEO:56.0081478;14.1050959
X-APPLE-STRUCTURED-LOCATION;VALUE=URI;X-ADDRESS=Swetec Webox Estridsväg 7 Kristianstad Skåne 29165 Sverige;X-APPLE-RADIUS=500;X-TITLE=Estridsväg 7:geo:14.1050959,56.0081478
END:VEVENT
BEGIN:VEVENT
DTSTART;TZID=Europe/Stockholm:20210710T130000
DTEND;TZID=Europe/Stockholm:20210717T150000
DTSTAMP:20260424T102008
CREATED:20200715T200205Z
LAST-MODIFIED:20210708T042928Z
UID:10000946-1625922000-1626534000@swetechockey.com
SUMMARY:SKILLS CCM CHALLENGE
DESCRIPTION:Skills CCM Challenge\, 11 – 17 juli 2021 i Tyringe. \n\n6 dagars camp \, 1 vilodag. Intensitet skridskoåkning och teknikutveckling.\n3 ispass\, 2 fyspass\, 1 Teoripass om dagen (ej lör) se schema.\n2 grupper med 24 spelare i varje\, Grupp 1: 05-07\, Grupp 2: 08-10\nCCM träningskit (Påse\, tröja\, shorts\, strumpor)\, CCM Vattenflaska.\nDagläger\, 08.00-19.00\n\nPris:  6200 SEK för 7 dagars hockeycamp.\n \n\n		\n	\nLäs mer om campen
URL:https://swetechockey.com/startsida/event/skills-ccm-challenge/
LOCATION:Tyrshovs Ishall\, Tyringe\, Paradisgatan 32\, Tyringe\, 28232\, Sverige
CATEGORIES:Camper,Summer Academy
ORGANIZER;CN="Dag Wenstr%C3%B6m":MAILTO:info@swetechockey.com
GEO:56.1543512;13.6042833
X-APPLE-STRUCTURED-LOCATION;VALUE=URI;X-ADDRESS=Tyrshovs Ishall Tyringe Paradisgatan 32 Tyringe 28232 Sverige;X-APPLE-RADIUS=500;X-TITLE=Paradisgatan 32:geo:13.6042833,56.1543512
END:VEVENT
BEGIN:VEVENT
DTSTART;TZID=Europe/Stockholm:20210711T130000
DTEND;TZID=Europe/Stockholm:20210717T150000
DTSTAMP:20260424T102008
CREATED:20200715T195156Z
LAST-MODIFIED:20210704T161156Z
UID:10000944-1626008400-1626534000@swetechockey.com
SUMMARY:ELITE CCM CHALLENGE
DESCRIPTION:Elite CCM Challenge\, 11 – 17 juli 2021 i Tyringe. \n\nKravet för boka en plats: Född 2005 och äldre eller spelat U16 Elit (20/21)\n4 eller 7 dagars tuff intensiv Skating och fys.\n3 ispass\, 2 fyspass 1 teoripass per/dag (ej sön/lör).\nCCM träningskit (Påse\, tröja\, shorts\, strumpor)\, CCM Vattenflaska.\n2 grupper om max 12 spelare/varje.\nDagläger\, 08.00-20.00\n\nPris:\nELITE 1 – 7 dagars camp  för 7195 SEK\nELITE 2 – 4 dagars camp  för 4495 SEK  \n\n		\n	\nLäs mer om campen
URL:https://swetechockey.com/startsida/event/elite-ccm-challange/
LOCATION:Tyrshovs Ishall\, Tyringe\, Paradisgatan 32\, Tyringe\, 28232\, Sverige
CATEGORIES:Camper,Summer Academy
ORGANIZER;CN="Dag Wenstr%C3%B6m":MAILTO:info@swetechockey.com
GEO:56.1543512;13.6042833
X-APPLE-STRUCTURED-LOCATION;VALUE=URI;X-ADDRESS=Tyrshovs Ishall Tyringe Paradisgatan 32 Tyringe 28232 Sverige;X-APPLE-RADIUS=500;X-TITLE=Paradisgatan 32:geo:13.6042833,56.1543512
END:VEVENT
BEGIN:VEVENT
DTSTART;TZID=Europe/Stockholm:20210725T090000
DTEND;TZID=Europe/Stockholm:20210725T150000
DTSTAMP:20260424T102009
CREATED:20210409T140042Z
LAST-MODIFIED:20210409T140042Z
UID:10000973-1627203600-1627225200@swetechockey.com
SUMMARY:XFIT OFFSEASON 4
DESCRIPTION:OFFSEASON CAMP är ett beprövat koncept med HOCKEYPT Dagge. Vi har hjälpt spelare i sin karriär som idag har en elitkarriär som Simon Edvinsson/SHL\, John Dahlström/SHL\, Linus Sjölin/SHL m.m. \nVi bygger HOCKEYATLETER genom att bygga upp elasticitet och vävnadstolerans för framtida ishockeyns kravbild. Vår träning är unik som du inte gör i din klubbträningen. Därför är denna försäsong upplägget optimalt för dina framtida prestationer. \n  \nXFIT står för ett helhets tänkande för att prestera maximalt. Med kunskap av NUTRITION – MOBILITET – FYSTRÄNING – VILA = MAX RESULTAT.\nCampen är på våran anläggning och med  kunniga coacher från SWETEC Webox. Anläggningen är perfekt för träning och hemma träningen sköts via en app. Vi kommer även att göra 1 – 2 skridskotester på is I Tyringe för att analysera era rörelseschema i skridskoåkningen samt få bästa transfer i fysprogrammen.  Missa inte denna möjligheten. \nCamp 4: Juli 25\, Camp 5: Augusti 2 \nVälkomna till en ”riktig” försäsong….. \n\n		\n	\n\n	\n		\n			\n			\n		\n	\nFaktaUppläggLedareBokningsreglerBeställ din tröja!Mentorskap spelareFakta\n	\n		\n			Grupp: 8 personer (minst antalet 4 st)\nÅlder: Födda 2010 och äldre.\nTid: kl. 09.00 – 14.00 vid varje tillfälle. \nPRIS: 1695 SEK  per/tillfälle  \nOBS! Ingår i MENTORSKAPET. (Vi tar bort betalningen efter bokningen) \nIngår: \n\nScreening av kroppen från fötter till bröstrygg med TE3.\nFystester för se dina fysiska förutsättningar både IS/FYS\, utifrån detta skapa strategi för din utveckling\nISPASS i Tyringe/Tyrshov.\nProgrammering mellan perioderna.\nLunch och mellanmål\nProgram mellan camperna via XPS – Trainer.\n\n\n		\n	\nUpplägg\n	\n		\n			SÖNDAGAR I SWETEC WEBOX \n09.00 samling Swetec Webox\, Estridsväg 7\, 29165 Kristianstad\n09.10 Genomgång\n09.30 – 11.30 Fystester och mätning\n11.30 – 12.00 Genomgång\n12.00 – 12.30 Lunch\n12.30 – 13.00 Teori kost/träning\n13.00 – 13.45 Fysträning hockey\n14.00 Avslutning \nObs! Detta är prel. tider. Kan ändras vid respektive tillfälle \n\n		\n	\nLedare\n	\n		\n			Dag Wenström/Fyscoach\nÖver 20 år erfarenhet inom träning\, tränar och tävlar själv inom Crossfit. \nMed min evidens baserad kunskaper inom anatomi\, rörelselära och fysisk träning så vet jag hur övningarna påverkar dig till nästa nivå. \nKontakt: dagge@swetechockey.com \nChristel Nilsson/Fyscoach\nCoach på SWETEC\, tränar och tävlar själv inom Crossfit. \nKontakt: info@swetechockey.com \n\n		\n	\nBokningsregler\n	\n		\n			Bokningen är bindande och skall betalas direkt via PAYPAL. \nFör Privat (1 – 2 tim) gäller:\n\nVid avbokning (3) dygn innan campstart behålls hela avgiften.\n\nFör 1 – 2 dagarscamper gäller:\n\nVid avbokning 5 dygn innan campstart behålls hela avgiften.\n\nFör Sommar Challenge gäller:\n\nÅterbud fram till 30 april förbehåller vi oss som arrangör rätten att behålla 900 SEK för admin.kostnader\nAvbokning från den 1 april till 30 juni återbetalas halva avgiften mot uppvisning av läkarintyg som styrker oförmåga att deltaga.\n- Inget läkarintyg\, ingen återbetalas av inbetald avgift.\nEfter 1 juli behålls hela avgiften\, även vid evt. skada/sjukdom under campen\, ingen återbetalning.\n\n\n		\n	\nBeställ din tröja!\n	\n		\n			\n	\n\n\n			Välj alternativ	\n		Den här produkten har flera varianter. De olika alternativen kan väljas på produktsidan	\n\n	BE THE BEST\n	229.00kr\n\n\n	\n	REA\n			Välj alternativ	\n		Den här produkten har flera varianter. De olika alternativen kan väljas på produktsidan	\n\n	CCM Dryland Kit NAVY\n	199.00kr\n\n\n	\n	REA\n			Välj alternativ	\n		Den här produkten har flera varianter. De olika alternativen kan väljas på produktsidan	\n\n	CCM Dryland Kit RÖD\n	199.00kr\n\n\n	\n	REA\n			Välj alternativ	\n		Den här produkten har flera varianter. De olika alternativen kan väljas på produktsidan	\n\n	CCM Dryland Kit SVART\n	199.00kr\n\n\n			Välj alternativ	\n		Den här produkten har flera varianter. De olika alternativen kan väljas på produktsidan	\n\n	CCM T-SHIRT (R) SKATE & SKILLS\n	229.00kr\n\n\n			Välj alternativ	\n		Den här produkten har flera varianter. De olika alternativen kan väljas på produktsidan	\n\n	CCM T-shirt (S) Skate & Skills\n	229.00kr\n\n\n			Välj alternativ	\n		Den här produkten har flera varianter. De olika alternativen kan väljas på produktsidan	\n\n	CCM T-shirt Summarcamp\n	249.00kr\n\n\n			Välj alternativ	\n		Den här produkten har flera varianter. De olika alternativen kan väljas på produktsidan	\n\n	EAT\, SLEEP HOCKEY\n	229.00kr\n\n\n			Välj alternativ	\n		Den här produkten har flera varianter. De olika alternativen kan väljas på produktsidan	\n\n	EAT\, SLEEP HOCKEY – HOODIE\n	349.00kr\n\n\n	\n	REA\n			Välj alternativ	\n		Den här produkten har flera varianter. De olika alternativen kan väljas på produktsidan	\n\n	HOCKEYBOXEN\n	459.00kr Det ursprungliga priset var: 459.00kr.299.00krDet nuvarande priset är: 299.00kr.\n\n\n			Välj alternativ	\n		Den här produkten har flera varianter. De olika alternativen kan väljas på produktsidan	\n\n	Keps CCM Team Flexfit\n	229.00kr\n\n\n			Lägg till i varukorg	\n			\n\n	Keps CCM Team Snapback\n	229.00kr\n\n\n			Lägg till i varukorg	\n			\n\n	Mössa CCM Team Coffed\n	189.00kr\n\n\n			Lägg till i varukorg	\n			\n\n	Mössa CCM Team Pom Knit\n	189.00kr\n\n\n			Välj alternativ	\n		Den här produkten har flera varianter. De olika alternativen kan väljas på produktsidan	\n\n	SUMMERCAMP 25 – HOODIE\n	329.00kr\n\n\n			Lägg till i varukorg	\n			\n\n	Swetec Hockeyblock\n	129.00kr\n\n\n			Lägg till i varukorg	\n			\n\n	SWETEC HOCKEYBOXEN\n	495.00kr\n\n\n			Välj alternativ	\n		Den här produkten har flera varianter. De olika alternativen kan väljas på produktsidan	\n\n	T-SHIRT Summer Challenge\n	129.00kr\n\n\n			Välj alternativ	\n		Den här produkten har flera varianter. De olika alternativen kan väljas på produktsidan	\n\n	T-SHIRT Summercamp\n	129.00kr\n\n\n\n\n		\n	\nMentorskap spelare\n	\n		\n			MENTORSKAP SPELARE \nIngår i ert avtal.\n \n\n		\n	\n\n/vc_tta_tabs][/vc_column][/vc_row]
URL:https://swetechockey.com/startsida/event/xfit-offseason-4/
LOCATION:Swetec Webox\, Estridsväg 7\, Kristianstad\, Skåne\, 29165\, Sverige
CATEGORIES:Camper
ORGANIZER;CN="Dag Wenstr%C3%B6m":MAILTO:info@swetechockey.com
GEO:56.0081478;14.1050959
X-APPLE-STRUCTURED-LOCATION;VALUE=URI;X-ADDRESS=Swetec Webox Estridsväg 7 Kristianstad Skåne 29165 Sverige;X-APPLE-RADIUS=500;X-TITLE=Estridsväg 7:geo:14.1050959,56.0081478
END:VEVENT
BEGIN:VEVENT
DTSTART;TZID=Europe/Stockholm:20210731T090000
DTEND;TZID=Europe/Stockholm:20210731T130000
DTSTAMP:20260424T102009
CREATED:20210721T135004Z
LAST-MODIFIED:20210721T184018Z
UID:10000982-1627722000-1627736400@swetechockey.com
SUMMARY:SWETEC SKILLS SELECT
DESCRIPTION:ELIT SELECT PRACTICE\n4 timmar ELIT SKILLS för endast inbjudna junior/seniorer inför deras säsongsstart. Vi kommer vara i Tyringe ISHALL och köra ispassen.  \nVåra instruktörer är: Dag Wenström\, Wille Sjöberg och Mikael Lundblad. \n\n3 Ispass fokuserar vi på skridskorteknik och Skills med 2 x 75 minuter + 1 x 60 min. Här skall ni få utmana era kunskaper Skate & Skills med Swetec´s unika koncept.\n\nInstruktörerna Dagge\, Micke och Wille kommer förstärker dina styrkor och ger dig feedback på vad du kan förbättra. Denna DAGEN fokuserar våra proffsiga instruktörer på din individuell utveckling och arbetar tillsammans med dig\, att lyfta dina skills. \nIntresserad: maila dagge@swetechockey.com \nVälkomna! \n\n		\n	\n\n	\n		\n		\n			\n		\n	\nFaktaUppläggLedareBokningsreglerBeställ din tröja!Fakta\n	\n		\n			Grupp: 16 personer (minst antalet 4 st)\nÅlder: Födda 2005 och äldre\nTid: kl. 09.00 – 13.00\, samling 45 min innan i omklädningsrummet \nPRIS: 450 kr. \nDu får verktygen som gör att du vågar agera mer och bättre under matcherna. Jag vill hjälpa dig att hitta framtidens Skills för just dig. \nSKATE: Att förstå kroppspositionen och kroppens rörelse är nyckeln till en bra balans i din åkning. Att skapa ”drive” med bra glid med kroppspositionen och tyngdpunktsförflyttningar är hörnstenarna i skattningen. \nSKILLS: Med puck övningarna skall man kombinera motorisk rörelser med klubba och skridskorna. \nVälkomna! \n\n		\n	\nUpplägg\n	\n		\n			LÖRDAG I TYRINGE  \n08.15 samling omkl.\n08.30 Genomgång\n09.00 – 10.15 Ispass 1\n10.15 – 10.30 Spolning\n10.30 – 11.45 Ispass 2\n11.45 – 12.00 Spolning/Mellis\n12.00 – 13.00 Ispass 3 \nTack för idag! \n\n		\n	\nLedare\n	\n		\n			Dag Wenström.\nÖver 20 år erfarenhet så vet jag vad som krävs för att bli en riktigt duktig hockeyspelare. \nMed min evidens baserad kunskaper inom anatomi\, rörelselära och fysisk träning så vet jag hur övningarna påverkar dig till nästa nivå. \nKontakt: dagge@swetechockey.com \nMikael Lundblad\nMånga års erfarenhet med skills träning och verkat i Swetec i 4 år och även i Växjö Lakers. \n  \n  \nWilhelm Sjöberg\nJobbar inom Växjö organisation som tränare/utvecklare. Varit en del i Swetec i 2 år. \n\n		\n	\nBokningsregler\n	\n		\n			Bokningen är bindande och skall betalas direkt via PAYPAL. \nFör Privat (1 – 2 tim) gäller:\n\nVid avbokning (3) dygn innan campstart behålls hela avgiften.\n\nFör 1 – 2 dagarscamper gäller:\n\nVid avbokning 5 dygn innan campstart behålls hela avgiften.\n\nFör Sommar Challenge gäller:\n\nÅterbud fram till 30 april förbehåller vi oss som arrangör rätten att behålla 900 SEK för admin.kostnader\nAvbokning från den 1 april till 30 juni återbetalas halva avgiften mot uppvisning av läkarintyg som styrker oförmåga att deltaga.\n- Inget läkarintyg\, ingen återbetalas av inbetald avgift.\nEfter 1 juli behålls hela avgiften\, även vid evt. skada/sjukdom under campen\, ingen återbetalning.\n\n\n		\n	\nBeställ din tröja!\n	\n		\n			\n	\n\n\n			Välj alternativ	\n		Den här produkten har flera varianter. De olika alternativen kan väljas på produktsidan	\n\n	BE THE BEST\n	229.00kr\n\n\n	\n	REA\n			Välj alternativ	\n		Den här produkten har flera varianter. De olika alternativen kan väljas på produktsidan	\n\n	CCM Dryland Kit NAVY\n	199.00kr\n\n\n	\n	REA\n			Välj alternativ	\n		Den här produkten har flera varianter. De olika alternativen kan väljas på produktsidan	\n\n	CCM Dryland Kit RÖD\n	199.00kr\n\n\n	\n	REA\n			Välj alternativ	\n		Den här produkten har flera varianter. De olika alternativen kan väljas på produktsidan	\n\n	CCM Dryland Kit SVART\n	199.00kr\n\n\n			Välj alternativ	\n		Den här produkten har flera varianter. De olika alternativen kan väljas på produktsidan	\n\n	CCM T-SHIRT (R) SKATE & SKILLS\n	229.00kr\n\n\n			Välj alternativ	\n		Den här produkten har flera varianter. De olika alternativen kan väljas på produktsidan	\n\n	CCM T-shirt (S) Skate & Skills\n	229.00kr\n\n\n			Välj alternativ	\n		Den här produkten har flera varianter. De olika alternativen kan väljas på produktsidan	\n\n	CCM T-shirt Summarcamp\n	249.00kr\n\n\n			Välj alternativ	\n		Den här produkten har flera varianter. De olika alternativen kan väljas på produktsidan	\n\n	EAT\, SLEEP HOCKEY\n	229.00kr\n\n\n			Välj alternativ	\n		Den här produkten har flera varianter. De olika alternativen kan väljas på produktsidan	\n\n	EAT\, SLEEP HOCKEY – HOODIE\n	349.00kr\n\n\n	\n	REA\n			Välj alternativ	\n		Den här produkten har flera varianter. De olika alternativen kan väljas på produktsidan	\n\n	HOCKEYBOXEN\n	459.00kr Det ursprungliga priset var: 459.00kr.299.00krDet nuvarande priset är: 299.00kr.\n\n\n			Välj alternativ	\n		Den här produkten har flera varianter. De olika alternativen kan väljas på produktsidan	\n\n	Keps CCM Team Flexfit\n	229.00kr\n\n\n			Lägg till i varukorg	\n			\n\n	Keps CCM Team Snapback\n	229.00kr\n\n\n			Lägg till i varukorg	\n			\n\n	Mössa CCM Team Coffed\n	189.00kr\n\n\n			Lägg till i varukorg	\n			\n\n	Mössa CCM Team Pom Knit\n	189.00kr\n\n\n			Välj alternativ	\n		Den här produkten har flera varianter. De olika alternativen kan väljas på produktsidan	\n\n	SUMMERCAMP 25 – HOODIE\n	329.00kr\n\n\n			Lägg till i varukorg	\n			\n\n	Swetec Hockeyblock\n	129.00kr\n\n\n			Lägg till i varukorg	\n			\n\n	SWETEC HOCKEYBOXEN\n	495.00kr\n\n\n			Välj alternativ	\n		Den här produkten har flera varianter. De olika alternativen kan väljas på produktsidan	\n\n	T-SHIRT Summer Challenge\n	129.00kr\n\n\n			Välj alternativ	\n		Den här produkten har flera varianter. De olika alternativen kan väljas på produktsidan	\n\n	T-SHIRT Summercamp\n	129.00kr
URL:https://swetechockey.com/startsida/event/swetec-skills-select/
LOCATION:Tyrshovs Ishall\, Tyringe\, Paradisgatan 32\, Tyringe\, 28232\, Sverige
CATEGORIES:Camper
ORGANIZER;CN="Dag Wenstr%C3%B6m":MAILTO:info@swetechockey.com
GEO:56.1543512;13.6042833
X-APPLE-STRUCTURED-LOCATION;VALUE=URI;X-ADDRESS=Tyrshovs Ishall Tyringe Paradisgatan 32 Tyringe 28232 Sverige;X-APPLE-RADIUS=500;X-TITLE=Paradisgatan 32:geo:13.6042833,56.1543512
END:VEVENT
END:VCALENDAR