BEGIN:VCALENDAR
VERSION:2.0
PRODID:-//Swetechockey - ECPv6.15.20//NONSGML v1.0//EN
CALSCALE:GREGORIAN
METHOD:PUBLISH
X-WR-CALNAME:Swetechockey
X-ORIGINAL-URL:https://swetechockey.com/startsida
X-WR-CALDESC:Händelser för Swetechockey
REFRESH-INTERVAL;VALUE=DURATION:PT1H
X-Robots-Tag:noindex
X-PUBLISHED-TTL:PT1H
BEGIN:VTIMEZONE
TZID:Europe/Stockholm
BEGIN:DAYLIGHT
TZOFFSETFROM:+0100
TZOFFSETTO:+0200
TZNAME:CEST
DTSTART:20200329T010000
END:DAYLIGHT
BEGIN:STANDARD
TZOFFSETFROM:+0200
TZOFFSETTO:+0100
TZNAME:CET
DTSTART:20201025T010000
END:STANDARD
BEGIN:DAYLIGHT
TZOFFSETFROM:+0100
TZOFFSETTO:+0200
TZNAME:CEST
DTSTART:20210328T010000
END:DAYLIGHT
BEGIN:STANDARD
TZOFFSETFROM:+0200
TZOFFSETTO:+0100
TZNAME:CET
DTSTART:20211031T010000
END:STANDARD
BEGIN:DAYLIGHT
TZOFFSETFROM:+0100
TZOFFSETTO:+0200
TZNAME:CEST
DTSTART:20220327T010000
END:DAYLIGHT
BEGIN:STANDARD
TZOFFSETFROM:+0200
TZOFFSETTO:+0100
TZNAME:CET
DTSTART:20221030T010000
END:STANDARD
END:VTIMEZONE
BEGIN:VEVENT
DTSTART;TZID=Europe/Stockholm:20210530T090000
DTEND;TZID=Europe/Stockholm:20210530T143000
DTSTAMP:20260424T134936
CREATED:20210409T135102Z
LAST-MODIFIED:20210527T043237Z
UID:10000969-1622365200-1622385000@swetechockey.com
SUMMARY:XFIT OFFSEASON 2
DESCRIPTION:[vc_row column_spacing=”60″][vc_column width=”2/3″][vc_column_text css=”.vc_custom_1621592109516{margin-bottom: 60px !important;}”]OFFSEASON XFITCAMP är ett beprövat koncept med fyscoach Dagge. Vi har hjälpt spelare i sin karriär som idag har en elitkarriär som Simon Edvinsson/SHL\, John Dahlström/SHL\, Linus Sjölin/SHL m.m. \nVi bygger HOCKEYATLETER genom att bygga upp elasticitet och vävnadstolerans för framtida ishockeyns kravbild. Du kommer uppleva fysträningen rolig och unik som du inte gjort tidigare. Därför är denna försäsong upplägget optimalt för dina framtida prestationer. \n  \nXFIT står för ett helhets tänkande för att prestera maximalt. Med kunskap av NUTRITION – MOBILITET – FYSTRÄNING – VILA = MAX RESULTAT.\nCampen är på våran anläggning och med  kunniga coacher från SWETEC Webox. Anläggningen är perfekt för träning och hemma träningen sköts via en app. Missa inte denna möjligheten. \nCamp 2: Maj 30\, Camp 3: Juni 27\, Camp 4: Juli 25\, Camp 5: Augusti 2 \nVälkomna till en ”riktig” försäsong…..[/vc_column_text][/vc_column][vc_column width=”1/3″][vc_video link=”https://youtu.be/5Bxr6n_NCB0″][/vc_column][vc_column][/vc_column][/vc_row][vc_row][vc_column][vc_tta_tabs style=”outline” shape=”round” spacing=”10″ gap=”20″ active_section=”1″ no_fill_content_area=”true”][vc_tta_section title=”Fakta” tab_id=”1610186748077-dc34c960-76c7″][vc_column_text]Grupp: 8 personer (minst antalet 4 st)\nÅlder: Födda 2010 och äldre.\nTid: kl. 09.00 – 14.30 vid varje tillfälle. \nPRIS: 1695 SEK  per/tillfälle  \nOBS! Ingår i MENTORSKAPET. (Vi tar bort betalningen efter bokningen) \nIngår: \n\nLUNCH/FRUKT\, maten är hemma gjord och skall fylla kostcirkeln.\nTE3 SCREENING av kroppen från fötter till bröstrygg.\nXFIT FYSTESTER\, status bedömning för programmering.\nONLINE TRÄNING  via XPS – mobil appen.\n\n[/vc_column_text][/vc_tta_section][vc_tta_section title=”Upplägg” tab_id=”1610186748120-0d25c2e3-697b”][vc_column_text]SÖNDAGAR I SWETEC WEBOX \n09.00 samling Swetec Webox\, Estridsväg 7\, 29165 Kristianstad\n09.10 Genomgång\n09.30 – 11.30 Fystester och mätning\n11.30 – 12.00 Genomgång\n12.00 – 12.30 Lunch\n12.30 – 13.00 Teori kost/träning\n13.00 – 13.45 Fysträning hockey\n14.00 Avslutning \nObs! Detta är prel. tider. Kan ändras vid respektive tillfälle[/vc_column_text][/vc_tta_section][vc_tta_section title=”Ledare” tab_id=”1610186748168-0af2ee06-b9d8″][vc_column_text]Dag Wenström/Fyscoach\nÖver 20 år erfarenhet inom träning\, tränar och tävlar själv inom Crossfit. \nMed min evidens baserad kunskaper inom anatomi\, rörelselära och fysisk träning så vet jag hur övningarna påverkar dig till nästa nivå. \nKontakt: dagge@swetechockey.com \nChristel Nilsson/Fyscoach\nCoach på SWETEC\, tränar och tävlar själv inom Crossfit. \nKontakt: info@swetechockey.com[/vc_column_text][/vc_tta_section][vc_tta_section title=”Bokningsregler” tab_id=”1610186748216-26c667d8-2c9c”]\n	\n		\n			Bokningen är bindande och skall betalas direkt via PAYPAL. \nFör Privat (1 – 2 tim) gäller:\n\nVid avbokning (3) dygn innan campstart behålls hela avgiften.\n\nFör 1 – 2 dagarscamper gäller:\n\nVid avbokning 5 dygn innan campstart behålls hela avgiften.\n\nFör Sommar Challenge gäller:\n\nÅterbud fram till 30 april förbehåller vi oss som arrangör rätten att behålla 900 SEK för admin.kostnader\nAvbokning från den 1 april till 30 juni återbetalas halva avgiften mot uppvisning av läkarintyg som styrker oförmåga att deltaga.\n- Inget läkarintyg\, ingen återbetalas av inbetald avgift.\nEfter 1 juli behålls hela avgiften\, även vid evt. skada/sjukdom under campen\, ingen återbetalning.\n\n\n		\n	\n[/vc_tta_section][vc_tta_section title=”Beställ din tröja!” tab_id=”1610186748271-e58bb6a2-0c05″][vc_column_text]\n	\n\n\n			Välj alternativ	\n		Den här produkten har flera varianter. De olika alternativen kan väljas på produktsidan	\n\n	BE THE BEST\n	229.00kr\n\n\n	\n	REA\n			Välj alternativ	\n		Den här produkten har flera varianter. De olika alternativen kan väljas på produktsidan	\n\n	CCM Dryland Kit NAVY\n	199.00kr\n\n\n	\n	REA\n			Välj alternativ	\n		Den här produkten har flera varianter. De olika alternativen kan väljas på produktsidan	\n\n	CCM Dryland Kit RÖD\n	199.00kr\n\n\n	\n	REA\n			Välj alternativ	\n		Den här produkten har flera varianter. De olika alternativen kan väljas på produktsidan	\n\n	CCM Dryland Kit SVART\n	199.00kr\n\n\n			Välj alternativ	\n		Den här produkten har flera varianter. De olika alternativen kan väljas på produktsidan	\n\n	CCM T-SHIRT (R) SKATE & SKILLS\n	229.00kr\n\n\n			Välj alternativ	\n		Den här produkten har flera varianter. De olika alternativen kan väljas på produktsidan	\n\n	CCM T-shirt (S) Skate & Skills\n	229.00kr\n\n\n			Välj alternativ	\n		Den här produkten har flera varianter. De olika alternativen kan väljas på produktsidan	\n\n	CCM T-shirt Summarcamp\n	249.00kr\n\n\n			Välj alternativ	\n		Den här produkten har flera varianter. De olika alternativen kan väljas på produktsidan	\n\n	EAT\, SLEEP HOCKEY\n	229.00kr\n\n\n			Välj alternativ	\n		Den här produkten har flera varianter. De olika alternativen kan väljas på produktsidan	\n\n	EAT\, SLEEP HOCKEY – HOODIE\n	349.00kr\n\n\n	\n	REA\n			Välj alternativ	\n		Den här produkten har flera varianter. De olika alternativen kan väljas på produktsidan	\n\n	HOCKEYBOXEN\n	459.00kr Det ursprungliga priset var: 459.00kr.299.00krDet nuvarande priset är: 299.00kr.\n\n\n			Välj alternativ	\n		Den här produkten har flera varianter. De olika alternativen kan väljas på produktsidan	\n\n	Keps CCM Team Flexfit\n	229.00kr\n\n\n			Lägg till i varukorg	\n			\n\n	Keps CCM Team Snapback\n	229.00kr\n\n\n			Lägg till i varukorg	\n			\n\n	Mössa CCM Team Coffed\n	189.00kr\n\n\n			Lägg till i varukorg	\n			\n\n	Mössa CCM Team Pom Knit\n	189.00kr\n\n\n			Välj alternativ	\n		Den här produkten har flera varianter. De olika alternativen kan väljas på produktsidan	\n\n	SUMMERCAMP 25 – HOODIE\n	329.00kr\n\n\n			Lägg till i varukorg	\n			\n\n	Swetec Hockeyblock\n	129.00kr\n\n\n			Lägg till i varukorg	\n			\n\n	SWETEC HOCKEYBOXEN\n	495.00kr\n\n\n			Välj alternativ	\n		Den här produkten har flera varianter. De olika alternativen kan väljas på produktsidan	\n\n	T-SHIRT Summer Challenge\n	129.00kr\n\n\n			Välj alternativ	\n		Den här produkten har flera varianter. De olika alternativen kan väljas på produktsidan	\n\n	T-SHIRT Summercamp\n	129.00kr\n\n\n[/vc_column_text][/vc_tta_section][vc_tta_section title=”Mentorskap spelare” tab_id=”1610186748320-adc7a54f-9565″][vc_column_text css=”.vc_custom_1614512134570{margin-bottom: 60px !important;}”]MENTORSKAP SPELARE \nIngår i ert avtal.\n[/vc_column_text][/vc_tta_section][/vc_tta_tabs][/vc_column][/vc_row]
URL:https://swetechockey.com/startsida/event/xfit-offseason-maj/
LOCATION:Swetec Webox\, Estridsväg 7\, Kristianstad\, Skåne\, 29165\, Sverige
CATEGORIES:Camper
ORGANIZER;CN="Dag Wenstr%C3%B6m":MAILTO:info@swetechockey.com
GEO:56.0081478;14.1050959
X-APPLE-STRUCTURED-LOCATION;VALUE=URI;X-ADDRESS=Swetec Webox Estridsväg 7 Kristianstad Skåne 29165 Sverige;X-APPLE-RADIUS=500;X-TITLE=Estridsväg 7:geo:14.1050959,56.0081478
END:VEVENT
END:VCALENDAR