BEGIN:VCALENDAR
VERSION:2.0
PRODID:-//Swetechockey - ECPv6.15.20//NONSGML v1.0//EN
CALSCALE:GREGORIAN
METHOD:PUBLISH
X-ORIGINAL-URL:https://swetechockey.com/startsida
X-WR-CALDESC:Händelser för Swetechockey
REFRESH-INTERVAL;VALUE=DURATION:PT1H
X-Robots-Tag:noindex
X-PUBLISHED-TTL:PT1H
BEGIN:VTIMEZONE
TZID:Europe/Stockholm
BEGIN:DAYLIGHT
TZOFFSETFROM:+0100
TZOFFSETTO:+0200
TZNAME:CEST
DTSTART:20190331T010000
END:DAYLIGHT
BEGIN:STANDARD
TZOFFSETFROM:+0200
TZOFFSETTO:+0100
TZNAME:CET
DTSTART:20191027T010000
END:STANDARD
BEGIN:DAYLIGHT
TZOFFSETFROM:+0100
TZOFFSETTO:+0200
TZNAME:CEST
DTSTART:20200329T010000
END:DAYLIGHT
BEGIN:STANDARD
TZOFFSETFROM:+0200
TZOFFSETTO:+0100
TZNAME:CET
DTSTART:20201025T010000
END:STANDARD
BEGIN:DAYLIGHT
TZOFFSETFROM:+0100
TZOFFSETTO:+0200
TZNAME:CEST
DTSTART:20210328T010000
END:DAYLIGHT
BEGIN:STANDARD
TZOFFSETFROM:+0200
TZOFFSETTO:+0100
TZNAME:CET
DTSTART:20211031T010000
END:STANDARD
END:VTIMEZONE
BEGIN:VEVENT
DTSTART;TZID=Europe/Stockholm:20201209T080000
DTEND;TZID=Europe/Stockholm:20201209T140000
DTSTAMP:20260424T224133
CREATED:20201019T074957Z
LAST-MODIFIED:20201223T152922Z
UID:10000954-1607500800-1607522400@swetechockey.com
SUMMARY:Nyårs Skate & Skills
DESCRIPTION:[vc_row column_spacing=”60″][vc_column width=”2/3″][vc_single_image image=”12569″ alignment=”center” css=”.vc_custom_1603093057370{margin-bottom: 30px !important;}”][vc_empty_space height=”30px”][vc_column_text]\n1 DAGS CAMP MED TEMA SKATE & SKILLS\nPå Swetec camper får du en lärdom med nyckelorden\, kontroll och självförtroende. Vi skall utveckla dina verktyg för att du skall använda dom i nästa match. Att öka kunskaper (Skills) så skapar du möjligheter att fatta bättre beslut och skapar mer tid på isen. Vårt skidsko program är i världsklass där du får en förståelse i glidet\, överkroppen och balansen påverkan i kraft utvecklingen. \nSedan bygger vi ihop det med tyngdförflyttningar och puckkontroll i vårt agerande i spelet\, camperna är med komplexa övningar där tanken är matchlika rörelser i fart. Vi utmanar dig i övningarna där vi ökar farten och minskar ytorna samt vi har en rolig camp. \nÅlder: Födda 2009 och äldre\nPlats: Österås Ishall/Hässleholm\nTid: Söndag 09.00-14.00\nPris: 1095:- ink. lunchpaket. \nCOVID-19\nVi tar detta på största allvar\, därför har vi det säkert och tryggt för spelarna\, få elever\, max 5 i varje omklädningsrum och 3 m mellan\, handsprit\, testade ledare\, individuella övningar med mycket avstånd på isen\, dricka vatten i olika omgångar\, ishallen stängd och vi är endast där m.m blir inte bättre än så här. Säkrare än i klubb miljö.[/vc_column_text][/vc_column][vc_column width=”1/3″][vc_toggle title=”Fakta” style=”simple” color=”white” el_id=”1506503555328-96bdc02a-01bd” css=”.vc_custom_1603093791940{margin-bottom: 10px !important;}”]\n\nUtbildning:  4 timmar per/spelare – IS\n3 ispass om dagen\n– Pass 1\, Skating – grunder/balanse/kraft\n– Pass 2\, Skate & Skills – behandla pucken\, pass\, brytningar\n– Pass 3\, Skott – Rörelse med puck/utan puck\nPlats: Österås Ishall/Hövdingsgatan 16\nNär: Söndag 27 December 2020\nMötestid: 27 december 07:45-08.00\nTid: Startid 09.00\, slutar 14.00\nKost: Mellis (frukt).\nPris: 1195 SEK\, Dagläger.\n\nOBS! Med reservation för ändringar.[/vc_toggle][vc_toggle title=”Upplägg” style=”simple” color=”white” el_id=”1506503602233-049dd604-bbde” css=”.vc_custom_1603094379036{margin-bottom: 10px !important;}”]GRUPPER \nEn grupper med 12 spelare. \n\n2009 och äldre\, 12 spelare\n\nSCHEMA \n07.45 Möte i omkl.rum\n07.45-08.00 Genomgång\n09.00-10.15  Ispass 1\n10.15-10.30 Frukt/spolning\n10.30-11.45 Ispass 2\n11.45-12.15 Mellis/spolning\n12.15-13.30 Ispass 3\n14.00 Avslutning \nInformation inför CAMPEN och schema\nMer information om CAMP program\, gruppindelningar\, kom ihåg\, tränare\, instruktörer kommer en vecka innan på hemsidan på NYHETER.[/vc_toggle][vc_toggle title=”Ledare” style=”simple” color=”white” el_id=”1506503769107-4a74100c-7062″ css=”.vc_custom_1603092840810{margin-bottom: 10px !important;}”]Dag Wenström.\nÖver 20 år erfarenhet så vet jag vad som krävs för att bli en riktigt duktig hockeyspelare. \nMed min evidens baserad kunskaper inom anatomi\, rörelselära och fysisk träning så vet jag hur övningarna påverkar dig till nästa nivå. \nKontakt: dagge@swetechockey.com[/vc_toggle]Bokningsregler [vc_empty_space height=”12px”][vc_single_image image=”5152″][vc_toggle title=”Beställ din tröja här!” style=”simple” color=”white” el_id=”1507491384196-b7b1d363-4c27″ css=”.vc_custom_1507491526432{margin-bottom: 10px !important;}”]\n	\n\n\n			Välj alternativ	\n		Den här produkten har flera varianter. De olika alternativen kan väljas på produktsidan	\n\n	BE THE BEST\n	229.00kr\n\n\n	\n	REA\n			Välj alternativ	\n		Den här produkten har flera varianter. De olika alternativen kan väljas på produktsidan	\n\n	CCM Dryland Kit NAVY\n	199.00kr\n\n\n	\n	REA\n			Välj alternativ	\n		Den här produkten har flera varianter. De olika alternativen kan väljas på produktsidan	\n\n	CCM Dryland Kit RÖD\n	199.00kr\n\n\n	\n	REA\n			Välj alternativ	\n		Den här produkten har flera varianter. De olika alternativen kan väljas på produktsidan	\n\n	CCM Dryland Kit SVART\n	199.00kr\n\n\n			Välj alternativ	\n		Den här produkten har flera varianter. De olika alternativen kan väljas på produktsidan	\n\n	CCM T-SHIRT (R) SKATE & SKILLS\n	229.00kr\n\n\n			Välj alternativ	\n		Den här produkten har flera varianter. De olika alternativen kan väljas på produktsidan	\n\n	CCM T-shirt (S) Skate & Skills\n	229.00kr\n\n\n			Välj alternativ	\n		Den här produkten har flera varianter. De olika alternativen kan väljas på produktsidan	\n\n	CCM T-shirt Summarcamp\n	249.00kr\n\n\n			Välj alternativ	\n		Den här produkten har flera varianter. De olika alternativen kan väljas på produktsidan	\n\n	EAT\, SLEEP HOCKEY\n	229.00kr\n\n\n			Välj alternativ	\n		Den här produkten har flera varianter. De olika alternativen kan väljas på produktsidan	\n\n	EAT\, SLEEP HOCKEY – HOODIE\n	349.00kr\n\n\n	\n	REA\n			Välj alternativ	\n		Den här produkten har flera varianter. De olika alternativen kan väljas på produktsidan	\n\n	HOCKEYBOXEN\n	459.00kr Det ursprungliga priset var: 459.00kr.299.00krDet nuvarande priset är: 299.00kr.\n\n\n			Välj alternativ	\n		Den här produkten har flera varianter. De olika alternativen kan väljas på produktsidan	\n\n	Keps CCM Team Flexfit\n	229.00kr\n\n\n			Lägg till i varukorg	\n			\n\n	Keps CCM Team Snapback\n	229.00kr\n\n\n			Lägg till i varukorg	\n			\n\n	Mössa CCM Team Coffed\n	189.00kr\n\n\n			Lägg till i varukorg	\n			\n\n	Mössa CCM Team Pom Knit\n	189.00kr\n\n\n			Välj alternativ	\n		Den här produkten har flera varianter. De olika alternativen kan väljas på produktsidan	\n\n	SUMMERCAMP 25 – HOODIE\n	329.00kr\n\n\n			Lägg till i varukorg	\n			\n\n	Swetec Hockeyblock\n	129.00kr\n\n\n			Lägg till i varukorg	\n			\n\n	SWETEC HOCKEYBOXEN\n	495.00kr\n\n\n			Välj alternativ	\n		Den här produkten har flera varianter. De olika alternativen kan väljas på produktsidan	\n\n	T-SHIRT Summer Challenge\n	129.00kr\n\n\n			Välj alternativ	\n		Den här produkten har flera varianter. De olika alternativen kan väljas på produktsidan	\n\n	T-SHIRT Summercamp\n	129.00kr\n\n\n[/vc_toggle][vc_empty_space height=”30px”][vc_column_text font_family=”Exo 2″ color=”#c1c1c1″ font_size=”11px” line_height=”11px” font_weight=”600″ css=”.vc_custom_1506505207629{margin-top: 25px !important;}”]ANNONS:[/vc_column_text][vc_single_image image=”4113″ alignment=”center” onclick=”custom_link” img_link_target=”_blank” css=”.vc_custom_1506505189139{margin-top: 4px !important;margin-bottom: 30px !important;}” link=”http://www.ccmhockey.com”][/vc_column][/vc_row]
URL:https://swetechockey.com/startsida/event/nyars-skate-skills/
LOCATION:Österås ishall\, Hässleholm\, Hövdingsgatan 16\, Österås Ishall\, Hässleholm\, Sverige
CATEGORIES:Camper
ORGANIZER;CN="Dag Wenstr%C3%B6m":MAILTO:info@swetechockey.com
GEO:56.1466112;13.7803905
X-APPLE-STRUCTURED-LOCATION;VALUE=URI;X-ADDRESS=Österås ishall Hässleholm Hövdingsgatan 16 Österås Ishall Hässleholm Sverige;X-APPLE-RADIUS=500;X-TITLE=Hövdingsgatan 16:geo:13.7803905,56.1466112
END:VEVENT
BEGIN:VEVENT
DTSTART;TZID=Europe/Stockholm:20201213T080000
DTEND;TZID=Europe/Stockholm:20201213T140000
DTSTAMP:20260424T224133
CREATED:20201019T073420Z
LAST-MODIFIED:20201114T193453Z
UID:10000953-1607846400-1607868000@swetechockey.com
SUMMARY:Lucia Skate & Skills
DESCRIPTION:[vc_row column_spacing=”60″][vc_column width=”2/3″][vc_single_image image=”12569″ alignment=”center” css=”.vc_custom_1603093057370{margin-bottom: 30px !important;}”][vc_empty_space height=”30px”][vc_column_text]\n1 DAGS CAMP MED TEMA SKATE & SKILLS\nPå Swetec camper får du en lärdom med nyckelorden\, kontroll och självförtroende. Vi skall utveckla dina verktyg för att du skall använda dom i nästa match. Att öka kunskaper (Skills) så skapar du möjligheter att fatta bättre beslut och skapar mer tid på isen. Vårt skidsko program är i världsklass där du får en förståelse i glidet\, överkroppen och balansen påverkan i kraft utvecklingen. \nSedan bygger vi ihop det med tyngdförflyttningar och puckkontroll i vårt agerande i spelet\, camperna är med komplexa övningar där tanken är matchlika rörelser i fart. Vi utmanar dig i övningarna där vi ökar farten och minskar ytorna samt vi har en rolig camp. \nÅlder: Födda 2009 och äldre\nPlats: Österås Ishall/Hässleholm\nTid: Söndag 09.00-14.00\nPris: 1095:- ink. lunchpaket. \nCOVID-19\nVi tar detta på största allvar\, därför har vi det säkert och tryggt för spelarna\, få elever\, max 5 i varje omklädningsrum och 3 m mellan\, handsprit\, testade ledare\, individuella övningar med mycket avstånd på isen\, dricka vatten i olika omgångar\, ishallen stängd och vi är endast där m.m blir inte bättre än så här. Säkrare än i klubb miljö.[/vc_column_text][/vc_column][vc_column width=”1/3″][vc_toggle title=”Fakta” style=”simple” color=”white” el_id=”1506503555328-96bdc02a-01bd” css=”.vc_custom_1603092744574{margin-bottom: 10px !important;}”]\n\nUtbildning:  4 timmar per/spelare – IS\n3 ispass om dagen\n– Pass 1\, Skating – grunder/balanse/kraft\n– Pass 2\, Skate & Skills – behandla pucken\, pass\, brytningar\n– Pass 3\, Skott – Rörelse med puck/utan puck\nPlats: Österås Ishall/Hövdingsgatan 16\nNär: Söndag 13 December 2020\nMötestid: 13 december 07:45-08.00\nTid: Startid 09.00\, slutar 14.00\nKost: Mellis (frukt).\nPris: 1095 SEK\, Dagläger.\n\nOBS! Med reservation för ändringar.[/vc_toggle][vc_toggle title=”Upplägg” style=”simple” color=”white” el_id=”1506503602233-049dd604-bbde” css=”.vc_custom_1603094417725{margin-bottom: 10px !important;}”]GRUPPER \nEn grupper med 12 spelare. \n\n2009 och äldre\, 12 spelare\n\nSCHEMA \n07.45 Möte i omkl.rum\n07.45-08.00 Genomgång\n09.00-10.15  Ispass 1\n10.15-10.30 Frukt/spolning\n10.30-11.45 Ispass 2\n11.45-12.15 Mellis/spolning\n12.15-13.30 Ispass 3\n14.00 Avslutning \nInformation inför CAMPEN och schema\nMer information om CAMP program\, gruppindelningar\, kom ihåg\, tränare\, instruktörer kommer en vecka innan på hemsidan på NYHETER.[/vc_toggle][vc_toggle title=”Ledare” style=”simple” color=”white” el_id=”1506503769107-4a74100c-7062″ css=”.vc_custom_1603092840810{margin-bottom: 10px !important;}”]Dag Wenström.\nÖver 20 år erfarenhet så vet jag vad som krävs för att bli en riktigt duktig hockeyspelare. \nMed min evidens baserad kunskaper inom anatomi\, rörelselära och fysisk träning så vet jag hur övningarna påverkar dig till nästa nivå. \nKontakt: dagge@swetechockey.com[/vc_toggle]Bokningsregler [vc_empty_space height=”12px”][vc_single_image image=”5152″][vc_toggle title=”Beställ din tröja här!” style=”simple” color=”white” el_id=”1507491384196-b7b1d363-4c27″ css=”.vc_custom_1507491526432{margin-bottom: 10px !important;}”]\n	\n\n\n			Välj alternativ	\n		Den här produkten har flera varianter. De olika alternativen kan väljas på produktsidan	\n\n	BE THE BEST\n	229.00kr\n\n\n	\n	REA\n			Välj alternativ	\n		Den här produkten har flera varianter. De olika alternativen kan väljas på produktsidan	\n\n	CCM Dryland Kit NAVY\n	199.00kr\n\n\n	\n	REA\n			Välj alternativ	\n		Den här produkten har flera varianter. De olika alternativen kan väljas på produktsidan	\n\n	CCM Dryland Kit RÖD\n	199.00kr\n\n\n	\n	REA\n			Välj alternativ	\n		Den här produkten har flera varianter. De olika alternativen kan väljas på produktsidan	\n\n	CCM Dryland Kit SVART\n	199.00kr\n\n\n			Välj alternativ	\n		Den här produkten har flera varianter. De olika alternativen kan väljas på produktsidan	\n\n	CCM T-SHIRT (R) SKATE & SKILLS\n	229.00kr\n\n\n			Välj alternativ	\n		Den här produkten har flera varianter. De olika alternativen kan väljas på produktsidan	\n\n	CCM T-shirt (S) Skate & Skills\n	229.00kr\n\n\n			Välj alternativ	\n		Den här produkten har flera varianter. De olika alternativen kan väljas på produktsidan	\n\n	CCM T-shirt Summarcamp\n	249.00kr\n\n\n			Välj alternativ	\n		Den här produkten har flera varianter. De olika alternativen kan väljas på produktsidan	\n\n	EAT\, SLEEP HOCKEY\n	229.00kr\n\n\n			Välj alternativ	\n		Den här produkten har flera varianter. De olika alternativen kan väljas på produktsidan	\n\n	EAT\, SLEEP HOCKEY – HOODIE\n	349.00kr\n\n\n	\n	REA\n			Välj alternativ	\n		Den här produkten har flera varianter. De olika alternativen kan väljas på produktsidan	\n\n	HOCKEYBOXEN\n	459.00kr Det ursprungliga priset var: 459.00kr.299.00krDet nuvarande priset är: 299.00kr.\n\n\n			Välj alternativ	\n		Den här produkten har flera varianter. De olika alternativen kan väljas på produktsidan	\n\n	Keps CCM Team Flexfit\n	229.00kr\n\n\n			Lägg till i varukorg	\n			\n\n	Keps CCM Team Snapback\n	229.00kr\n\n\n			Lägg till i varukorg	\n			\n\n	Mössa CCM Team Coffed\n	189.00kr\n\n\n			Lägg till i varukorg	\n			\n\n	Mössa CCM Team Pom Knit\n	189.00kr\n\n\n			Välj alternativ	\n		Den här produkten har flera varianter. De olika alternativen kan väljas på produktsidan	\n\n	SUMMERCAMP 25 – HOODIE\n	329.00kr\n\n\n			Lägg till i varukorg	\n			\n\n	Swetec Hockeyblock\n	129.00kr\n\n\n			Lägg till i varukorg	\n			\n\n	SWETEC HOCKEYBOXEN\n	495.00kr\n\n\n			Välj alternativ	\n		Den här produkten har flera varianter. De olika alternativen kan väljas på produktsidan	\n\n	T-SHIRT Summer Challenge\n	129.00kr\n\n\n			Välj alternativ	\n		Den här produkten har flera varianter. De olika alternativen kan väljas på produktsidan	\n\n	T-SHIRT Summercamp\n	129.00kr\n\n\n[/vc_toggle][vc_empty_space height=”30px”][vc_column_text font_family=”Exo 2″ color=”#c1c1c1″ font_size=”11px” line_height=”11px” font_weight=”600″ css=”.vc_custom_1506505207629{margin-top: 25px !important;}”]ANNONS:[/vc_column_text][vc_single_image image=”4113″ alignment=”center” onclick=”custom_link” img_link_target=”_blank” css=”.vc_custom_1506505189139{margin-top: 4px !important;margin-bottom: 30px !important;}” link=”http://www.ccmhockey.com”][/vc_column][/vc_row]
URL:https://swetechockey.com/startsida/event/lucia-skate-skills/
LOCATION:Österås ishall\, Hässleholm\, Hövdingsgatan 16\, Österås Ishall\, Hässleholm\, Sverige
CATEGORIES:Camper
ORGANIZER;CN="Dag Wenstr%C3%B6m":MAILTO:info@swetechockey.com
GEO:56.1466112;13.7803905
X-APPLE-STRUCTURED-LOCATION;VALUE=URI;X-ADDRESS=Österås ishall Hässleholm Hövdingsgatan 16 Österås Ishall Hässleholm Sverige;X-APPLE-RADIUS=500;X-TITLE=Hövdingsgatan 16:geo:13.7803905,56.1466112
END:VEVENT
END:VCALENDAR