BEGIN:VCALENDAR
VERSION:2.0
PRODID:-//Swetechockey - ECPv6.15.20//NONSGML v1.0//EN
CALSCALE:GREGORIAN
METHOD:PUBLISH
X-ORIGINAL-URL:https://swetechockey.com/startsida
X-WR-CALDESC:Händelser för Swetechockey
REFRESH-INTERVAL;VALUE=DURATION:PT1H
X-Robots-Tag:noindex
X-PUBLISHED-TTL:PT1H
BEGIN:VTIMEZONE
TZID:Europe/Stockholm
BEGIN:DAYLIGHT
TZOFFSETFROM:+0100
TZOFFSETTO:+0200
TZNAME:CEST
DTSTART:20190331T010000
END:DAYLIGHT
BEGIN:STANDARD
TZOFFSETFROM:+0200
TZOFFSETTO:+0100
TZNAME:CET
DTSTART:20191027T010000
END:STANDARD
BEGIN:DAYLIGHT
TZOFFSETFROM:+0100
TZOFFSETTO:+0200
TZNAME:CEST
DTSTART:20200329T010000
END:DAYLIGHT
BEGIN:STANDARD
TZOFFSETFROM:+0200
TZOFFSETTO:+0100
TZNAME:CET
DTSTART:20201025T010000
END:STANDARD
BEGIN:DAYLIGHT
TZOFFSETFROM:+0100
TZOFFSETTO:+0200
TZNAME:CEST
DTSTART:20210328T010000
END:DAYLIGHT
BEGIN:STANDARD
TZOFFSETFROM:+0200
TZOFFSETTO:+0100
TZNAME:CET
DTSTART:20211031T010000
END:STANDARD
END:VTIMEZONE
BEGIN:VEVENT
DTSTART;TZID=Europe/Stockholm:20201029T080000
DTEND;TZID=Europe/Stockholm:20201030T133000
DTSTAMP:20260425T020219
CREATED:20200824T114241Z
LAST-MODIFIED:20201027T084303Z
UID:10000950-1603958400-1604064600@swetechockey.com
SUMMARY:HÖSTLOVS SKILLS&SKATE
DESCRIPTION:[vc_row column_spacing=”60″][vc_column width=”2/3″][vc_single_image image=”8208″ alignment=”center” css=”.vc_custom_1598267856760{margin-bottom: 30px !important;}”][vc_empty_space height=”30px”][vc_column_text]\nSWETEC Höstlovscamp i Hässleholm!\nSom vanligt kör vi vår traditionella höstlovscamp. Två dagar 29-30 oktober i Österås ishall/Hässleholm. Vi kommer att jobba med att utveckla din skridsko- och klubba/puckteknik och att få in intensiteten i momenten. Skills i världsklass! \nHos SWETEC är alla välkomna och vårt unika koncept gör att kan vara med oberoende kunskap. Från pass ett till sista passet så har vi en röd tråd i det vi gör. Individuell utveckling är för oss viktigt och det innebär att du som spelare är viktig för oss. Vi jobbar med motorisk inlärning och med pedagogiska redskap så du kan använda tekniken direkt i klubbhockey. \nTre ispass om dagen kommer vi att leverera. Ni får naturligtvis frukt och lunch (sallad). \nPriset för denna camp? 2.100 kr. Som hittat. \nSom vanligt är antalet platser begränsade och därför betalas hela summan direkt vid anmälan. Avgiften betalas inom 10 dagar. Om inte betalning inkommit släpps platsen fri. \nNi är härligt välkomna!\nDagge ….[/vc_column_text][/vc_column][vc_column width=”1/3″][vc_toggle title=”Fakta” style=”simple” color=”white” el_id=”1506503555328-96bdc02a-01bd” css=”.vc_custom_1598268863488{margin-bottom: 10px !important;}”]\n\nUtbildning:  10 timmar i 2 dagar\n3 ispass om dagen\n– Pass 1 (90 min)\, Skating – grunder/balanse/kraft\n– Pass 2 (75 min)\, Skate & Skills – behandla pucken\, pass\, brytningar\n– Pass 3 (90 min)\, Skott – Rörelse med puck/utan puck\nPlats: Österås Ishall/Hövdingsgatan 16\nNär: Torsdag 29 okt – 30 okt 2020\nMötestid: 29 okt 06:45-07.00\nTid: Startid 08.00 på is\, slutar 13.30\nKost: Mellis (frukt) och lunch (sallad)\nPris: 2100 SEK\, Dagläger.\n\nOBS! Med reservation för ändringar.[/vc_toggle][vc_toggle title=”Upplägg” style=”simple” color=”white” el_id=”1506503602233-049dd604-bbde” css=”.vc_custom_1603788178532{margin-bottom: 10px !important;}”]GRUPPER \nEn grupper med 12 spelare. \n\n2009 och äldre\, MAX 16 spelare\n\nSCHEMA\n07.30 – 07.45  Samling i omklädningsrum 3-4\n07.45 – 08.00  Genomgång/Uppvärmning (ta med hopprep)\n08.30 – 09.45  Ispass 1 – Skate\n09.45 – 10.00 Spolning/Mellis\n10.00 – 11.15 Ispass 2 – Skills\n11.15 – 11.45 Spolning/Mellis\n11.45 – 13.00 Ispass 3 Skills&Skate\n13.30              Avslutning \nInformation inför CAMPEN och schema\nMer information om CAMP program\, gruppindelningar\, kom ihåg\, tränare\, instruktörer kommer en vecka innan på hemsidan på NYHETER.[/vc_toggle][vc_toggle title=”Ledare” style=”simple” color=”white” el_id=”1506503769107-4a74100c-7062″ css=”.vc_custom_1598269415888{margin-bottom: 10px !important;}”]Dag Wenström.\nÖver 20 år erfarenhet så vet jag vad som krävs för att bli en riktigt duktig hockeyspelare. \nMed min evidens baserad kunskaper inom anatomi\, rörelselära och fysisk träning så vet jag hur övningarna påverkar dig till nästa nivå. \nKontakt: dagge@swetechockey.com \nMikael Lundblad.\nSkicklig skills tränare och varit verksam i Swetec i 3 år och arbets plats Sverige och Norge. \nKontakt: info@swetechockey.com[/vc_toggle]Bokningsregler [vc_empty_space height=”12px”][vc_single_image image=”5152″][vc_toggle title=”Beställ din tröja här!” style=”simple” color=”white” el_id=”1507491384196-b7b1d363-4c27″ css=”.vc_custom_1507491526432{margin-bottom: 10px !important;}”]\n	\n\n\n			Välj alternativ	\n		Den här produkten har flera varianter. De olika alternativen kan väljas på produktsidan	\n\n	BE THE BEST\n	229.00kr\n\n\n	\n	REA\n			Välj alternativ	\n		Den här produkten har flera varianter. De olika alternativen kan väljas på produktsidan	\n\n	CCM Dryland Kit NAVY\n	199.00kr\n\n\n	\n	REA\n			Välj alternativ	\n		Den här produkten har flera varianter. De olika alternativen kan väljas på produktsidan	\n\n	CCM Dryland Kit RÖD\n	199.00kr\n\n\n	\n	REA\n			Välj alternativ	\n		Den här produkten har flera varianter. De olika alternativen kan väljas på produktsidan	\n\n	CCM Dryland Kit SVART\n	199.00kr\n\n\n			Välj alternativ	\n		Den här produkten har flera varianter. De olika alternativen kan väljas på produktsidan	\n\n	CCM T-SHIRT (R) SKATE & SKILLS\n	229.00kr\n\n\n			Välj alternativ	\n		Den här produkten har flera varianter. De olika alternativen kan väljas på produktsidan	\n\n	CCM T-shirt (S) Skate & Skills\n	229.00kr\n\n\n			Välj alternativ	\n		Den här produkten har flera varianter. De olika alternativen kan väljas på produktsidan	\n\n	CCM T-shirt Summarcamp\n	249.00kr\n\n\n			Välj alternativ	\n		Den här produkten har flera varianter. De olika alternativen kan väljas på produktsidan	\n\n	EAT\, SLEEP HOCKEY\n	229.00kr\n\n\n			Välj alternativ	\n		Den här produkten har flera varianter. De olika alternativen kan väljas på produktsidan	\n\n	EAT\, SLEEP HOCKEY – HOODIE\n	349.00kr\n\n\n	\n	REA\n			Välj alternativ	\n		Den här produkten har flera varianter. De olika alternativen kan väljas på produktsidan	\n\n	HOCKEYBOXEN\n	459.00kr Det ursprungliga priset var: 459.00kr.299.00krDet nuvarande priset är: 299.00kr.\n\n\n			Välj alternativ	\n		Den här produkten har flera varianter. De olika alternativen kan väljas på produktsidan	\n\n	Keps CCM Team Flexfit\n	229.00kr\n\n\n			Lägg till i varukorg	\n			\n\n	Keps CCM Team Snapback\n	229.00kr\n\n\n			Lägg till i varukorg	\n			\n\n	Mössa CCM Team Coffed\n	189.00kr\n\n\n			Lägg till i varukorg	\n			\n\n	Mössa CCM Team Pom Knit\n	189.00kr\n\n\n			Välj alternativ	\n		Den här produkten har flera varianter. De olika alternativen kan väljas på produktsidan	\n\n	SUMMERCAMP 25 – HOODIE\n	329.00kr\n\n\n			Lägg till i varukorg	\n			\n\n	Swetec Hockeyblock\n	129.00kr\n\n\n			Lägg till i varukorg	\n			\n\n	SWETEC HOCKEYBOXEN\n	495.00kr\n\n\n			Välj alternativ	\n		Den här produkten har flera varianter. De olika alternativen kan väljas på produktsidan	\n\n	T-SHIRT Summer Challenge\n	129.00kr\n\n\n			Välj alternativ	\n		Den här produkten har flera varianter. De olika alternativen kan väljas på produktsidan	\n\n	T-SHIRT Summercamp\n	129.00kr\n\n\n[/vc_toggle][vc_empty_space height=”30px”][vc_column_text font_family=”Exo 2″ color=”#c1c1c1″ font_size=”11px” line_height=”11px” font_weight=”600″ css=”.vc_custom_1506505207629{margin-top: 25px !important;}”]ANNONS:[/vc_column_text][vc_single_image image=”4113″ alignment=”center” onclick=”custom_link” img_link_target=”_blank” css=”.vc_custom_1506505189139{margin-top: 4px !important;margin-bottom: 30px !important;}” link=”http://www.ccmhockey.com”][/vc_column][/vc_row]
URL:https://swetechockey.com/startsida/event/hostlovs-skillsskate/
LOCATION:Österås ishall\, Hässleholm\, Hövdingsgatan 16\, Österås Ishall\, Hässleholm\, Sverige
CATEGORIES:Camper
ORGANIZER;CN="Dag Wenstr%C3%B6m":MAILTO:info@swetechockey.com
GEO:56.1466112;13.7803905
X-APPLE-STRUCTURED-LOCATION;VALUE=URI;X-ADDRESS=Österås ishall Hässleholm Hövdingsgatan 16 Österås Ishall Hässleholm Sverige;X-APPLE-RADIUS=500;X-TITLE=Hövdingsgatan 16:geo:13.7803905,56.1466112
END:VEVENT
END:VCALENDAR